Workbook

Sheet Rekapitulace stavby
A1: Export Komplet | BA1: 2.0 | BT1: False | BU1: False | BV1: {f4c89742-d62b-4901-b497-f0a99ba334de}
AR2: >> skryté sloupce << | BS2: 0,01 | BT2: 21
BS3: 0,01 | BT3: 12
D4: REKAPITULACE STAVBY | AS4: v --- níže se nacházejí doplnkové a pomocné údaje k sestavám --- v | BS4: 0,001
D5: Kód: | K5: 2019010-O-03 | BS5: 0,01
D6: Stavba: | K6: Dodatek č. 2 - SO 111_B_121_C_121_D | BS6: 0,01
D7: KSO: | AK7: CC-CZ: | BS7: 0,01
D8: Místo: | AK8: Datum: | AN8: 6. 5. 2026 | BS8: 0,01
BS9: 0,01
D10: Zadavatel: | AK10: IČ: | AN10: 00303046 | BS10: 0,01
E11: Obec Moravičany | AK11: DIČ: | AN11: CZ00303046 | BS11: 0,01
BS12: 0,01
D13: Zhotovitel: | AK13: IČ: | AN13: 06390358 | BS13: 0,01
E14: Cash trade s.r.o. | AK14: DIČ: | AN14: CZ06390358 | BS14: 0,01
BS15: False
D16: Projektant: | AK16: IČ: | AN16: 74276361 | BS16: False
E17: Atelis - Ateliér liniových staveb | AK17: DIČ: | AN17: CZ8152217546 | BS17: False
BS18: 0,01
D19: Zpracovatel: | AK19: IČ: | BS19: 0,01
AK20: DIČ: | BS20: True
D22: Poznámka:
E23: Soupis prací je sestaven s využitím Cenové soustavy ÚRS. Položky, které pochází z této cenové soustavy, jsou ve sloupci 'Cenová soustava' označeny popisem 'CS ÚRS' a úrovní příslušného kalendářního pololetí. Veškeré další informace vymezující popis a podmínky použití těchto položek z Cenové soustavy, které nejsou uvedeny přímo v soupisu prací, jsou neomezeně dálkově k dispozici na webu podminky.urs.cz.
D26: Cena bez DPH | AK26: =ROUND(AG94,2) -> 1282640.3
L28: Sazba daně | W28: Základ daně | AK28: Výše daně
D29: DPH | F29: základní | L29: 0.21 | W29: =ROUND(AZ94, 2) -> 1282640.3 | AK29: =ROUND(AV94, 2) -> 269354.46
F30: snížená | L30: 0.12 | W30: =ROUND(BA94, 2) -> 0 | AK30: =ROUND(AW94, 2) -> 0
F31: zákl. přenesená | L31: 0.21 | W31: =ROUND(BB94, 2) -> 0 | AK31: 0
F32: sníž. přenesená | L32: 0.12 | W32: =ROUND(BC94, 2) -> 0 | AK32: 0
F33: nulová | L33: 0 | W33: =ROUND(BD94, 2) -> 0 | AK33: 0
D35: Cena s DPH | T35: v | X35: CZK | AK35: =SUM(AK26:AK33) -> 1551994.7
D49: Projektant | AH49: Zpracovatel
D60: Datum a podpis: | V60: Razítko | AH60: Datum a podpis: | AM60: Razítko
D64: Objednavatel | AH64: Zhotovitel
D75: Datum a podpis: | V75: Razítko | AH75: Datum a podpis: | AM75: Razítko
C82: REKAPITULACE OBJEKTŮ STAVBY A SOUPISŮ PRACÍ
C84: Kód: | L84: =K5 -> 2019010-O-03
C85: Stavba: | L85: =K6 -> Dodatek č. 2 - SO 111_B_121_C_121_D
C87: Místo: | L87: =IF(K8="","",K8) | AI87: Datum: | AM87: =IF(AN8= "","",AN8) -> 6. 5. 2026
C89: Zadavatel: | L89: =IF(E11= "","",E11) -> Obec Moravičany | AI89: Projektant: | AM89: =IF(E17="","",E17) -> Atelis - Ateliér liniových staveb | AS89: Informatívní údaje z listů zakázek
C90: Zhotovitel: | L90: =IF(E14="","",E14) -> Cash trade s.r.o. | AI90: Zpracovatel: | AM90: =IF(E20="","",E20)
...

Sheet 0112 - Vícepráce - uznate...
L2: >> skryté sloupce << | AT2: {3408d0f7-56be-406c-be39-66d4afc9a285}
AT3: 2
D4: KRYCÍ LIST SOUPISU PRACÍ | M4: v --- níže se nacházejí doplnkové a pomocné údaje k sestavám --- v | AT4: False
D6: Stavba:
E7: ='Rekapitulace stavby'!K6 -> Dodatek č. 2 - SO 111_B_121_C_121_D
D8: Objekt:
E9: 0112 - Vícepráce - uznatelné náklady - SO 111.B Chodníky, nástupiště a vjezdy - náves pravá strana
D11: KSO: | I11: CC-CZ:
D12: Místo: | I12: Datum: | J12: ='Rekapitulace stavby'!AN8 -> 6. 5. 2026
D14: Zadavatel: | I14: IČ: | J14: 00303046
E15: Obec Moravičany | I15: DIČ: | J15: CZ00303046
D17: Zhotovitel: | I17: IČ: | J17: 06390358
E18: Cash trade s.r.o. | I18: DIČ: | J18: CZ06390358
D20: Projektant: | I20: IČ: | J20: 74276361
E21: Atelis - Ateliér liniových staveb | I21: DIČ: | J21: CZ8152217546
D23: Zpracovatel: | I23: IČ: | J23: =IF('Rekapitulace stavby'!AN19="","",'Rekapitulace stavby'!AN19)
E24: =IF('Rekapitulace stavby'!E20="","",'Rekapitulace stavby'!E20) | I24: DIČ: | J24: =IF('Rekapitulace stavby'!AN20="","",'Rekapitulace stavby'!AN20)
D26: Poznámka:
D30: Cena bez DPH | J30: =ROUND(J129, 2) -> 1668545.4
F32: Základ daně | I32: Sazba daně | J32: Výše daně
D33: DPH | E33: základní | F33: =ROUND((SUM(BE129:BE205)), 2) -> 1668545.4 | I33: 0.21 | J33: =ROUND(((SUM(BE129:BE205))*I33), 2) -> 350394.54
E34: snížená | F34: =ROUND((SUM(BF129:BF205)), 2) -> 0 | I34: 0.12 | J34: =ROUND(((SUM(BF129:BF205))*I34), 2) -> 0
E35: zákl. přenesená | F35: =ROUND((SUM(BG129:BG205)), 2) -> 0 | I35: 0.21 | J35: =0 -> 0
E36: sníž. přenesená | F36: =ROUND((SUM(BH129:BH205)), 2) -> 0 | I36: 0.12 | J36: =0 -> 0
E37: nulová | F37: =ROUND((SUM(BI129:BI205)), 2) -> 0 | I37: 0 | J37: =0 -> 0
D39: Cena s DPH | G39: v | H39: CZK | J39: =SUM(J30:J37) -> 2018940
D50: Projektant | G50: Zpracovatel
D61: Datum a podpis: | F61: Razítko | G61: Datum a podpis: | J61: Razítko
D65: Objednavatel | G65: Zhotovitel
D76: Datum a podpis: | F76: Razítko | G76: Datum a podpis: | J76: Razítko
C82: REKAPITULACE ČLENĚNÍ SOUPISU PRACÍ
C84: Stavba:
E85: =E7 -> Dodatek č. 2 - SO 111_B_121_C_121_D
C86: Objekt:
E87: =E9 -> 0112 - Vícepráce - uznatelné náklady - SO 111.B Chodníky, nástupiště a vjezdy - náves pravá strana
C89: Místo: | F89: =F12 | I89: Datum: | J89: =IF(J12="","",J12) -> 6. 5. 2026
C91: Zadavatel: | F91: =E15 -> Obec Moravičany | I91: Projektant: | J91: =E21 -> Atelis - Ateliér liniových staveb
C92: Zhotovitel: | F92: =IF(E18="","",E18) -> Cash trade s.r.o. | I92: Zpracovatel: | J92: =E24
C94: Kód dílu - Popis | J94: Cena celkem [CZK]
C96: Náklady ze soupisu prací | J96: =J129 -> 1668545.4 | AU96: -1
...

Sheet 0123 - Vícepráce - neuzna...
L2: >> skryté sloupce << | AT2: {071a7de9-721f-413d-bbac-82c23d6411dd}
AT3: 2
D4: KRYCÍ LIST SOUPISU PRACÍ | M4: v --- níže se nacházejí doplnkové a pomocné údaje k sestavám --- v | AT4: False
D6: Stavba:
E7: ='Rekapitulace stavby'!K6 -> Dodatek č. 2 - SO 111_B_121_C_121_D
D8: Objekt:
E9: 0123 - Vícepráce - neuznatelné náklady - SO 111.B - Chodníky, nástupiště a vjezdy - náves pravá strana
D11: KSO: | I11: CC-CZ:
D12: Místo: | I12: Datum: | J12: ='Rekapitulace stavby'!AN8 -> 6. 5. 2026
D14: Zadavatel: | I14: IČ: | J14: 00303046
E15: Obec Moravičany | I15: DIČ: | J15: CZ00303046
D17: Zhotovitel: | I17: IČ: | J17: 06390358
E18: Cash trade s.r.o. | I18: DIČ: | J18: CZ06390358
D20: Projektant: | I20: IČ: | J20: 74276361
E21: Atelis - Ateliér liniových staveb | I21: DIČ: | J21: CZ8152217546
D23: Zpracovatel: | I23: IČ: | J23: =IF('Rekapitulace stavby'!AN19="","",'Rekapitulace stavby'!AN19)
E24: =IF('Rekapitulace stavby'!E20="","",'Rekapitulace stavby'!E20) | I24: DIČ: | J24: =IF('Rekapitulace stavby'!AN20="","",'Rekapitulace stavby'!AN20)
D26: Poznámka:
D30: Cena bez DPH | J30: =ROUND(J122, 2) -> 281471.41
F32: Základ daně | I32: Sazba daně | J32: Výše daně
D33: DPH | E33: základní | F33: =ROUND((SUM(BE122:BE145)), 2) -> 281471.41 | I33: 0.21 | J33: =ROUND(((SUM(BE122:BE145))*I33), 2) -> 59109
E34: snížená | F34: =ROUND((SUM(BF122:BF145)), 2) -> 0 | I34: 0.12 | J34: =ROUND(((SUM(BF122:BF145))*I34), 2) -> 0
E35: zákl. přenesená | F35: =ROUND((SUM(BG122:BG145)), 2) -> 0 | I35: 0.21 | J35: =0 -> 0
E36: sníž. přenesená | F36: =ROUND((SUM(BH122:BH145)), 2) -> 0 | I36: 0.12 | J36: =0 -> 0
E37: nulová | F37: =ROUND((SUM(BI122:BI145)), 2) -> 0 | I37: 0 | J37: =0 -> 0
D39: Cena s DPH | G39: v | H39: CZK | J39: =SUM(J30:J37) -> 340580.41
D50: Projektant | G50: Zpracovatel
D61: Datum a podpis: | F61: Razítko | G61: Datum a podpis: | J61: Razítko
D65: Objednavatel | G65: Zhotovitel
D76: Datum a podpis: | F76: Razítko | G76: Datum a podpis: | J76: Razítko
C82: REKAPITULACE ČLENĚNÍ SOUPISU PRACÍ
C84: Stavba:
E85: =E7 -> Dodatek č. 2 - SO 111_B_121_C_121_D
C86: Objekt:
E87: =E9 -> 0123 - Vícepráce - neuznatelné náklady - SO 111.B - Chodníky, nástupiště a vjezdy - náves pravá strana
C89: Místo: | F89: =F12 | I89: Datum: | J89: =IF(J12="","",J12) -> 6. 5. 2026
C91: Zadavatel: | F91: =E15 -> Obec Moravičany | I91: Projektant: | J91: =E21 -> Atelis - Ateliér liniových staveb
C92: Zhotovitel: | F92: =IF(E18="","",E18) -> Cash trade s.r.o. | I92: Zpracovatel: | J92: =E24
C94: Kód dílu - Popis | J94: Cena celkem [CZK]
C96: Náklady ze soupisu prací | J96: =J122 -> 281471.41 | AU96: -1
...

Sheet M0112 - Méněpráce - uznat...
L2: >> skryté sloupce << | AT2: {700322cd-fa44-4249-b8e5-6b0a29cb4ea1}
AT3: 2
D4: KRYCÍ LIST SOUPISU PRACÍ | M4: v --- níže se nacházejí doplnkové a pomocné údaje k sestavám --- v | AT4: False
D6: Stavba:
E7: ='Rekapitulace stavby'!K6 -> Dodatek č. 2 - SO 111_B_121_C_121_D
D8: Objekt:
E9: M0112 - Méněpráce - uznatelné náklady - SO 111.B Chodníky, nástupiště a vjezdy - náves pravá strana
D11: KSO: | I11: CC-CZ:
D12: Místo: | I12: Datum: | J12: ='Rekapitulace stavby'!AN8 -> 6. 5. 2026
D14: Zadavatel: | I14: IČ: | J14: 00303046
E15: Obec Moravičany | I15: DIČ: | J15: CZ00303046
D17: Zhotovitel: | I17: IČ: | J17: 06390358
E18: Cash trade s.r.o. | I18: DIČ: | J18: CZ06390358
D20: Projektant: | I20: IČ: | J20: 74276361
E21: Atelis - Ateliér liniových staveb | I21: DIČ: | J21: CZ8152217546
D23: Zpracovatel: | I23: IČ: | J23: =IF('Rekapitulace stavby'!AN19="","",'Rekapitulace stavby'!AN19)
E24: =IF('Rekapitulace stavby'!E20="","",'Rekapitulace stavby'!E20) | I24: DIČ: | J24: =IF('Rekapitulace stavby'!AN20="","",'Rekapitulace stavby'!AN20)
D26: Poznámka:
D30: Cena bez DPH | J30: =ROUND(J122, 2) -> -242795.51
F32: Základ daně | I32: Sazba daně | J32: Výše daně
D33: DPH | E33: základní | F33: =ROUND((SUM(BE122:BE153)), 2) -> -242795.51 | I33: 0.21 | J33: =ROUND(((SUM(BE122:BE153))*I33), 2) -> -50987.06
E34: snížená | F34: =ROUND((SUM(BF122:BF153)), 2) -> 0 | I34: 0.12 | J34: =ROUND(((SUM(BF122:BF153))*I34), 2) -> 0
E35: zákl. přenesená | F35: =ROUND((SUM(BG122:BG153)), 2) -> 0 | I35: 0.21 | J35: =0 -> 0
E36: sníž. přenesená | F36: =ROUND((SUM(BH122:BH153)), 2) -> 0 | I36: 0.12 | J36: =0 -> 0
E37: nulová | F37: =ROUND((SUM(BI122:BI153)), 2) -> 0 | I37: 0 | J37: =0 -> 0
D39: Cena s DPH | G39: v | H39: CZK | J39: =SUM(J30:J37) -> -293782.57
D50: Projektant | G50: Zpracovatel
D61: Datum a podpis: | F61: Razítko | G61: Datum a podpis: | J61: Razítko
D65: Objednavatel | G65: Zhotovitel
D76: Datum a podpis: | F76: Razítko | G76: Datum a podpis: | J76: Razítko
C82: REKAPITULACE ČLENĚNÍ SOUPISU PRACÍ
C84: Stavba:
E85: =E7 -> Dodatek č. 2 - SO 111_B_121_C_121_D
C86: Objekt:
E87: =E9 -> M0112 - Méněpráce - uznatelné náklady - SO 111.B Chodníky, nástupiště a vjezdy - náves pravá strana
C89: Místo: | F89: =F12 | I89: Datum: | J89: =IF(J12="","",J12) -> 6. 5. 2026
C91: Zadavatel: | F91: =E15 -> Obec Moravičany | I91: Projektant: | J91: =E21 -> Atelis - Ateliér liniových staveb
C92: Zhotovitel: | F92: =IF(E18="","",E18) -> Cash trade s.r.o. | I92: Zpracovatel: | J92: =E24
C94: Kód dílu - Popis | J94: Cena celkem [CZK]
C96: Náklady ze soupisu prací | J96: =J122 -> -242795.51 | AU96: -1
...

Sheet M0123 - Méněpráce - neuzn...
L2: >> skryté sloupce << | AT2: {0fe7ca66-9de6-44aa-9a89-5deda678420a}
AT3: 2
D4: KRYCÍ LIST SOUPISU PRACÍ | M4: v --- níže se nacházejí doplnkové a pomocné údaje k sestavám --- v | AT4: False
D6: Stavba:
E7: ='Rekapitulace stavby'!K6 -> Dodatek č. 2 - SO 111_B_121_C_121_D
D8: Objekt:
E9: M0123 - Méněpráce - neuznatelné náklady - SO 111.B - Chodníky, nástupiště a vjezdy - náves pravá strana
D11: KSO: | I11: CC-CZ:
D12: Místo: | I12: Datum: | J12: ='Rekapitulace stavby'!AN8 -> 6. 5. 2026
D14: Zadavatel: | I14: IČ: | J14: 00303046
E15: Obec Moravičany | I15: DIČ: | J15: CZ00303046
D17: Zhotovitel: | I17: IČ: | J17: 06390358
E18: Cash trade s.r.o. | I18: DIČ: | J18: CZ06390358
D20: Projektant: | I20: IČ: | J20: 74276361
E21: Atelis - Ateliér liniových staveb | I21: DIČ: | J21: CZ8152217546
D23: Zpracovatel: | I23: IČ: | J23: =IF('Rekapitulace stavby'!AN19="","",'Rekapitulace stavby'!AN19)
E24: =IF('Rekapitulace stavby'!E20="","",'Rekapitulace stavby'!E20) | I24: DIČ: | J24: =IF('Rekapitulace stavby'!AN20="","",'Rekapitulace stavby'!AN20)
D26: Poznámka:
D30: Cena bez DPH | J30: =ROUND(J122, 2) -> -424581.07
F32: Základ daně | I32: Sazba daně | J32: Výše daně
D33: DPH | E33: základní | F33: =ROUND((SUM(BE122:BE171)), 2) -> -424581.07 | I33: 0.21 | J33: =ROUND(((SUM(BE122:BE171))*I33), 2) -> -89162.02
E34: snížená | F34: =ROUND((SUM(BF122:BF171)), 2) -> 0 | I34: 0.12 | J34: =ROUND(((SUM(BF122:BF171))*I34), 2) -> 0
E35: zákl. přenesená | F35: =ROUND((SUM(BG122:BG171)), 2) -> 0 | I35: 0.21 | J35: =0 -> 0
E36: sníž. přenesená | F36: =ROUND((SUM(BH122:BH171)), 2) -> 0 | I36: 0.12 | J36: =0 -> 0
E37: nulová | F37: =ROUND((SUM(BI122:BI171)), 2) -> 0 | I37: 0 | J37: =0 -> 0
D39: Cena s DPH | G39: v | H39: CZK | J39: =SUM(J30:J37) -> -513743.09
D50: Projektant | G50: Zpracovatel
D61: Datum a podpis: | F61: Razítko | G61: Datum a podpis: | J61: Razítko
D65: Objednavatel | G65: Zhotovitel
D76: Datum a podpis: | F76: Razítko | G76: Datum a podpis: | J76: Razítko
C82: REKAPITULACE ČLENĚNÍ SOUPISU PRACÍ
C84: Stavba:
E85: =E7 -> Dodatek č. 2 - SO 111_B_121_C_121_D
C86: Objekt:
E87: =E9 -> M0123 - Méněpráce - neuznatelné náklady - SO 111.B - Chodníky, nástupiště a vjezdy - náves pravá strana
C89: Místo: | F89: =F12 | I89: Datum: | J89: =IF(J12="","",J12) -> 6. 5. 2026
C91: Zadavatel: | F91: =E15 -> Obec Moravičany | I91: Projektant: | J91: =E21 -> Atelis - Ateliér liniových staveb
C92: Zhotovitel: | F92: =IF(E18="","",E18) -> Cash trade s.r.o. | I92: Zpracovatel: | J92: =E24
C94: Kód dílu - Popis | J94: Cena celkem [CZK]
C96: Náklady ze soupisu prací | J96: =J122 -> -424581.07 | AU96: -1
...
