Workbook

Sheet Rekapitulace stavby
A1: Export Komplet | BA1: 2.0 | BT1: False | BU1: False | BV1: {f4c89742-d62b-4901-b497-f0a99ba334de}
AR2: >> skryté sloupce << | BS2: 0,01 | BT2: 21
BS3: 0,01 | BT3: 12
D4: REKAPITULACE STAVBY | AS4: v --- níže se nacházejí doplnkové a pomocné údaje k sestavám --- v | BS4: 0,001
D5: Kód: | K5: 2019010-O-03 | BS5: 0,01
D6: Stavba: | K6: Dodatek č. 2 - SO 111_B_121_C_121_D | BS6: 0,01
D7: KSO: | AK7: CC-CZ: | BS7: 0,01
D8: Místo: | AK8: Datum: | AN8: 6. 5. 2026 | BS8: 0,01
BS9: 0,01
D10: Zadavatel: | AK10: IČ: | AN10: 00303046 | BS10: 0,01
E11: Obec Moravičany | AK11: DIČ: | AN11: CZ00303046 | BS11: 0,01
BS12: 0,01
D13: Zhotovitel: | AK13: IČ: | AN13: 06390358 | BS13: 0,01
E14: Cash trade s.r.o. | AK14: DIČ: | AN14: CZ06390358 | BS14: 0,01
BS15: False
D16: Projektant: | AK16: IČ: | AN16: 74276361 | BS16: False
E17: Atelis - Ateliér liniových staveb | AK17: DIČ: | AN17: CZ8152217546 | BS17: False
BS18: 0,01
D19: Zpracovatel: | AK19: IČ: | BS19: 0,01
AK20: DIČ: | BS20: True
D22: Poznámka:
E23: Soupis prací je sestaven s využitím Cenové soustavy ÚRS. Položky, které pochází z této cenové soustavy, jsou ve sloupci 'Cenová soustava' označeny popisem 'CS ÚRS' a úrovní příslušného kalendářního pololetí. Veškeré další informace vymezující popis a podmínky použití těchto položek z Cenové soustavy, které nejsou uvedeny přímo v soupisu prací, jsou neomezeně dálkově k dispozici na webu podminky.urs.cz.
D26: Cena bez DPH | AK26: =ROUND(AG94,2) -> 1282640.3
L28: Sazba daně | W28: Základ daně | AK28: Výše daně
D29: DPH | F29: základní | L29: 0.21 | W29: =ROUND(AZ94, 2) -> 1282640.3 | AK29: =ROUND(AV94, 2) -> 269354.46
F30: snížená | L30: 0.12 | W30: =ROUND(BA94, 2) -> 0 | AK30: =ROUND(AW94, 2) -> 0
F31: zákl. přenesená | L31: 0.21 | W31: =ROUND(BB94, 2) -> 0 | AK31: 0
F32: sníž. přenesená | L32: 0.12 | W32: =ROUND(BC94, 2) -> 0 | AK32: 0
F33: nulová | L33: 0 | W33: =ROUND(BD94, 2) -> 0 | AK33: 0
D35: Cena s DPH | T35: v | X35: CZK | AK35: =SUM(AK26:AK33) -> 1551994.7
D49: Projektant | AH49: Zpracovatel
D60: Datum a podpis: | V60: Razítko | AH60: Datum a podpis: | AM60: Razítko
D64: Objednavatel | AH64: Zhotovitel
D75: Datum a podpis: | V75: Razítko | AH75: Datum a podpis: | AM75: Razítko
C82: REKAPITULACE OBJEKTŮ STAVBY A SOUPISŮ PRACÍ
C84: Kód: | L84: =K5 -> 2019010-O-03
C85: Stavba: | L85: =K6 -> Dodatek č. 2 - SO 111_B_121_C_121_D
C87: Místo: | L87: =IF(K8="","",K8) | AI87: Datum: | AM87: =IF(AN8= "","",AN8) -> 6. 5. 2026
C89: Zadavatel: | L89: =IF(E11= "","",E11) -> Obec Moravičany | AI89: Projektant: | AM89: =IF(E17="","",E17) -> Atelis - Ateliér liniových staveb | AS89: Informatívní údaje z listů zakázek
C90: Zhotovitel: | L90: =IF(E14="","",E14) -> Cash trade s.r.o. | AI90: Zpracovatel: | AM90: =IF(E20="","",E20)
C92: Kód | I92: Popis | AG92: Cena bez DPH [CZK] | AN92: Cena s DPH [CZK] | AQ92: Typ | AS92: z toho Ostat._x000D_ náklady [CZK] | AT92: DPH [CZK] | AU92: Normohodiny [h] | AV92: DPH základní [CZK] | AW92: DPH snížená [CZK] | AX92: DPH základní přenesená_x000D_ [CZK] | AY92: DPH snížená přenesená_x000D_ [CZK] | AZ92: Základna_x000D_ DPH základní | BA92: Základna_x000D_ DPH snížená | BB92: Základna_x000D_ DPH zákl. přenesená | BC92: Základna_x000D_ DPH sníž. přenesená | BD92: Základna_x000D_ DPH nulová
C94: Náklady z rozpočtů | AG94: =ROUND(SUM(AG95:AG98),2) -> 1282640.3 | AN94: =SUM(AG94,AT94) -> 1551994.7 | AS94: =ROUND(SUM(AS95:AS98),2) -> 0 | AT94: =ROUND(SUM(AV94:AW94),2) -> 269354.46 | AU94: =ROUND(SUM(AU95:AU98),5) -> #REF! | AV94: =ROUND(AZ94*L29,2) -> 269354.46 | AW94: =ROUND(BA94*L30,2) -> 0 | AX94: =ROUND(BB94*L29,2) -> 0 | AY94: =ROUND(BC94*L30,2) -> 0 | AZ94: =ROUND(SUM(AZ95:AZ98),2) -> 1282640.3 | BA94: =ROUND(SUM(BA95:BA98),2) -> 0 | BB94: =ROUND(SUM(BB95:BB98),2) -> 0 | BC94: =ROUND(SUM(BC95:BC98),2) -> 0 | BD94: =ROUND(SUM(BD95:BD98),2) -> 0 | BS94: D | BT94: 0 | BU94: ###NOIMPORT### | BV94: IMPORT | BW94: {f4c89742-d62b-4901-b497-f0a99ba334de} | BX94: {00000000-0000-0000-0000-000000000000}
A95: / | D95: 0112 | J95: Vícepráce - uznatelné náklady - SO 111.B Chodníky, nástupiště a vjezdy - náves pravá strana | AG95: ='0112 - Vícepráce - uznate...'!J30 -> 1668545.4 | AN95: =SUM(AG95,AT95) -> 2018940 | AQ95: STA | AS95: 0 | AT95: =ROUND(SUM(AV95:AW95),2) -> 350394.54 | AU95: ='0112 - Vícepráce - uznate...'!P129 -> 816.9353 | AV95: ='0112 - Vícepráce - uznate...'!J33 -> 350394.54 | AW95: ='0112 - Vícepráce - uznate...'!J34 -> 0 | AX95: ='0112 - Vícepráce - uznate...'!J35 -> 0 | AY95: ='0112 - Vícepráce - uznate...'!J36 -> 0 | AZ95: ='0112 - Vícepráce - uznate...'!F33 -> 1668545.4 | BA95: ='0112 - Vícepráce - uznate...'!F34 -> 0 | BB95: ='0112 - Vícepráce - uznate...'!F35 -> 0 | BC95: ='0112 - Vícepráce - uznate...'!F36 -> 0 | BD95: ='0112 - Vícepráce - uznate...'!F37 -> 0 | BT95: 1 | BV95: IMPORT | BW95: {3408d0f7-56be-406c-be39-66d4afc9a285} | BX95: {f4c89742-d62b-4901-b497-f0a99ba334de} | CM95: 2
A96: / | D96: 0123 | J96: Vícepráce - neuznatelné náklady - SO 111.B - Chodníky, nástupiště a vjezdy - náves pravá strana | AG96: ='0123 - Vícepráce - neuzna...'!J30 -> 281471.41 | AN96: =SUM(AG96,AT96) -> 340580.41 | AQ96: STA | AS96: 0 | AT96: =ROUND(SUM(AV96:AW96),2) -> 59109 | AU96: ='0123 - Vícepráce - neuzna...'!P122 -> #REF! | AV96: ='0123 - Vícepráce - neuzna...'!J33 -> 59109 | AW96: ='0123 - Vícepráce - neuzna...'!J34 -> 0 | AX96: ='0123 - Vícepráce - neuzna...'!J35 -> 0 | AY96: ='0123 - Vícepráce - neuzna...'!J36 -> 0 | AZ96: ='0123 - Vícepráce - neuzna...'!F33 -> 281471.41 | BA96: ='0123 - Vícepráce - neuzna...'!F34 -> 0 | BB96: ='0123 - Vícepráce - neuzna...'!F35 -> 0 | BC96: ='0123 - Vícepráce - neuzna...'!F36 -> 0 | BD96: ='0123 - Vícepráce - neuzna...'!F37 -> 0 | BT96: 1 | BV96: IMPORT | BW96: {071a7de9-721f-413d-bbac-82c23d6411dd} | BX96: {f4c89742-d62b-4901-b497-f0a99ba334de} | CM96: 2
A97: / | D97: M0112 | J97: Méněpráce - uznatelné náklady - SO 111.B Chodníky, nástupiště a vjezdy - náves pravá strana | AG97: ='M0112 - Méněpráce - uznat...'!J30 -> -242795.51 | AN97: =SUM(AG97,AT97) -> -293782.57 | AQ97: STA | AS97: 0 | AT97: =ROUND(SUM(AV97:AW97),2) -> -50987.06 | AU97: ='M0112 - Méněpráce - uznat...'!P122 -> 0 | AV97: ='M0112 - Méněpráce - uznat...'!J33 -> -50987.06 | AW97: ='M0112 - Méněpráce - uznat...'!J34 -> 0 | AX97: ='M0112 - Méněpráce - uznat...'!J35 -> 0 | AY97: ='M0112 - Méněpráce - uznat...'!J36 -> 0 | AZ97: ='M0112 - Méněpráce - uznat...'!F33 -> -242795.51 | BA97: ='M0112 - Méněpráce - uznat...'!F34 -> 0 | BB97: ='M0112 - Méněpráce - uznat...'!F35 -> 0 | BC97: ='M0112 - Méněpráce - uznat...'!F36 -> 0 | BD97: ='M0112 - Méněpráce - uznat...'!F37 -> 0 | BT97: 1 | BV97: IMPORT | BW97: {700322cd-fa44-4249-b8e5-6b0a29cb4ea1} | BX97: {f4c89742-d62b-4901-b497-f0a99ba334de} | CM97: 2
A98: / | D98: M0123 | J98: Méněpráce - neuznatelné náklady - SO 111.B - Chodníky, nástupiště a vjezdy - náves pravá strana | AG98: ='M0123 - Méněpráce - neuzn...'!J30 -> -424581.07 | AN98: =SUM(AG98,AT98) -> -513743.09 | AQ98: STA | AS98: 0 | AT98: =ROUND(SUM(AV98:AW98),2) -> -89162.02 | AU98: ='M0123 - Méněpráce - neuzn...'!P122 -> 0 | AV98: ='M0123 - Méněpráce - neuzn...'!J33 -> -89162.02 | AW98: ='M0123 - Méněpráce - neuzn...'!J34 -> 0 | AX98: ='M0123 - Méněpráce - neuzn...'!J35 -> 0 | AY98: ='M0123 - Méněpráce - neuzn...'!J36 -> 0 | AZ98: ='M0123 - Méněpráce - neuzn...'!F33 -> -424581.07 | BA98: ='M0123 - Méněpráce - neuzn...'!F34 -> 0 | BB98: ='M0123 - Méněpráce - neuzn...'!F35 -> 0 | BC98: ='M0123 - Méněpráce - neuzn...'!F36 -> 0 | BD98: ='M0123 - Méněpráce - neuzn...'!F37 -> 0 | BT98: 1 | BV98: IMPORT | BW98: {0fe7ca66-9de6-44aa-9a89-5deda678420a} | BX98: {f4c89742-d62b-4901-b497-f0a99ba334de} | CM98: 2

Sheet 0112 - Vícepráce - uznate...
L2: >> skryté sloupce << | AT2: {3408d0f7-56be-406c-be39-66d4afc9a285}
AT3: 2
D4: KRYCÍ LIST SOUPISU PRACÍ | M4: v --- níže se nacházejí doplnkové a pomocné údaje k sestavám --- v | AT4: False
D6: Stavba:
E7: ='Rekapitulace stavby'!K6 -> Dodatek č. 2 - SO 111_B_121_C_121_D
D8: Objekt:
E9: 0112 - Vícepráce - uznatelné náklady - SO 111.B Chodníky, nástupiště a vjezdy - náves pravá strana
D11: KSO: | I11: CC-CZ:
D12: Místo: | I12: Datum: | J12: ='Rekapitulace stavby'!AN8 -> 6. 5. 2026
D14: Zadavatel: | I14: IČ: | J14: 00303046
E15: Obec Moravičany | I15: DIČ: | J15: CZ00303046
D17: Zhotovitel: | I17: IČ: | J17: 06390358
E18: Cash trade s.r.o. | I18: DIČ: | J18: CZ06390358
D20: Projektant: | I20: IČ: | J20: 74276361
E21: Atelis - Ateliér liniových staveb | I21: DIČ: | J21: CZ8152217546
D23: Zpracovatel: | I23: IČ: | J23: =IF('Rekapitulace stavby'!AN19="","",'Rekapitulace stavby'!AN19)
E24: =IF('Rekapitulace stavby'!E20="","",'Rekapitulace stavby'!E20) | I24: DIČ: | J24: =IF('Rekapitulace stavby'!AN20="","",'Rekapitulace stavby'!AN20)
D26: Poznámka:
D30: Cena bez DPH | J30: =ROUND(J129, 2) -> 1668545.4
F32: Základ daně | I32: Sazba daně | J32: Výše daně
D33: DPH | E33: základní | F33: =ROUND((SUM(BE129:BE205)), 2) -> 1668545.4 | I33: 0.21 | J33: =ROUND(((SUM(BE129:BE205))*I33), 2) -> 350394.54
E34: snížená | F34: =ROUND((SUM(BF129:BF205)), 2) -> 0 | I34: 0.12 | J34: =ROUND(((SUM(BF129:BF205))*I34), 2) -> 0
E35: zákl. přenesená | F35: =ROUND((SUM(BG129:BG205)), 2) -> 0 | I35: 0.21 | J35: =0 -> 0
E36: sníž. přenesená | F36: =ROUND((SUM(BH129:BH205)), 2) -> 0 | I36: 0.12 | J36: =0 -> 0
E37: nulová | F37: =ROUND((SUM(BI129:BI205)), 2) -> 0 | I37: 0 | J37: =0 -> 0
D39: Cena s DPH | G39: v | H39: CZK | J39: =SUM(J30:J37) -> 2018940
D50: Projektant | G50: Zpracovatel
D61: Datum a podpis: | F61: Razítko | G61: Datum a podpis: | J61: Razítko
D65: Objednavatel | G65: Zhotovitel
D76: Datum a podpis: | F76: Razítko | G76: Datum a podpis: | J76: Razítko
C82: REKAPITULACE ČLENĚNÍ SOUPISU PRACÍ
C84: Stavba:
E85: =E7 -> Dodatek č. 2 - SO 111_B_121_C_121_D
C86: Objekt:
E87: =E9 -> 0112 - Vícepráce - uznatelné náklady - SO 111.B Chodníky, nástupiště a vjezdy - náves pravá strana
C89: Místo: | F89: =F12 | I89: Datum: | J89: =IF(J12="","",J12) -> 6. 5. 2026
C91: Zadavatel: | F91: =E15 -> Obec Moravičany | I91: Projektant: | J91: =E21 -> Atelis - Ateliér liniových staveb
C92: Zhotovitel: | F92: =IF(E18="","",E18) -> Cash trade s.r.o. | I92: Zpracovatel: | J92: =E24
C94: Kód dílu - Popis | J94: Cena celkem [CZK]
C96: Náklady ze soupisu prací | J96: =J129 -> 1668545.4 | AU96: -1
D97: 1 - Dodání vlastní žulové kostky 12/12/12 obcí (VCP) | J97: =J130 -> 10535.5
D98: 2 - Sanace pod chodníky | J98: =J134 -> 1575125.8
D99: 1 - Dodání vlastní žulové kostky 12/12/12 obcí (VCP) | J99: =J135 -> 834477.61
D100: 5 - Komunikace pozemní | J100: =J153 -> 455416.68
D101: 9 - Ostatní konstrukce a práce, bourání | J101: =J160 -> 91237.87
D102: 998 - Přesun hmot | J102: =J163 -> 193993.68
D103: 3 - Vsaky za mezerami obrubníku | J103: =J167 -> 60007.78
D104: 1 - Dodání vlastní žulové kostky 12/12/12 obcí (VCP) | J104: =J168 -> 33375.65
D105: 2 - Sanace pod chodníky | J105: =J184 -> 20675.2
D106: 998 - Přesun hmot | J106: =J190 -> 5956.93
D107: 4 - Vybourání uličních vpustí | J107: =J192 -> 1876.32
D108: 997 - Přesun sutě | J108: =J196 -> 366.34
D109: 5 - Komunikace pozemní | J109: =J204 -> 21000
C116: SOUPIS PRACÍ
C118: Stavba:
E119: =E7 -> Dodatek č. 2 - SO 111_B_121_C_121_D
C120: Objekt:
E121: =E9 -> 0112 - Vícepráce - uznatelné náklady - SO 111.B Chodníky, nástupiště a vjezdy - náves pravá strana
C123: Místo: | F123: =F12 | I123: Datum: | J123: =IF(J12="","",J12) -> 6. 5. 2026
C125: Zadavatel: | F125: =E15 -> Obec Moravičany | I125: Projektant: | J125: =E21 -> Atelis - Ateliér liniových staveb
C126: Zhotovitel: | F126: =IF(E18="","",E18) -> Cash trade s.r.o. | I126: Zpracovatel: | J126: =E24
C128: PČ | D128: Typ | E128: Kód | F128: Popis | G128: MJ | H128: Množství | I128: J.cena [CZK] | J128: Cena celkem [CZK] | K128: Cenová soustava | N128: DPH | O128: J. Nh [h] | P128: Nh celkem [h] | Q128: J. hmotnost [t] | R128: Hmotnost celkem [t] | S128: J. suť [t] | T128: Suť Celkem [t]
C129: Náklady soupisu celkem | J129: =BK129 -> 1668545.4 | P129: =P130+P134+P167+P192+P204 -> 816.9353 | R129: =R130+R134+R167+R192+R204 -> 29.666 | T129: =T130+T134+T167+T192+T204 -> 0 | AT129: D | AU129: -1 | BK129: =BK130+BK134+BK167+BK192+BK204 -> 1668545.4
D130: D | E130: 1 | F130: Dodání vlastní žulové kostky 12/12/12 obcí (VCP) | J130: =BK130 -> 10535.5 | P130: =SUM(P131:P133) -> 14.312932 | R130: =SUM(R131:R133) -> 0 | T130: =SUM(T131:T133) -> 0 | AR130: 1 | AT130: D | AU130: 0 | AY130: ROZPOCET | BK130: =SUM(BK131:BK133) -> 10535.5
C131: 4 | D131: K | E131: 997221561 | F131: Vodorovná doprava suti z kusových materiálů do 1 km | G131: t | H131: 73.778 | I131: 58.7 | J131: =ROUND(I131*H131,2) -> 4330.77 | K131: CS ÚRS 2025 02 | N131: základní | O131: 0.032 | P131: =O131*H131 -> 2.360896 | Q131: 0 | R131: =Q131*H131 -> 0 | S131: 0 | T131: =S131*H131 -> 0 | AR131: 4 | AT131: K | AU131: 1 | AY131: ROZPOCET | BE131: =IF(N131="základní",J131,0) -> 4330.77 | BF131: =IF(N131="snížená",J131,0) -> 0 | BG131: =IF(N131="zákl. přenesená",J131,0) -> 0 | BH131: =IF(N131="sníž. přenesená",J131,0) -> 0 | BI131: =IF(N131="nulová",J131,0) -> 0 | BJ131: 1 | BK131: =ROUND(I131*H131,2) -> 4330.77 | BL131: 4 | BM131: -1747288049
C132: 2 | D132: K | E132: 997221611 | F132: Nakládání suti na dopravní prostředky pro vodorovnou dopravu | G132: t | H132: 73.778 | I132: 69.9 | J132: =ROUND(I132*H132,2) -> 5157.08 | K132: CS ÚRS 2025 02 | N132: základní | O132: 0.159 | P132: =O132*H132 -> 11.730702 | Q132: 0 | R132: =Q132*H132 -> 0 | S132: 0 | T132: =S132*H132 -> 0 | AR132: 4 | AT132: K | AU132: 1 | AY132: ROZPOCET | BE132: =IF(N132="základní",J132,0) -> 5157.08 | BF132: =IF(N132="snížená",J132,0) -> 0 | BG132: =IF(N132="zákl. přenesená",J132,0) -> 0 | BH132: =IF(N132="sníž. přenesená",J132,0) -> 0 | BI132: =IF(N132="nulová",J132,0) -> 0 | BJ132: 1 | BK132: =ROUND(I132*H132,2) -> 5157.08 | BL132: 4 | BM132: 1320189748
C133: 3 | D133: K | E133: 997221569 | F133: Příplatek ZKD 1 km u vodorovné dopravy suti z kusových materiálů | G133: t | H133: 73.778 | I133: 14.2 | J133: =ROUND(I133*H133,2) -> 1047.65 | K133: CS ÚRS 2025 02 | N133: základní | O133: 0.003 | P133: =O133*H133 -> 0.221334 | Q133: 0 | R133: =Q133*H133 -> 0 | S133: 0 | T133: =S133*H133 -> 0 | AR133: 4 | AT133: K | AU133: 1 | AY133: ROZPOCET | BE133: =IF(N133="základní",J133,0) -> 1047.65 | BF133: =IF(N133="snížená",J133,0) -> 0 | BG133: =IF(N133="zákl. přenesená",J133,0) -> 0 | BH133: =IF(N133="sníž. přenesená",J133,0) -> 0 | BI133: =IF(N133="nulová",J133,0) -> 0 | BJ133: 1 | BK133: =ROUND(I133*H133,2) -> 1047.65 | BL133: 4 | BM133: -1547041244
D134: D | E134: 2 | F134: Sanace pod chodníky | J134: =BK134 -> 1575125.8 | P134: =P135+P153+P160+P163 -> 739.66237 | R134: =R135+R153+R160+R163 -> 0 | T134: =T135+T153+T160+T163 -> 0 | AR134: 1 | AT134: D | AU134: 0 | AY134: ROZPOCET | BK134: =BK135+BK153+BK160+BK163 -> 1575125.8
D135: D | E135: 1 | F135: Dodání vlastní žulové kostky 12/12/12 obcí (VCP) | J135: =BK135 -> 834477.61 | P135: =SUM(P136:P152) -> 689.39357 | R135: =SUM(R136:R152) -> 0 | T135: =SUM(T136:T152) -> 0 | AR135: 1 | AT135: D | AU135: 1 | AY135: ROZPOCET | BK135: =SUM(BK136:BK152) -> 834477.61
C136: 1 | D136: K | E136: 122211101 | F136: Odkopávky a prokopávky v hornině třídy těžitelnosti I, skupiny 3 ručně | G136: m3 | H136: 33.6 | I136: 848 | J136: =ROUND(I136*H136,2) -> 28492.8 | K136: CS ÚRS 2025 02 | N136: základní | O136: 3.148 | P136: =O136*H136 -> 105.7728 | Q136: 0 | R136: =Q136*H136 -> 0 | S136: 0 | T136: =S136*H136 -> 0 | AR136: 4 | AT136: K | AU136: 2 | AY136: ROZPOCET | BE136: =IF(N136="základní",J136,0) -> 28492.8 | BF136: =IF(N136="snížená",J136,0) -> 0 | BG136: =IF(N136="zákl. přenesená",J136,0) -> 0 | BH136: =IF(N136="sníž. přenesená",J136,0) -> 0 | BI136: =IF(N136="nulová",J136,0) -> 0 | BJ136: 1 | BK136: =ROUND(I136*H136,2) -> 28492.8 | BL136: 4 | BM136: 1717209959
C137: 2 | D137: K | E137: 122452206 | F137: Odkopávky a prokopávky nezapažené pro silnice a dálnice v hornině třídy těžitelnosti II objem do 5000 m3 strojně | G137: m3 | H137: 471.27 | I137: 348 | J137: =ROUND(I137*H137,2) -> 164001.96 | N137: základní | O137: 0 | P137: =O137*H137 -> 0 | Q137: 0 | R137: =Q137*H137 -> 0 | S137: 0 | T137: =S137*H137 -> 0 | AR137: 4 | AT137: K | AU137: 2 | AY137: ROZPOCET | BE137: =IF(N137="základní",J137,0) -> 164001.96 | BF137: =IF(N137="snížená",J137,0) -> 0 | BG137: =IF(N137="zákl. přenesená",J137,0) -> 0 | BH137: =IF(N137="sníž. přenesená",J137,0) -> 0 | BI137: =IF(N137="nulová",J137,0) -> 0 | BJ137: 1 | BK137: =ROUND(I137*H137,2) -> 164001.96 | BL137: 4 | BM137: 880289533
D138: VV | F138: "51,0 hmatová dlažba (30x80;20x80)" | AT138: VV | AU138: 2 | AV138: 1 | AW138: True | AX138: 0 | AY138: ROZPOCET
D139: VV | F139: "923+548 dlažba 6/6/6" | AT139: VV | AU139: 2 | AV139: 1 | AW139: True | AX139: 0 | AY139: ROZPOCET
D140: VV | F140: "326*0,15 přesah sanace pro obrubníky" | AT140: VV | AU140: 2 | AV140: 1 | AW140: True | AX140: 0 | AY140: ROZPOCET
D141: VV | F141: ((923+548+51,0)+(326*0,15))*0,3 | H141: 471.27 | AT141: VV | AU141: 2 | AV141: 2 | AW141: True | AX141: 0 | AY141: ROZPOCET
D142: VV | F142: Součet | H142: 471.27 | AT142: VV | AU142: 2 | AV142: 4 | AW142: True | AX142: 1 | AY142: ROZPOCET
C143: 3 | D143: K | E143: 129001101 | F143: Příplatek za ztížení odkopávky nebo prokopávky v blízkosti inženýrských sítí | G143: m3 | H143: 377.016 | I143: 526 | J143: =ROUND(I143*H143,2) -> 198310.42 | K143: CS ÚRS 2025 02 | N143: základní | O143: 1.548 | P143: =O143*H143 -> 583.62077 | Q143: 0 | R143: =Q143*H143 -> 0 | S143: 0 | T143: =S143*H143 -> 0 | AR143: 4 | AT143: K | AU143: 2 | AY143: ROZPOCET | BE143: =IF(N143="základní",J143,0) -> 198310.42 | BF143: =IF(N143="snížená",J143,0) -> 0 | BG143: =IF(N143="zákl. přenesená",J143,0) -> 0 | BH143: =IF(N143="sníž. přenesená",J143,0) -> 0 | BI143: =IF(N143="nulová",J143,0) -> 0 | BJ143: 1 | BK143: =ROUND(I143*H143,2) -> 198310.42 | BL143: 4 | BM143: 1595971707
D144: VV | F144: 471,270*0,80 "80%" | H144: 377.016 | AT144: VV | AU144: 2 | AV144: 2 | AW144: True | AX144: 0 | AY144: ROZPOCET
D145: VV | F145: Součet | H145: 377.016 | AT145: VV | AU145: 2 | AV145: 4 | AW145: True | AX145: 1 | AY145: ROZPOCET
C146: 4 | D146: K | E146: 162751117 | F146: Vodorovné přemístění přes 9 000 do 10000 m výkopku/sypaniny z horniny třídy těžitelnosti I skupiny 1 až 3 | G146: m3 | H146: 471.27 | I146: 241.6 | J146: =ROUND(I146*H146,2) -> 113858.83 | N146: základní | O146: 0 | P146: =O146*H146 -> 0 | Q146: 0 | R146: =Q146*H146 -> 0 | S146: 0 | T146: =S146*H146 -> 0 | AR146: 4 | AT146: K | AU146: 2 | AY146: ROZPOCET | BE146: =IF(N146="základní",J146,0) -> 113858.83 | BF146: =IF(N146="snížená",J146,0) -> 0 | BG146: =IF(N146="zákl. přenesená",J146,0) -> 0 | BH146: =IF(N146="sníž. přenesená",J146,0) -> 0 | BI146: =IF(N146="nulová",J146,0) -> 0 | BJ146: 1 | BK146: =ROUND(I146*H146,2) -> 113858.83 | BL146: 4 | BM146: 637941956
C147: 5 | D147: K | E147: 162751119 | F147: Příplatek k vodorovnému přemístění výkopku/sypaniny z horniny třídy těžitelnosti I skupiny 1 až 3 ZKD 1000 m přes 10000 m | G147: m3 | H147: 4712.7 | I147: 18 | J147: =ROUND(I147*H147,2) -> 84828.6 | N147: základní | O147: 0 | P147: =O147*H147 -> 0 | Q147: 0 | R147: =Q147*H147 -> 0 | S147: 0 | T147: =S147*H147 -> 0 | AR147: 4 | AT147: K | AU147: 2 | AY147: ROZPOCET | BE147: =IF(N147="základní",J147,0) -> 84828.6 | BF147: =IF(N147="snížená",J147,0) -> 0 | BG147: =IF(N147="zákl. přenesená",J147,0) -> 0 | BH147: =IF(N147="sníž. přenesená",J147,0) -> 0 | BI147: =IF(N147="nulová",J147,0) -> 0 | BJ147: 1 | BK147: =ROUND(I147*H147,2) -> 84828.6 | BL147: 4 | BM147: 2138849462
D148: VV | F148: 471,270*(20-10) | H148: 4712.7 | AT148: VV | AU148: 2 | AV148: 2 | AW148: True | AX148: 0 | AY148: ROZPOCET
D149: VV | F149: Součet | H149: 4712.7 | AT149: VV | AU149: 2 | AV149: 4 | AW149: True | AX149: 1 | AY149: ROZPOCET
C150: 6 | D150: K | E150: 171201231 | F150: Poplatek za uložení zeminy a kamení na recyklační skládce (skládkovné) kód odpadu 17 05 04 | G150: t | H150: 895.413 | I150: 273.6 | J150: =ROUND(I150*H150,2) -> 244985 | N150: základní | O150: 0 | P150: =O150*H150 -> 0 | Q150: 0 | R150: =Q150*H150 -> 0 | S150: 0 | T150: =S150*H150 -> 0 | AR150: 4 | AT150: K | AU150: 2 | AY150: ROZPOCET | BE150: =IF(N150="základní",J150,0) -> 244985 | BF150: =IF(N150="snížená",J150,0) -> 0 | BG150: =IF(N150="zákl. přenesená",J150,0) -> 0 | BH150: =IF(N150="sníž. přenesená",J150,0) -> 0 | BI150: =IF(N150="nulová",J150,0) -> 0 | BJ150: 1 | BK150: =ROUND(I150*H150,2) -> 244985 | BL150: 4 | BM150: 1640727216
D151: VV | F151: 471,270*1,9 | H151: 895.413 | AT151: VV | AU151: 2 | AV151: 2 | AW151: True | AX151: 0 | AY151: ROZPOCET
D152: VV | F152: Součet | H152: 895.413 | AT152: VV | AU152: 2 | AV152: 4 | AW152: True | AX152: 1 | AY152: ROZPOCET
D153: D | E153: 5 | F153: Komunikace pozemní | J153: =BK153 -> 455416.68 | P153: =SUM(P154:P159) -> 50.2688 | R153: =SUM(R154:R159) -> 0 | T153: =SUM(T154:T159) -> 0 | AR153: 1 | AT153: D | AU153: 1 | AY153: ROZPOCET | BK153: =SUM(BK154:BK159) -> 455416.68
C154: 7 | D154: K | E154: 564551111 | F154: Zřízení podsypu nebo podkladu ze sypaniny plochy přes 100 m2 tl 150 mm | G154: m2 | H154: 3141.8 | I154: 22.2 | J154: =ROUND(I154*H154,2) -> 69747.96 | K154: CS ÚRS 2025 02 | N154: základní | O154: 0.016 | P154: =O154*H154 -> 50.2688 | Q154: 0 | R154: =Q154*H154 -> 0 | S154: 0 | T154: =S154*H154 -> 0 | AR154: 4 | AT154: K | AU154: 2 | AY154: ROZPOCET | BE154: =IF(N154="základní",J154,0) -> 69747.96 | BF154: =IF(N154="snížená",J154,0) -> 0 | BG154: =IF(N154="zákl. přenesená",J154,0) -> 0 | BH154: =IF(N154="sníž. přenesená",J154,0) -> 0 | BI154: =IF(N154="nulová",J154,0) -> 0 | BJ154: 1 | BK154: =ROUND(I154*H154,2) -> 69747.96 | BL154: 4 | BM154: 1656922512
D155: VV | F155: ((923+548+51,0)+(326*0,15))*2 | H155: 3141.8 | AT155: VV | AU155: 2 | AV155: 2 | AW155: True | AX155: 0 | AY155: ROZPOCET
D156: VV | F156: Součet | H156: 3141.8 | AT156: VV | AU156: 2 | AV156: 4 | AW156: True | AX156: 1 | AY156: ROZPOCET
C157: 8 | D157: M | E157: 58344229 | F157: štěrkodrť frakce 0/125 | G157: t | H157: 966.104 | I157: 399.2 | J157: =ROUND(I157*H157,2) -> 385668.72 | N157: základní | O157: 0 | P157: =O157*H157 -> 0 | Q157: 0 | R157: =Q157*H157 -> 0 | S157: 0 | T157: =S157*H157 -> 0 | AR157: 8 | AT157: M | AU157: 2 | AY157: ROZPOCET | BE157: =IF(N157="základní",J157,0) -> 385668.72 | BF157: =IF(N157="snížená",J157,0) -> 0 | BG157: =IF(N157="zákl. přenesená",J157,0) -> 0 | BH157: =IF(N157="sníž. přenesená",J157,0) -> 0 | BI157: =IF(N157="nulová",J157,0) -> 0 | BJ157: 1 | BK157: =ROUND(I157*H157,2) -> 385668.72 | BL157: 4 | BM157: 346568686
D158: VV | F158: 1570,90*0,3*2,05 | H158: 966.1035 | AT158: VV | AU158: 2 | AV158: 2 | AW158: True | AX158: 0 | AY158: ROZPOCET
D159: VV | F159: Součet | H159: 966.1035 | AT159: VV | AU159: 2 | AV159: 4 | AW159: True | AX159: 1 | AY159: ROZPOCET
D160: D | E160: 9 | F160: Ostatní konstrukce a práce, bourání | J160: =BK160 -> 91237.87 | P160: =SUM(P161:P162) -> 0 | R160: =SUM(R161:R162) -> 0 | T160: =SUM(T161:T162) -> 0 | AR160: 1 | AT160: D | AU160: 1 | AY160: ROZPOCET | BK160: =SUM(BK161:BK162) -> 91237.87
C161: 9 | D161: K | E161: 919726122 | F161: Geotextilie pro ochranu, separaci a filtraci netkaná měrná hm přes 200 do 300 g/m2 | G161: m2 | H161: 1570.9 | I161: 58.08 | J161: =ROUND(I161*H161,2) -> 91237.87 | N161: základní | O161: 0 | P161: =O161*H161 -> 0 | Q161: 0 | R161: =Q161*H161 -> 0 | S161: 0 | T161: =S161*H161 -> 0 | AR161: 4 | AT161: K | AU161: 2 | AY161: ROZPOCET | BE161: =IF(N161="základní",J161,0) -> 91237.87 | BF161: =IF(N161="snížená",J161,0) -> 0 | BG161: =IF(N161="zákl. přenesená",J161,0) -> 0 | BH161: =IF(N161="sníž. přenesená",J161,0) -> 0 | BI161: =IF(N161="nulová",J161,0) -> 0 | BJ161: 1 | BK161: =ROUND(I161*H161,2) -> 91237.87 | BL161: 4 | BM161: -321101057
D162: VV | F162: (923+548+51,0)+(326*0,15) | H162: 1570.9 | AT162: VV | AU162: 2 | AV162: 2 | AW162: True | AX162: 1 | AY162: ROZPOCET
D163: D | E163: 998 | F163: Přesun hmot | J163: =BK163 -> 193993.68 | P163: =SUM(P164:P166) -> 0 | R163: =SUM(R164:R166) -> 0 | T163: =SUM(T164:T166) -> 0 | AR163: 1 | AT163: D | AU163: 1 | AY163: ROZPOCET | BK163: =SUM(BK164:BK166) -> 193993.68
C164: 10 | D164: K | E164: 998223011 | F164: Přesun hmot pro pozemní komunikace s krytem dlážděným | G164: t | H164: 966.104 | I164: 200.8 | J164: =ROUND(I164*H164,2) -> 193993.68 | N164: základní | O164: 0 | P164: =O164*H164 -> 0 | Q164: 0 | R164: =Q164*H164 -> 0 | S164: 0 | T164: =S164*H164 -> 0 | AR164: 4 | AT164: K | AU164: 2 | AY164: ROZPOCET | BE164: =IF(N164="základní",J164,0) -> 193993.68 | BF164: =IF(N164="snížená",J164,0) -> 0 | BG164: =IF(N164="zákl. přenesená",J164,0) -> 0 | BH164: =IF(N164="sníž. přenesená",J164,0) -> 0 | BI164: =IF(N164="nulová",J164,0) -> 0 | BJ164: 1 | BK164: =ROUND(I164*H164,2) -> 193993.68 | BL164: 4 | BM164: -484141894
D165: VV | F165: 1570,90*0,3*2,05 | H165: 966.1035 | AT165: VV | AU165: 2 | AV165: 2 | AW165: True | AX165: 0 | AY165: ROZPOCET
D166: VV | F166: Součet | H166: 966.1035 | AT166: VV | AU166: 2 | AV166: 4 | AW166: True | AX166: 1 | AY166: ROZPOCET
...

Sheet 0123 - Vícepráce - neuzna...
L2: >> skryté sloupce << | AT2: {071a7de9-721f-413d-bbac-82c23d6411dd}
AT3: 2
D4: KRYCÍ LIST SOUPISU PRACÍ | M4: v --- níže se nacházejí doplnkové a pomocné údaje k sestavám --- v | AT4: False
D6: Stavba:
E7: ='Rekapitulace stavby'!K6 -> Dodatek č. 2 - SO 111_B_121_C_121_D
D8: Objekt:
E9: 0123 - Vícepráce - neuznatelné náklady - SO 111.B - Chodníky, nástupiště a vjezdy - náves pravá strana
D11: KSO: | I11: CC-CZ:
D12: Místo: | I12: Datum: | J12: ='Rekapitulace stavby'!AN8 -> 6. 5. 2026
D14: Zadavatel: | I14: IČ: | J14: 00303046
E15: Obec Moravičany | I15: DIČ: | J15: CZ00303046
D17: Zhotovitel: | I17: IČ: | J17: 06390358
E18: Cash trade s.r.o. | I18: DIČ: | J18: CZ06390358
D20: Projektant: | I20: IČ: | J20: 74276361
E21: Atelis - Ateliér liniových staveb | I21: DIČ: | J21: CZ8152217546
D23: Zpracovatel: | I23: IČ: | J23: =IF('Rekapitulace stavby'!AN19="","",'Rekapitulace stavby'!AN19)
E24: =IF('Rekapitulace stavby'!E20="","",'Rekapitulace stavby'!E20) | I24: DIČ: | J24: =IF('Rekapitulace stavby'!AN20="","",'Rekapitulace stavby'!AN20)
D26: Poznámka:
D30: Cena bez DPH | J30: =ROUND(J122, 2) -> 281471.41
F32: Základ daně | I32: Sazba daně | J32: Výše daně
D33: DPH | E33: základní | F33: =ROUND((SUM(BE122:BE145)), 2) -> 281471.41 | I33: 0.21 | J33: =ROUND(((SUM(BE122:BE145))*I33), 2) -> 59109
E34: snížená | F34: =ROUND((SUM(BF122:BF145)), 2) -> 0 | I34: 0.12 | J34: =ROUND(((SUM(BF122:BF145))*I34), 2) -> 0
E35: zákl. přenesená | F35: =ROUND((SUM(BG122:BG145)), 2) -> 0 | I35: 0.21 | J35: =0 -> 0
E36: sníž. přenesená | F36: =ROUND((SUM(BH122:BH145)), 2) -> 0 | I36: 0.12 | J36: =0 -> 0
E37: nulová | F37: =ROUND((SUM(BI122:BI145)), 2) -> 0 | I37: 0 | J37: =0 -> 0
D39: Cena s DPH | G39: v | H39: CZK | J39: =SUM(J30:J37) -> 340580.41
D50: Projektant | G50: Zpracovatel
D61: Datum a podpis: | F61: Razítko | G61: Datum a podpis: | J61: Razítko
D65: Objednavatel | G65: Zhotovitel
D76: Datum a podpis: | F76: Razítko | G76: Datum a podpis: | J76: Razítko
C82: REKAPITULACE ČLENĚNÍ SOUPISU PRACÍ
C84: Stavba:
E85: =E7 -> Dodatek č. 2 - SO 111_B_121_C_121_D
C86: Objekt:
E87: =E9 -> 0123 - Vícepráce - neuznatelné náklady - SO 111.B - Chodníky, nástupiště a vjezdy - náves pravá strana
C89: Místo: | F89: =F12 | I89: Datum: | J89: =IF(J12="","",J12) -> 6. 5. 2026
C91: Zadavatel: | F91: =E15 -> Obec Moravičany | I91: Projektant: | J91: =E21 -> Atelis - Ateliér liniových staveb
C92: Zhotovitel: | F92: =IF(E18="","",E18) -> Cash trade s.r.o. | I92: Zpracovatel: | J92: =E24
C94: Kód dílu - Popis | J94: Cena celkem [CZK]
C96: Náklady ze soupisu prací | J96: =J122 -> 281471.41 | AU96: -1
D97: 1 - Sanace pod podélné parkování | J97: =J123 -> 281471.41
D98: 1 - Sanace pod podélné parkování | J98: =J124 -> 124250.44
D99: 5 - Komunikace pozemní | J99: =J135 -> 89572.4
D100: 9 - Ostatní konstrukce a práce, bourání | J100: =J142 -> 27982.94
D101: 998 - Přesun hmot | J101: =J144 -> 39665.63
D102: 2 - Oprava silničních obrubníků ve vjezdech | J102: =#REF! -> #REF!
C109: SOUPIS PRACÍ
C111: Stavba:
E112: =E7 -> Dodatek č. 2 - SO 111_B_121_C_121_D
C113: Objekt:
E114: =E9 -> 0123 - Vícepráce - neuznatelné náklady - SO 111.B - Chodníky, nástupiště a vjezdy - náves pravá strana
C116: Místo: | F116: =F12 | I116: Datum: | J116: =IF(J12="","",J12) -> 6. 5. 2026
C118: Zadavatel: | F118: =E15 -> Obec Moravičany | I118: Projektant: | J118: =E21 -> Atelis - Ateliér liniových staveb
C119: Zhotovitel: | F119: =IF(E18="","",E18) -> Cash trade s.r.o. | I119: Zpracovatel: | J119: =E24
C121: PČ | D121: Typ | E121: Kód | F121: Popis | G121: MJ | H121: Množství | I121: J.cena [CZK] | J121: Cena celkem [CZK] | K121: Cenová soustava | N121: DPH | O121: J. Nh [h] | P121: Nh celkem [h] | Q121: J. hmotnost [t] | R121: Hmotnost celkem [t] | S121: J. suť [t] | T121: Suť Celkem [t]
C122: Náklady soupisu celkem | J122: =J123 -> 281471.41 | P122: =P123+#REF! -> #REF! | R122: =R123+#REF! -> #REF! | T122: =T123+#REF! -> #REF! | AT122: D | AU122: -1 | BK122: =BK123+#REF! -> #REF!
D123: D | E123: 1 | F123: Sanace pod podélné parkování | J123: =BK123 -> 281471.41 | P123: =P124+P135+P142+P144 -> 0 | R123: =R124+R135+R142+R144 -> 0 | T123: =T124+T135+T142+T144 -> 0 | AR123: 1 | AT123: D | AU123: 0 | AY123: ROZPOCET | BK123: =BK124+BK135+BK142+BK144 -> 281471.41
D124: D | E124: 1 | F124: Sanace pod podélné parkování | J124: =BK124 -> 124250.44 | P124: =SUM(P125:P134) -> 0 | R124: =SUM(R125:R134) -> 0 | T124: =SUM(T125:T134) -> 0 | AR124: 1 | AT124: D | AU124: 1 | AY124: ROZPOCET | BK124: =SUM(BK125:BK134) -> 124250.44
C125: 37 | D125: K | E125: 122452206 | F125: Odkopávky a prokopávky nezapažené pro silnice a dálnice v hornině třídy těžitelnosti II objem do 5000 m3 strojně | G125: m3 | H125: 96.36 | I125: 348 | J125: =ROUND(I125*H125,2) -> 33533.28 | N125: základní | O125: 0 | P125: =O125*H125 -> 0 | Q125: 0 | R125: =Q125*H125 -> 0 | S125: 0 | T125: =S125*H125 -> 0 | AR125: 4 | AT125: K | AU125: 2 | AY125: ROZPOCET | BE125: =IF(N125="základní",J125,0) -> 33533.28 | BF125: =IF(N125="snížená",J125,0) -> 0 | BG125: =IF(N125="zákl. přenesená",J125,0) -> 0 | BH125: =IF(N125="sníž. přenesená",J125,0) -> 0 | BI125: =IF(N125="nulová",J125,0) -> 0 | BJ125: 1 | BK125: =ROUND(I125*H125,2) -> 33533.28 | BL125: 4 | BM125: 91815017
D126: VV | F126: 438*1,10*0,20 | H126: 96.36 | AT126: VV | AU126: 2 | AV126: 2 | AW126: True | AX126: 0 | AY126: ROZPOCET
D127: VV | F127: Součet | H127: 96.36 | AT127: VV | AU127: 2 | AV127: 4 | AW127: True | AX127: 1 | AY127: ROZPOCET
C128: 38 | D128: K | E128: 162751117 | F128: Vodorovné přemístění přes 9 000 do 10000 m výkopku/sypaniny z horniny třídy těžitelnosti I skupiny 1 až 3 | G128: m3 | H128: 96.36 | I128: 241.6 | J128: =ROUND(I128*H128,2) -> 23280.58 | N128: základní | O128: 0 | P128: =O128*H128 -> 0 | Q128: 0 | R128: =Q128*H128 -> 0 | S128: 0 | T128: =S128*H128 -> 0 | AR128: 4 | AT128: K | AU128: 2 | AY128: ROZPOCET | BE128: =IF(N128="základní",J128,0) -> 23280.58 | BF128: =IF(N128="snížená",J128,0) -> 0 | BG128: =IF(N128="zákl. přenesená",J128,0) -> 0 | BH128: =IF(N128="sníž. přenesená",J128,0) -> 0 | BI128: =IF(N128="nulová",J128,0) -> 0 | BJ128: 1 | BK128: =ROUND(I128*H128,2) -> 23280.58 | BL128: 4 | BM128: 2111362734
C129: 39 | D129: K | E129: 162751119 | F129: Příplatek k vodorovnému přemístění výkopku/sypaniny z horniny třídy těžitelnosti I skupiny 1 až 3 ZKD 1000 m přes 10000 m | G129: m3 | H129: 963.6 | I129: 18 | J129: =ROUND(I129*H129,2) -> 17344.8 | N129: základní | O129: 0 | P129: =O129*H129 -> 0 | Q129: 0 | R129: =Q129*H129 -> 0 | S129: 0 | T129: =S129*H129 -> 0 | AR129: 4 | AT129: K | AU129: 2 | AY129: ROZPOCET | BE129: =IF(N129="základní",J129,0) -> 17344.8 | BF129: =IF(N129="snížená",J129,0) -> 0 | BG129: =IF(N129="zákl. přenesená",J129,0) -> 0 | BH129: =IF(N129="sníž. přenesená",J129,0) -> 0 | BI129: =IF(N129="nulová",J129,0) -> 0 | BJ129: 1 | BK129: =ROUND(I129*H129,2) -> 17344.8 | BL129: 4 | BM129: -1425122464
D130: VV | F130: 96,36*(20-10) | H130: 963.6 | AT130: VV | AU130: 2 | AV130: 2 | AW130: True | AX130: 0 | AY130: ROZPOCET
D131: VV | F131: Součet | H131: 963.6 | AT131: VV | AU131: 2 | AV131: 4 | AW131: True | AX131: 1 | AY131: ROZPOCET
C132: 40 | D132: K | E132: 171201231 | F132: Poplatek za uložení zeminy a kamení na recyklační skládce (skládkovné) kód odpadu 17 05 04 | G132: t | H132: 183.084 | I132: 273.6 | J132: =ROUND(I132*H132,2) -> 50091.78 | N132: základní | O132: 0 | P132: =O132*H132 -> 0 | Q132: 0 | R132: =Q132*H132 -> 0 | S132: 0 | T132: =S132*H132 -> 0 | AR132: 4 | AT132: K | AU132: 2 | AY132: ROZPOCET | BE132: =IF(N132="základní",J132,0) -> 50091.78 | BF132: =IF(N132="snížená",J132,0) -> 0 | BG132: =IF(N132="zákl. přenesená",J132,0) -> 0 | BH132: =IF(N132="sníž. přenesená",J132,0) -> 0 | BI132: =IF(N132="nulová",J132,0) -> 0 | BJ132: 1 | BK132: =ROUND(I132*H132,2) -> 50091.78 | BL132: 4 | BM132: -1757144150
D133: VV | F133: 96,36*1,9 | H133: 183.084 | AT133: VV | AU133: 2 | AV133: 2 | AW133: True | AX133: 0 | AY133: ROZPOCET
D134: VV | F134: Součet | H134: 183.084 | AT134: VV | AU134: 2 | AV134: 4 | AW134: True | AX134: 1 | AY134: ROZPOCET
D135: D | E135: 5 | F135: Komunikace pozemní | J135: =BK135 -> 89572.4 | P135: =SUM(P136:P141) -> 0 | R135: =SUM(R136:R141) -> 0 | T135: =SUM(T136:T141) -> 0 | AR135: 1 | AT135: D | AU135: 1 | AY135: ROZPOCET | BK135: =SUM(BK136:BK141) -> 89572.4
C136: 41 | D136: K | E136: 564561111 | F136: Zřízení podsypu nebo podkladu ze sypaniny plochy přes 100 m2 tl 200 mm | G136: m2 | H136: 481.8 | I136: 22.24 | J136: =ROUND(I136*H136,2) -> 10715.23 | N136: základní | O136: 0 | P136: =O136*H136 -> 0 | Q136: 0 | R136: =Q136*H136 -> 0 | S136: 0 | T136: =S136*H136 -> 0 | AR136: 4 | AT136: K | AU136: 2 | AY136: ROZPOCET | BE136: =IF(N136="základní",J136,0) -> 10715.23 | BF136: =IF(N136="snížená",J136,0) -> 0 | BG136: =IF(N136="zákl. přenesená",J136,0) -> 0 | BH136: =IF(N136="sníž. přenesená",J136,0) -> 0 | BI136: =IF(N136="nulová",J136,0) -> 0 | BJ136: 1 | BK136: =ROUND(I136*H136,2) -> 10715.23 | BL136: 4 | BM136: 1315913087
D137: VV | F137: 438,0*1,10 | H137: 481.8 | AT137: VV | AU137: 2 | AV137: 2 | AW137: True | AX137: 0 | AY137: ROZPOCET
D138: VV | F138: Součet | H138: 481.8 | AT138: VV | AU138: 2 | AV138: 4 | AW138: True | AX138: 1 | AY138: ROZPOCET
C139: 42 | D139: M | E139: 58344229 | F139: štěrkodrť frakce 0/125 | G139: t | H139: 197.538 | I139: 399.2 | J139: =ROUND(I139*H139,2) -> 78857.17 | N139: základní | O139: 0 | P139: =O139*H139 -> 0 | Q139: 0 | R139: =Q139*H139 -> 0 | S139: 0 | T139: =S139*H139 -> 0 | AR139: 8 | AT139: M | AU139: 2 | AY139: ROZPOCET | BE139: =IF(N139="základní",J139,0) -> 78857.17 | BF139: =IF(N139="snížená",J139,0) -> 0 | BG139: =IF(N139="zákl. přenesená",J139,0) -> 0 | BH139: =IF(N139="sníž. přenesená",J139,0) -> 0 | BI139: =IF(N139="nulová",J139,0) -> 0 | BJ139: 1 | BK139: =ROUND(I139*H139,2) -> 78857.17 | BL139: 4 | BM139: 1238155796
D140: VV | F140: 481,80*0,20*2,05 | H140: 197.538 | AT140: VV | AU140: 2 | AV140: 2 | AW140: True | AX140: 0 | AY140: ROZPOCET
D141: VV | F141: Součet | H141: 197.538 | AT141: VV | AU141: 2 | AV141: 4 | AW141: True | AX141: 1 | AY141: ROZPOCET
D142: D | E142: 9 | F142: Ostatní konstrukce a práce, bourání | J142: =BK142 -> 27982.94 | P142: =P143 -> 0 | R142: =R143 -> 0 | T142: =T143 -> 0 | AR142: 1 | AT142: D | AU142: 1 | AY142: ROZPOCET | BK142: =BK143 -> 27982.94
C143: 47 | D143: K | E143: 919726122 | F143: Geotextilie pro ochranu, separaci a filtraci netkaná měrná hm přes 200 do 300 g/m2 | G143: m2 | H143: 481.8 | I143: 58.08 | J143: =ROUND(I143*H143,2) -> 27982.94 | N143: základní | O143: 0 | P143: =O143*H143 -> 0 | Q143: 0 | R143: =Q143*H143 -> 0 | S143: 0 | T143: =S143*H143 -> 0 | AR143: 4 | AT143: K | AU143: 2 | AY143: ROZPOCET | BE143: =IF(N143="základní",J143,0) -> 27982.94 | BF143: =IF(N143="snížená",J143,0) -> 0 | BG143: =IF(N143="zákl. přenesená",J143,0) -> 0 | BH143: =IF(N143="sníž. přenesená",J143,0) -> 0 | BI143: =IF(N143="nulová",J143,0) -> 0 | BJ143: 1 | BK143: =ROUND(I143*H143,2) -> 27982.94 | BL143: 4 | BM143: 1952181835
D144: D | E144: 998 | F144: Přesun hmot | J144: =BK144 -> 39665.63 | P144: =P145 -> 0 | R144: =R145 -> 0 | T144: =T145 -> 0 | AR144: 1 | AT144: D | AU144: 1 | AY144: ROZPOCET | BK144: =BK145 -> 39665.63
C145: 48 | D145: K | E145: 998223011 | F145: Přesun hmot pro pozemní komunikace s krytem dlážděným | G145: t | H145: 197.538 | I145: 200.8 | J145: =ROUND(I145*H145,2) -> 39665.63 | N145: základní | O145: 0 | P145: =O145*H145 -> 0 | Q145: 0 | R145: =Q145*H145 -> 0 | S145: 0 | T145: =S145*H145 -> 0 | AR145: 4 | AT145: K | AU145: 2 | AY145: ROZPOCET | BE145: =IF(N145="základní",J145,0) -> 39665.63 | BF145: =IF(N145="snížená",J145,0) -> 0 | BG145: =IF(N145="zákl. přenesená",J145,0) -> 0 | BH145: =IF(N145="sníž. přenesená",J145,0) -> 0 | BI145: =IF(N145="nulová",J145,0) -> 0 | BJ145: 1 | BK145: =ROUND(I145*H145,2) -> 39665.63 | BL145: 4 | BM145: -1236060245

Sheet M0112 - Méněpráce - uznat...
L2: >> skryté sloupce << | AT2: {700322cd-fa44-4249-b8e5-6b0a29cb4ea1}
AT3: 2
D4: KRYCÍ LIST SOUPISU PRACÍ | M4: v --- níže se nacházejí doplnkové a pomocné údaje k sestavám --- v | AT4: False
D6: Stavba:
E7: ='Rekapitulace stavby'!K6 -> Dodatek č. 2 - SO 111_B_121_C_121_D
D8: Objekt:
E9: M0112 - Méněpráce - uznatelné náklady - SO 111.B Chodníky, nástupiště a vjezdy - náves pravá strana
D11: KSO: | I11: CC-CZ:
D12: Místo: | I12: Datum: | J12: ='Rekapitulace stavby'!AN8 -> 6. 5. 2026
D14: Zadavatel: | I14: IČ: | J14: 00303046
E15: Obec Moravičany | I15: DIČ: | J15: CZ00303046
D17: Zhotovitel: | I17: IČ: | J17: 06390358
E18: Cash trade s.r.o. | I18: DIČ: | J18: CZ06390358
D20: Projektant: | I20: IČ: | J20: 74276361
E21: Atelis - Ateliér liniových staveb | I21: DIČ: | J21: CZ8152217546
D23: Zpracovatel: | I23: IČ: | J23: =IF('Rekapitulace stavby'!AN19="","",'Rekapitulace stavby'!AN19)
E24: =IF('Rekapitulace stavby'!E20="","",'Rekapitulace stavby'!E20) | I24: DIČ: | J24: =IF('Rekapitulace stavby'!AN20="","",'Rekapitulace stavby'!AN20)
D26: Poznámka:
D30: Cena bez DPH | J30: =ROUND(J122, 2) -> -242795.51
F32: Základ daně | I32: Sazba daně | J32: Výše daně
D33: DPH | E33: základní | F33: =ROUND((SUM(BE122:BE153)), 2) -> -242795.51 | I33: 0.21 | J33: =ROUND(((SUM(BE122:BE153))*I33), 2) -> -50987.06
E34: snížená | F34: =ROUND((SUM(BF122:BF153)), 2) -> 0 | I34: 0.12 | J34: =ROUND(((SUM(BF122:BF153))*I34), 2) -> 0
E35: zákl. přenesená | F35: =ROUND((SUM(BG122:BG153)), 2) -> 0 | I35: 0.21 | J35: =0 -> 0
E36: sníž. přenesená | F36: =ROUND((SUM(BH122:BH153)), 2) -> 0 | I36: 0.12 | J36: =0 -> 0
E37: nulová | F37: =ROUND((SUM(BI122:BI153)), 2) -> 0 | I37: 0 | J37: =0 -> 0
D39: Cena s DPH | G39: v | H39: CZK | J39: =SUM(J30:J37) -> -293782.57
D50: Projektant | G50: Zpracovatel
D61: Datum a podpis: | F61: Razítko | G61: Datum a podpis: | J61: Razítko
D65: Objednavatel | G65: Zhotovitel
D76: Datum a podpis: | F76: Razítko | G76: Datum a podpis: | J76: Razítko
C82: REKAPITULACE ČLENĚNÍ SOUPISU PRACÍ
C84: Stavba:
E85: =E7 -> Dodatek č. 2 - SO 111_B_121_C_121_D
C86: Objekt:
E87: =E9 -> M0112 - Méněpráce - uznatelné náklady - SO 111.B Chodníky, nástupiště a vjezdy - náves pravá strana
C89: Místo: | F89: =F12 | I89: Datum: | J89: =IF(J12="","",J12) -> 6. 5. 2026
C91: Zadavatel: | F91: =E15 -> Obec Moravičany | I91: Projektant: | J91: =E21 -> Atelis - Ateliér liniových staveb
C92: Zhotovitel: | F92: =IF(E18="","",E18) -> Cash trade s.r.o. | I92: Zpracovatel: | J92: =E24
C94: Kód dílu - Popis | J94: Cena celkem [CZK]
C96: Náklady ze soupisu prací | J96: =J122 -> -242795.51 | AU96: -1
D97: 1 - Dodání vlastní žulové kostky 12/12/12 obcí (MPC) | J97: =J123 -> -90160
D98: 2 - Dodatečná sanace | J98: =J125 -> -149420.35
D99: 1 - Dodání vlastní žulové kostky 12/12/12 obcí (MPC) | J99: =J126 -> -73240.19
D100: 5 - Komunikace pozemní | J100: =J138 -> -52799.01
D101: 998 - Přesun hmot | J101: =J148 -> -23381.15
D102: 3 - Dopravní značení | J102: =J150 -> -3215.16
C109: SOUPIS PRACÍ
C111: Stavba:
E112: =E7 -> Dodatek č. 2 - SO 111_B_121_C_121_D
C113: Objekt:
E114: =E9 -> M0112 - Méněpráce - uznatelné náklady - SO 111.B Chodníky, nástupiště a vjezdy - náves pravá strana
C116: Místo: | F116: =F12 | I116: Datum: | J116: =IF(J12="","",J12) -> 6. 5. 2026
C118: Zadavatel: | F118: =E15 -> Obec Moravičany | I118: Projektant: | J118: =E21 -> Atelis - Ateliér liniových staveb
C119: Zhotovitel: | F119: =IF(E18="","",E18) -> Cash trade s.r.o. | I119: Zpracovatel: | J119: =E24
C121: PČ | D121: Typ | E121: Kód | F121: Popis | G121: MJ | H121: Množství | I121: J.cena [CZK] | J121: Cena celkem [CZK] | K121: Cenová soustava | N121: DPH | O121: J. Nh [h] | P121: Nh celkem [h] | Q121: J. hmotnost [t] | R121: Hmotnost celkem [t] | S121: J. suť [t] | T121: Suť Celkem [t]
C122: Náklady soupisu celkem | J122: =BK122 -> -242795.51 | P122: =P123+P125+P150 -> 0 | R122: =R123+R125+R150 -> -71.484 | T122: =T123+T125+T150 -> 0 | AT122: D | AU122: -1 | BK122: =BK123+BK125+BK150 -> -242795.51
D123: D | E123: 1 | F123: Dodání vlastní žulové kostky 12/12/12 obcí (MPC) | J123: =BK123 -> -90160 | P123: =P124 -> 0 | R123: =R124 -> -71.484 | T123: =T124 -> 0 | AR123: 1 | AT123: D | AU123: 0 | AY123: ROZPOCET | BK123: =BK124 -> -90160
C124: 1 | D124: M | E124: 58381007R | F124: kostka štípaná dlažební žula drobná 12/12/12 | G124: m2 | H124: -322 | I124: 280 | J124: =ROUND(I124*H124,2) -> -90160 | N124: základní | O124: 0 | P124: =O124*H124 -> 0 | Q124: 0.222 | R124: =Q124*H124 -> -71.484 | S124: 0 | T124: =S124*H124 -> 0 | AR124: 8 | AT124: M | AU124: 1 | AY124: ROZPOCET | BE124: =IF(N124="základní",J124,0) -> -90160 | BF124: =IF(N124="snížená",J124,0) -> 0 | BG124: =IF(N124="zákl. přenesená",J124,0) -> 0 | BH124: =IF(N124="sníž. přenesená",J124,0) -> 0 | BI124: =IF(N124="nulová",J124,0) -> 0 | BJ124: 1 | BK124: =ROUND(I124*H124,2) -> -90160 | BL124: 4 | BM124: -521174140
D125: D | E125: 2 | F125: Dodatečná sanace | J125: =BK125 -> -149420.35 | P125: =P126+P138+P148 -> 0 | R125: =R126+R138+R148 -> 0 | T125: =T126+T138+T148 -> 0 | AR125: 1 | AT125: D | AU125: 0 | AY125: ROZPOCET | BK125: =BK126+BK138+BK148 -> -149420.35
D126: D | E126: 1 | F126: Dodání vlastní žulové kostky 12/12/12 obcí (MPC) | J126: =BK126 -> -73240.19 | P126: =SUM(P127:P137) -> 0 | R126: =SUM(R127:R137) -> 0 | T126: =SUM(T127:T137) -> 0 | AR126: 1 | AT126: D | AU126: 1 | AY126: ROZPOCET | BK126: =SUM(BK127:BK137) -> -73240.19
C127: 1 | D127: K | E127: 122452206 | F127: Odkopávky a prokopávky nezapažené pro silnice a dálnice v hornině třídy těžitelnosti II objem do 5000 m3 strojně | G127: m3 | H127: -56.8 | I127: 348 | J127: =ROUND(I127*H127,2) -> -19766.4 | N127: základní | O127: 0 | P127: =O127*H127 -> 0 | Q127: 0 | R127: =Q127*H127 -> 0 | S127: 0 | T127: =S127*H127 -> 0 | AR127: 4 | AT127: K | AU127: 2 | AY127: ROZPOCET | BE127: =IF(N127="základní",J127,0) -> -19766.4 | BF127: =IF(N127="snížená",J127,0) -> 0 | BG127: =IF(N127="zákl. přenesená",J127,0) -> 0 | BH127: =IF(N127="sníž. přenesená",J127,0) -> 0 | BI127: =IF(N127="nulová",J127,0) -> 0 | BJ127: 1 | BK127: =ROUND(I127*H127,2) -> -19766.4 | BL127: 4 | BM127: 1422585484
D128: VV | F128: "výkop pro dodatečnou sanace zemní pláně" | AT128: VV | AU128: 2 | AV128: 1 | AW128: True | AX128: 0 | AY128: ROZPOCET
D129: VV | F129: -142,0*0,40 | H129: -56.8 | AT129: VV | AU129: 2 | AV129: 2 | AW129: True | AX129: 0 | AY129: ROZPOCET
D130: VV | F130: "Součet: -56,8 | AT130: VV | AU130: 2 | AV130: 1 | AW130: True | AX130: 0 | AY130: ROZPOCET
D131: VV | F131: Součet | H131: -56.8 | AT131: VV | AU131: 2 | AV131: 4 | AW131: True | AX131: 1 | AY131: ROZPOCET
C132: 2 | D132: K | E132: 162751117 | F132: Vodorovné přemístění přes 9 000 do 10000 m výkopku/sypaniny z horniny třídy těžitelnosti I skupiny 1 až 3 | G132: m3 | H132: -56.8 | I132: 241.6 | J132: =ROUND(I132*H132,2) -> -13722.88 | N132: základní | O132: 0 | P132: =O132*H132 -> 0 | Q132: 0 | R132: =Q132*H132 -> 0 | S132: 0 | T132: =S132*H132 -> 0 | AR132: 4 | AT132: K | AU132: 2 | AY132: ROZPOCET | BE132: =IF(N132="základní",J132,0) -> -13722.88 | BF132: =IF(N132="snížená",J132,0) -> 0 | BG132: =IF(N132="zákl. přenesená",J132,0) -> 0 | BH132: =IF(N132="sníž. přenesená",J132,0) -> 0 | BI132: =IF(N132="nulová",J132,0) -> 0 | BJ132: 1 | BK132: =ROUND(I132*H132,2) -> -13722.88 | BL132: 4 | BM132: 980473701
C133: 3 | D133: K | E133: 162751119 | F133: Příplatek k vodorovnému přemístění výkopku/sypaniny z horniny třídy těžitelnosti I skupiny 1 až 3 ZKD 1000 m přes 10000 m | G133: m3 | H133: -568 | I133: 18 | J133: =ROUND(I133*H133,2) -> -10224 | N133: základní | O133: 0 | P133: =O133*H133 -> 0 | Q133: 0 | R133: =Q133*H133 -> 0 | S133: 0 | T133: =S133*H133 -> 0 | AR133: 4 | AT133: K | AU133: 2 | AY133: ROZPOCET | BE133: =IF(N133="základní",J133,0) -> -10224 | BF133: =IF(N133="snížená",J133,0) -> 0 | BG133: =IF(N133="zákl. přenesená",J133,0) -> 0 | BH133: =IF(N133="sníž. přenesená",J133,0) -> 0 | BI133: =IF(N133="nulová",J133,0) -> 0 | BJ133: 1 | BK133: =ROUND(I133*H133,2) -> -10224 | BL133: 4 | BM133: -1111915449
C134: 4 | D134: K | E134: 171201231 | F134: Poplatek za uložení zeminy a kamení na recyklační skládce (skládkovné) kód odpadu 17 05 04 | G134: t | H134: -107.92 | I134: 273.6 | J134: =ROUND(I134*H134,2) -> -29526.91 | N134: základní | O134: 0 | P134: =O134*H134 -> 0 | Q134: 0 | R134: =Q134*H134 -> 0 | S134: 0 | T134: =S134*H134 -> 0 | AR134: 4 | AT134: K | AU134: 2 | AY134: ROZPOCET | BE134: =IF(N134="základní",J134,0) -> -29526.91 | BF134: =IF(N134="snížená",J134,0) -> 0 | BG134: =IF(N134="zákl. přenesená",J134,0) -> 0 | BH134: =IF(N134="sníž. přenesená",J134,0) -> 0 | BI134: =IF(N134="nulová",J134,0) -> 0 | BJ134: 1 | BK134: =ROUND(I134*H134,2) -> -29526.91 | BL134: 4 | BM134: 571855570
D135: VV | F135: "viz pol. 162651112" -56,8*1,90 | H135: -107.92 | AT135: VV | AU135: 2 | AV135: 2 | AW135: True | AX135: 0 | AY135: ROZPOCET
D136: VV | F136: "Součet: -107,92 | AT136: VV | AU136: 2 | AV136: 1 | AW136: True | AX136: 0 | AY136: ROZPOCET
D137: VV | F137: Součet | H137: -107.92 | AT137: VV | AU137: 2 | AV137: 4 | AW137: True | AX137: 1 | AY137: ROZPOCET
D138: D | E138: 5 | F138: Komunikace pozemní | J138: =BK138 -> -52799.01 | P138: =SUM(P139:P147) -> 0 | R138: =SUM(R139:R147) -> 0 | T138: =SUM(T139:T147) -> 0 | AR138: 1 | AT138: D | AU138: 1 | AY138: ROZPOCET | BK138: =SUM(BK139:BK147) -> -52799.01
C139: 5 | D139: K | E139: 564561111 | F139: Zřízení podsypu nebo podkladu ze sypaniny plochy přes 100 m2 tl 200 mm | G139: m2 | H139: -284 | I139: 22.24 | J139: =ROUND(I139*H139,2) -> -6316.16 | N139: základní | O139: 0 | P139: =O139*H139 -> 0 | Q139: 0 | R139: =Q139*H139 -> 0 | S139: 0 | T139: =S139*H139 -> 0 | AR139: 4 | AT139: K | AU139: 2 | AY139: ROZPOCET | BE139: =IF(N139="základní",J139,0) -> -6316.16 | BF139: =IF(N139="snížená",J139,0) -> 0 | BG139: =IF(N139="zákl. přenesená",J139,0) -> 0 | BH139: =IF(N139="sníž. přenesená",J139,0) -> 0 | BI139: =IF(N139="nulová",J139,0) -> 0 | BJ139: 1 | BK139: =ROUND(I139*H139,2) -> -6316.16 | BL139: 4 | BM139: -959040675
D140: VV | F140: "dodatečná sanace zemní pláně - lomový kámen fr. 0-125 mm tl. 400 mm" | AT140: VV | AU140: 2 | AV140: 1 | AW140: True | AX140: 0 | AY140: ROZPOCET
D141: VV | F141: -142,0*2 | H141: -284 | AT141: VV | AU141: 2 | AV141: 2 | AW141: True | AX141: 0 | AY141: ROZPOCET
D142: VV | F142: "Součet: -284 | AT142: VV | AU142: 2 | AV142: 1 | AW142: True | AX142: 0 | AY142: ROZPOCET
D143: VV | F143: Součet | H143: -284 | AT143: VV | AU143: 2 | AV143: 4 | AW143: True | AX143: 1 | AY143: ROZPOCET
C144: 6 | D144: M | E144: 58344229 | F144: štěrkodrť frakce 0/125 | G144: t | H144: -116.44 | I144: 399.2 | J144: =ROUND(I144*H144,2) -> -46482.85 | N144: základní | O144: 0 | P144: =O144*H144 -> 0 | Q144: 0 | R144: =Q144*H144 -> 0 | S144: 0 | T144: =S144*H144 -> 0 | AR144: 8 | AT144: M | AU144: 2 | AY144: ROZPOCET | BE144: =IF(N144="základní",J144,0) -> -46482.85 | BF144: =IF(N144="snížená",J144,0) -> 0 | BG144: =IF(N144="zákl. přenesená",J144,0) -> 0 | BH144: =IF(N144="sníž. přenesená",J144,0) -> 0 | BI144: =IF(N144="nulová",J144,0) -> 0 | BJ144: 1 | BK144: =ROUND(I144*H144,2) -> -46482.85 | BL144: 4 | BM144: -1022192650
D145: VV | F145: -284,0*0,20*2,05 | H145: -116.44 | AT145: VV | AU145: 2 | AV145: 2 | AW145: True | AX145: 0 | AY145: ROZPOCET
D146: VV | F146: "Součet: -116,44 | AT146: VV | AU146: 2 | AV146: 1 | AW146: True | AX146: 0 | AY146: ROZPOCET
D147: VV | F147: Součet | H147: -116.44 | AT147: VV | AU147: 2 | AV147: 4 | AW147: True | AX147: 1 | AY147: ROZPOCET
D148: D | E148: 998 | F148: Přesun hmot | J148: =BK148 -> -23381.15 | P148: =P149 -> 0 | R148: =R149 -> 0 | T148: =T149 -> 0 | AR148: 1 | AT148: D | AU148: 1 | AY148: ROZPOCET | BK148: =BK149 -> -23381.15
C149: 7 | D149: K | E149: 998223011 | F149: Přesun hmot pro pozemní komunikace s krytem dlážděným | G149: t | H149: -116.44 | I149: 200.8 | J149: =ROUND(I149*H149,2) -> -23381.15 | N149: základní | O149: 0 | P149: =O149*H149 -> 0 | Q149: 0 | R149: =Q149*H149 -> 0 | S149: 0 | T149: =S149*H149 -> 0 | AR149: 4 | AT149: K | AU149: 2 | AY149: ROZPOCET | BE149: =IF(N149="základní",J149,0) -> -23381.15 | BF149: =IF(N149="snížená",J149,0) -> 0 | BG149: =IF(N149="zákl. přenesená",J149,0) -> 0 | BH149: =IF(N149="sníž. přenesená",J149,0) -> 0 | BI149: =IF(N149="nulová",J149,0) -> 0 | BJ149: 1 | BK149: =ROUND(I149*H149,2) -> -23381.15 | BL149: 4 | BM149: 340835524
D150: D | E150: 3 | F150: Dopravní značení | J150: =BK150 -> -3215.16 | P150: =SUM(P151:P153) -> 0 | R150: =SUM(R151:R153) -> 0 | T150: =SUM(T151:T153) -> 0 | AR150: 1 | AT150: D | AU150: 0 | AY150: ROZPOCET | BK150: =SUM(BK151:BK153) -> -3215.16
C151: 34 | D151: K | E151: 915211111 | F151: Vodorovné dopravní značení dělící čáry souvislé š 125 mm bílý plast | G151: m | H151: -44 | I151: 28.64 | J151: =ROUND(I151*H151,2) -> -1260.16 | K151: CS ÚRS 2023 01 | N151: základní | O151: 0 | P151: =O151*H151 -> 0 | Q151: 0 | R151: =Q151*H151 -> 0 | S151: 0 | T151: =S151*H151 -> 0 | AR151: 4 | AT151: K | AU151: 1 | AY151: ROZPOCET | BE151: =IF(N151="základní",J151,0) -> -1260.16 | BF151: =IF(N151="snížená",J151,0) -> 0 | BG151: =IF(N151="zákl. přenesená",J151,0) -> 0 | BH151: =IF(N151="sníž. přenesená",J151,0) -> 0 | BI151: =IF(N151="nulová",J151,0) -> 0 | BJ151: 1 | BK151: =ROUND(I151*H151,2) -> -1260.16 | BL151: 4 | BM151: 1915722362
C152: 35 | D152: K | E152: 915321115 | F152: Předformátované vodorovné dopravní značení vodící pás pro slabozraké | G152: m | H152: -6 | I152: 280 | J152: =ROUND(I152*H152,2) -> -1680 | K152: CS ÚRS 2023 01 | N152: základní | O152: 0 | P152: =O152*H152 -> 0 | Q152: 0 | R152: =Q152*H152 -> 0 | S152: 0 | T152: =S152*H152 -> 0 | AR152: 4 | AT152: K | AU152: 1 | AY152: ROZPOCET | BE152: =IF(N152="základní",J152,0) -> -1680 | BF152: =IF(N152="snížená",J152,0) -> 0 | BG152: =IF(N152="zákl. přenesená",J152,0) -> 0 | BH152: =IF(N152="sníž. přenesená",J152,0) -> 0 | BI152: =IF(N152="nulová",J152,0) -> 0 | BJ152: 1 | BK152: =ROUND(I152*H152,2) -> -1680 | BL152: 4 | BM152: 585688224
C153: 36 | D153: K | E153: 915611111 | F153: Předznačení vodorovného liniového značení | G153: m | H153: -44 | I153: 6.25 | J153: =ROUND(I153*H153,2) -> -275 | K153: CS ÚRS 2023 01 | N153: základní | O153: 0 | P153: =O153*H153 -> 0 | Q153: 0 | R153: =Q153*H153 -> 0 | S153: 0 | T153: =S153*H153 -> 0 | AR153: 4 | AT153: K | AU153: 1 | AY153: ROZPOCET | BE153: =IF(N153="základní",J153,0) -> -275 | BF153: =IF(N153="snížená",J153,0) -> 0 | BG153: =IF(N153="zákl. přenesená",J153,0) -> 0 | BH153: =IF(N153="sníž. přenesená",J153,0) -> 0 | BI153: =IF(N153="nulová",J153,0) -> 0 | BJ153: 1 | BK153: =ROUND(I153*H153,2) -> -275 | BL153: 4 | BM153: -494885782

Sheet M0123 - Méněpráce - neuzn...
L2: >> skryté sloupce << | AT2: {0fe7ca66-9de6-44aa-9a89-5deda678420a}
AT3: 2
D4: KRYCÍ LIST SOUPISU PRACÍ | M4: v --- níže se nacházejí doplnkové a pomocné údaje k sestavám --- v | AT4: False
D6: Stavba:
E7: ='Rekapitulace stavby'!K6 -> Dodatek č. 2 - SO 111_B_121_C_121_D
D8: Objekt:
E9: M0123 - Méněpráce - neuznatelné náklady - SO 111.B - Chodníky, nástupiště a vjezdy - náves pravá strana
D11: KSO: | I11: CC-CZ:
D12: Místo: | I12: Datum: | J12: ='Rekapitulace stavby'!AN8 -> 6. 5. 2026
D14: Zadavatel: | I14: IČ: | J14: 00303046
E15: Obec Moravičany | I15: DIČ: | J15: CZ00303046
D17: Zhotovitel: | I17: IČ: | J17: 06390358
E18: Cash trade s.r.o. | I18: DIČ: | J18: CZ06390358
D20: Projektant: | I20: IČ: | J20: 74276361
E21: Atelis - Ateliér liniových staveb | I21: DIČ: | J21: CZ8152217546
D23: Zpracovatel: | I23: IČ: | J23: =IF('Rekapitulace stavby'!AN19="","",'Rekapitulace stavby'!AN19)
E24: =IF('Rekapitulace stavby'!E20="","",'Rekapitulace stavby'!E20) | I24: DIČ: | J24: =IF('Rekapitulace stavby'!AN20="","",'Rekapitulace stavby'!AN20)
D26: Poznámka:
D30: Cena bez DPH | J30: =ROUND(J122, 2) -> -424581.07
F32: Základ daně | I32: Sazba daně | J32: Výše daně
D33: DPH | E33: základní | F33: =ROUND((SUM(BE122:BE171)), 2) -> -424581.07 | I33: 0.21 | J33: =ROUND(((SUM(BE122:BE171))*I33), 2) -> -89162.02
E34: snížená | F34: =ROUND((SUM(BF122:BF171)), 2) -> 0 | I34: 0.12 | J34: =ROUND(((SUM(BF122:BF171))*I34), 2) -> 0
E35: zákl. přenesená | F35: =ROUND((SUM(BG122:BG171)), 2) -> 0 | I35: 0.21 | J35: =0 -> 0
E36: sníž. přenesená | F36: =ROUND((SUM(BH122:BH171)), 2) -> 0 | I36: 0.12 | J36: =0 -> 0
E37: nulová | F37: =ROUND((SUM(BI122:BI171)), 2) -> 0 | I37: 0 | J37: =0 -> 0
D39: Cena s DPH | G39: v | H39: CZK | J39: =SUM(J30:J37) -> -513743.09
D50: Projektant | G50: Zpracovatel
D61: Datum a podpis: | F61: Razítko | G61: Datum a podpis: | J61: Razítko
D65: Objednavatel | G65: Zhotovitel
D76: Datum a podpis: | F76: Razítko | G76: Datum a podpis: | J76: Razítko
C82: REKAPITULACE ČLENĚNÍ SOUPISU PRACÍ
C84: Stavba:
E85: =E7 -> Dodatek č. 2 - SO 111_B_121_C_121_D
C86: Objekt:
E87: =E9 -> M0123 - Méněpráce - neuznatelné náklady - SO 111.B - Chodníky, nástupiště a vjezdy - náves pravá strana
C89: Místo: | F89: =F12 | I89: Datum: | J89: =IF(J12="","",J12) -> 6. 5. 2026
C91: Zadavatel: | F91: =E15 -> Obec Moravičany | I91: Projektant: | J91: =E21 -> Atelis - Ateliér liniových staveb
C92: Zhotovitel: | F92: =IF(E18="","",E18) -> Cash trade s.r.o. | I92: Zpracovatel: | J92: =E24
C94: Kód dílu - Popis | J94: Cena celkem [CZK]
C96: Náklady ze soupisu prací | J96: =J122 -> -424581.07 | AU96: -1
D97: 1 - Autobusový přístřešek | J97: =J123 -> -143389.2
D98: 1 - Autobusový přístřešek | J98: =J124 -> -3441.2
D99: 5 - Komunikace pozemní | J99: =J139 -> -14748
D100: 9 - Ostatní konstrukce a práce, bourání | J100: =J145 -> -125200
D101: 2 - Výsadba | J101: =J147 -> -273654.27
D102: 3 - Ocelová trubka pro vánoční strom + základ | J102: =J168 -> -7537.6
C109: SOUPIS PRACÍ
C111: Stavba:
E112: =E7 -> Dodatek č. 2 - SO 111_B_121_C_121_D
C113: Objekt:
E114: =E9 -> M0123 - Méněpráce - neuznatelné náklady - SO 111.B - Chodníky, nástupiště a vjezdy - náves pravá strana
C116: Místo: | F116: =F12 | I116: Datum: | J116: =IF(J12="","",J12) -> 6. 5. 2026
C118: Zadavatel: | F118: =E15 -> Obec Moravičany | I118: Projektant: | J118: =E21 -> Atelis - Ateliér liniových staveb
C119: Zhotovitel: | F119: =IF(E18="","",E18) -> Cash trade s.r.o. | I119: Zpracovatel: | J119: =E24
C121: PČ | D121: Typ | E121: Kód | F121: Popis | G121: MJ | H121: Množství | I121: J.cena [CZK] | J121: Cena celkem [CZK] | K121: Cenová soustava | N121: DPH | O121: J. Nh [h] | P121: Nh celkem [h] | Q121: J. hmotnost [t] | R121: Hmotnost celkem [t] | S121: J. suť [t] | T121: Suť Celkem [t]
C122: Náklady soupisu celkem | J122: =BK122 -> -424581.07 | P122: =P123+P147+P168 -> 0 | R122: =R123+R147+R168 -> 0 | T122: =T123+T147+T168 -> 0 | AT122: D | AU122: -1 | BK122: =BK123+BK147+BK168 -> -424581.07
D123: D | E123: 1 | F123: Autobusový přístřešek | J123: =BK123 -> -143389.2 | P123: =P124+P139+P145 -> 0 | R123: =R124+R139+R145 -> 0 | T123: =T124+T139+T145 -> 0 | AR123: 1 | AT123: D | AU123: 0 | AY123: ROZPOCET | BK123: =BK124+BK139+BK145 -> -143389.2
D124: D | E124: 1 | F124: Autobusový přístřešek | J124: =BK124 -> -3441.2 | P124: =SUM(P125:P138) -> 0 | R124: =SUM(R125:R138) -> 0 | T124: =SUM(T125:T138) -> 0 | AR124: 1 | AT124: D | AU124: 1 | AY124: ROZPOCET | BK124: =SUM(BK125:BK138) -> -3441.2
C125: 1 | D125: K | E125: 121151123 | F125: Sejmutí ornice plochy přes 500 m2 tl vrstvy do 200 mm strojně | G125: m2 | H125: -10 | I125: 12 | J125: =ROUND(I125*H125,2) -> -120 | N125: základní | O125: 0 | P125: =O125*H125 -> 0 | Q125: 0 | R125: =Q125*H125 -> 0 | S125: 0 | T125: =S125*H125 -> 0 | AR125: 4 | AT125: K | AU125: 2 | AY125: ROZPOCET | BE125: =IF(N125="základní",J125,0) -> -120 | BF125: =IF(N125="snížená",J125,0) -> 0 | BG125: =IF(N125="zákl. přenesená",J125,0) -> 0 | BH125: =IF(N125="sníž. přenesená",J125,0) -> 0 | BI125: =IF(N125="nulová",J125,0) -> 0 | BJ125: 1 | BK125: =ROUND(I125*H125,2) -> -120 | BL125: 4 | BM125: -1446595214
D126: VV | F126: -10 | H126: -10 | AT126: VV | AU126: 2 | AV126: 2 | AW126: True | AX126: 0 | AY126: ROZPOCET
D127: VV | F127: Součet | H127: -10 | AT127: VV | AU127: 2 | AV127: 4 | AW127: True | AX127: 1 | AY127: ROZPOCET
C128: 2 | D128: K | E128: 122452206 | F128: Odkopávky a prokopávky nezapažené pro silnice a dálnice v hornině třídy těžitelnosti II objem do 5000 m3 strojně | G128: m3 | H128: -2.5 | I128: 348 | J128: =ROUND(I128*H128,2) -> -870 | N128: základní | O128: 0 | P128: =O128*H128 -> 0 | Q128: 0 | R128: =Q128*H128 -> 0 | S128: 0 | T128: =S128*H128 -> 0 | AR128: 4 | AT128: K | AU128: 2 | AY128: ROZPOCET | BE128: =IF(N128="základní",J128,0) -> -870 | BF128: =IF(N128="snížená",J128,0) -> 0 | BG128: =IF(N128="zákl. přenesená",J128,0) -> 0 | BH128: =IF(N128="sníž. přenesená",J128,0) -> 0 | BI128: =IF(N128="nulová",J128,0) -> 0 | BJ128: 1 | BK128: =ROUND(I128*H128,2) -> -870 | BL128: 4 | BM128: 120614692
D129: VV | F129: -10*0,25 | H129: -2.5 | AT129: VV | AU129: 2 | AV129: 2 | AW129: True | AX129: 0 | AY129: ROZPOCET
D130: VV | F130: Součet | H130: -2.5 | AT130: VV | AU130: 2 | AV130: 4 | AW130: True | AX130: 1 | AY130: ROZPOCET
C131: 3 | D131: K | E131: 162451106 | F131: Vodorovné přemístění přes 1 500 do 2000 m výkopku/sypaniny z horniny třídy těžitelnosti I skupiny 1 až 3 | G131: m3 | H131: -1 | I131: 97.6 | J131: =ROUND(I131*H131,2) -> -97.6 | N131: základní | O131: 0 | P131: =O131*H131 -> 0 | Q131: 0 | R131: =Q131*H131 -> 0 | S131: 0 | T131: =S131*H131 -> 0 | AR131: 4 | AT131: K | AU131: 2 | AY131: ROZPOCET | BE131: =IF(N131="základní",J131,0) -> -97.6 | BF131: =IF(N131="snížená",J131,0) -> 0 | BG131: =IF(N131="zákl. přenesená",J131,0) -> 0 | BH131: =IF(N131="sníž. přenesená",J131,0) -> 0 | BI131: =IF(N131="nulová",J131,0) -> 0 | BJ131: 1 | BK131: =ROUND(I131*H131,2) -> -97.6 | BL131: 4 | BM131: -569526219
D132: VV | F132: -10*0,1 | H132: -1 | AT132: VV | AU132: 2 | AV132: 2 | AW132: True | AX132: 0 | AY132: ROZPOCET
D133: VV | F133: Součet | H133: -1 | AT133: VV | AU133: 2 | AV133: 4 | AW133: True | AX133: 1 | AY133: ROZPOCET
C134: 4 | D134: K | E134: 162751117 | F134: Vodorovné přemístění přes 9 000 do 10000 m výkopku/sypaniny z horniny třídy těžitelnosti I skupiny 1 až 3 | G134: m3 | H134: -2.5 | I134: 241.6 | J134: =ROUND(I134*H134,2) -> -604 | N134: základní | O134: 0 | P134: =O134*H134 -> 0 | Q134: 0 | R134: =Q134*H134 -> 0 | S134: 0 | T134: =S134*H134 -> 0 | AR134: 4 | AT134: K | AU134: 2 | AY134: ROZPOCET | BE134: =IF(N134="základní",J134,0) -> -604 | BF134: =IF(N134="snížená",J134,0) -> 0 | BG134: =IF(N134="zákl. přenesená",J134,0) -> 0 | BH134: =IF(N134="sníž. přenesená",J134,0) -> 0 | BI134: =IF(N134="nulová",J134,0) -> 0 | BJ134: 1 | BK134: =ROUND(I134*H134,2) -> -604 | BL134: 4 | BM134: 1818614122
C135: 5 | D135: K | E135: 162751119 | F135: Příplatek k vodorovnému přemístění výkopku/sypaniny z horniny třídy těžitelnosti I skupiny 1 až 3 ZKD 1000 m přes 10000 m | G135: m3 | H135: -25 | I135: 18 | J135: =ROUND(I135*H135,2) -> -450 | N135: základní | O135: 0 | P135: =O135*H135 -> 0 | Q135: 0 | R135: =Q135*H135 -> 0 | S135: 0 | T135: =S135*H135 -> 0 | AR135: 4 | AT135: K | AU135: 2 | AY135: ROZPOCET | BE135: =IF(N135="základní",J135,0) -> -450 | BF135: =IF(N135="snížená",J135,0) -> 0 | BG135: =IF(N135="zákl. přenesená",J135,0) -> 0 | BH135: =IF(N135="sníž. přenesená",J135,0) -> 0 | BI135: =IF(N135="nulová",J135,0) -> 0 | BJ135: 1 | BK135: =ROUND(I135*H135,2) -> -450 | BL135: 4 | BM135: 27305790
C136: 6 | D136: K | E136: 171201231 | F136: Poplatek za uložení zeminy a kamení na recyklační skládce (skládkovné) kód odpadu 17 05 04 | G136: t | H136: -4.75 | I136: 273.6 | J136: =ROUND(I136*H136,2) -> -1299.6 | N136: základní | O136: 0 | P136: =O136*H136 -> 0 | Q136: 0 | R136: =Q136*H136 -> 0 | S136: 0 | T136: =S136*H136 -> 0 | AR136: 4 | AT136: K | AU136: 2 | AY136: ROZPOCET | BE136: =IF(N136="základní",J136,0) -> -1299.6 | BF136: =IF(N136="snížená",J136,0) -> 0 | BG136: =IF(N136="zákl. přenesená",J136,0) -> 0 | BH136: =IF(N136="sníž. přenesená",J136,0) -> 0 | BI136: =IF(N136="nulová",J136,0) -> 0 | BJ136: 1 | BK136: =ROUND(I136*H136,2) -> -1299.6 | BL136: 4 | BM136: -323851449
D137: VV | F137: -2,50*1,9 | H137: -4.75 | AT137: VV | AU137: 2 | AV137: 2 | AW137: True | AX137: 0 | AY137: ROZPOCET
D138: VV | F138: Součet | H138: -4.75 | AT138: VV | AU138: 2 | AV138: 4 | AW138: True | AX138: 1 | AY138: ROZPOCET
D139: D | E139: 5 | F139: Komunikace pozemní | J139: =BK139 -> -14748 | P139: =SUM(P140:P144) -> 0 | R139: =SUM(R140:R144) -> 0 | T139: =SUM(T140:T144) -> 0 | AR139: 1 | AT139: D | AU139: 1 | AY139: ROZPOCET | BK139: =SUM(BK140:BK144) -> -14748
C140: 9 | D140: K | E140: 564861111 | F140: Podklad ze štěrkodrtě ŠD plochy přes 100 m2 tl 200 mm | G140: m2 | H140: -10 | I140: 214.4 | J140: =ROUND(I140*H140,2) -> -2144 | N140: základní | O140: 0 | P140: =O140*H140 -> 0 | Q140: 0 | R140: =Q140*H140 -> 0 | S140: 0 | T140: =S140*H140 -> 0 | AR140: 4 | AT140: K | AU140: 2 | AY140: ROZPOCET | BE140: =IF(N140="základní",J140,0) -> -2144 | BF140: =IF(N140="snížená",J140,0) -> 0 | BG140: =IF(N140="zákl. přenesená",J140,0) -> 0 | BH140: =IF(N140="sníž. přenesená",J140,0) -> 0 | BI140: =IF(N140="nulová",J140,0) -> 0 | BJ140: 1 | BK140: =ROUND(I140*H140,2) -> -2144 | BL140: 4 | BM140: 708831729
C141: 10 | D141: K | E141: 591412111 | F141: Kladení dlažby z mozaiky dvou a vícebarevné komunikací pro pěší lože z kameniva | G141: m2 | H141: -10 | I141: 816 | J141: =ROUND(I141*H141,2) -> -8160 | N141: základní | O141: 0 | P141: =O141*H141 -> 0 | Q141: 0 | R141: =Q141*H141 -> 0 | S141: 0 | T141: =S141*H141 -> 0 | AR141: 4 | AT141: K | AU141: 2 | AY141: ROZPOCET | BE141: =IF(N141="základní",J141,0) -> -8160 | BF141: =IF(N141="snížená",J141,0) -> 0 | BG141: =IF(N141="zákl. přenesená",J141,0) -> 0 | BH141: =IF(N141="sníž. přenesená",J141,0) -> 0 | BI141: =IF(N141="nulová",J141,0) -> 0 | BJ141: 1 | BK141: =ROUND(I141*H141,2) -> -8160 | BL141: 4 | BM141: 394409716
C142: 11 | D142: M | E142: 583810-R1 | F142: kostka dlažební mozaika žula 6/6/6 tř 1, černá | G142: m2 | H142: -10.1 | I142: 440 | J142: =ROUND(I142*H142,2) -> -4444 | N142: základní | O142: 0 | P142: =O142*H142 -> 0 | Q142: 0 | R142: =Q142*H142 -> 0 | S142: 0 | T142: =S142*H142 -> 0 | AR142: 8 | AT142: M | AU142: 2 | AY142: ROZPOCET | BE142: =IF(N142="základní",J142,0) -> -4444 | BF142: =IF(N142="snížená",J142,0) -> 0 | BG142: =IF(N142="zákl. přenesená",J142,0) -> 0 | BH142: =IF(N142="sníž. přenesená",J142,0) -> 0 | BI142: =IF(N142="nulová",J142,0) -> 0 | BJ142: 1 | BK142: =ROUND(I142*H142,2) -> -4444 | BL142: 4 | BM142: 1342901461
D143: VV | F143: -10*1,01 | H143: -10.1 | AT143: VV | AU143: 2 | AV143: 2 | AW143: True | AX143: 0 | AY143: ROZPOCET
D144: VV | F144: Součet | H144: -10.1 | AT144: VV | AU144: 2 | AV144: 4 | AW144: True | AX144: 1 | AY144: ROZPOCET
D145: D | E145: 9 | F145: Ostatní konstrukce a práce, bourání | J145: =BK145 -> -125200 | P145: =P146 -> 0 | R145: =R146 -> 0 | T145: =T146 -> 0 | AR145: 1 | AT145: D | AU145: 1 | AY145: ROZPOCET | BK145: =BK146 -> -125200
C146: 13 | D146: K | E146: 967-R-35 | F146: Přístřešek autobusové zastávky 4,220 x 1,850 m - s bočnicemi, včetně základové konstrukce a kotvení - kompletní provedení, dodávka a montáž | G146: kus | H146: -1 | I146: 125200 | J146: =ROUND(I146*H146,2) -> -125200 | N146: základní | O146: 0 | P146: =O146*H146 -> 0 | Q146: 0 | R146: =Q146*H146 -> 0 | S146: 0 | T146: =S146*H146 -> 0 | AR146: 4 | AT146: K | AU146: 2 | AY146: ROZPOCET | BE146: =IF(N146="základní",J146,0) -> -125200 | BF146: =IF(N146="snížená",J146,0) -> 0 | BG146: =IF(N146="zákl. přenesená",J146,0) -> 0 | BH146: =IF(N146="sníž. přenesená",J146,0) -> 0 | BI146: =IF(N146="nulová",J146,0) -> 0 | BJ146: 1 | BK146: =ROUND(I146*H146,2) -> -125200 | BL146: 4 | BM146: -1285060555
D147: D | E147: 2 | F147: Výsadba | J147: =BK147 -> -273654.27 | P147: =SUM(P148:P167) -> 0 | R147: =SUM(R148:R167) -> 0 | T147: =SUM(T148:T167) -> 0 | AR147: 1 | AT147: D | AU147: 0 | AY147: ROZPOCET | BK147: =SUM(BK148:BK167) -> -273654.27
C148: 14 | D148: K | E148: 183101221 | F148: Jamky pro výsadbu s výměnou 50 % půdy zeminy skupiny 1 až 4 obj přes 0,4 do 1 m3 v rovině a svahu do 1:5 | G148: kus | H148: -31 | I148: 1392 | J148: =ROUND(I148*H148,2) -> -43152 | K148: CS ÚRS 2023 01 | N148: základní | O148: 0 | P148: =O148*H148 -> 0 | Q148: 0 | R148: =Q148*H148 -> 0 | S148: 0 | T148: =S148*H148 -> 0 | AR148: 4 | AT148: K | AU148: 1 | AY148: ROZPOCET | BE148: =IF(N148="základní",J148,0) -> -43152 | BF148: =IF(N148="snížená",J148,0) -> 0 | BG148: =IF(N148="zákl. přenesená",J148,0) -> 0 | BH148: =IF(N148="sníž. přenesená",J148,0) -> 0 | BI148: =IF(N148="nulová",J148,0) -> 0 | BJ148: 1 | BK148: =ROUND(I148*H148,2) -> -43152 | BL148: 4 | BM148: 1410674469
C149: 15 | D149: M | E149: 10321100 | F149: zahradní substrát pro výsadbu VL | G149: m3 | H149: -15.5 | I149: 1064 | J149: =ROUND(I149*H149,2) -> -16492 | K149: CS ÚRS 2023 01 | N149: základní | O149: 0 | P149: =O149*H149 -> 0 | Q149: 0 | R149: =Q149*H149 -> 0 | S149: 0 | T149: =S149*H149 -> 0 | AR149: 8 | AT149: M | AU149: 1 | AY149: ROZPOCET | BE149: =IF(N149="základní",J149,0) -> -16492 | BF149: =IF(N149="snížená",J149,0) -> 0 | BG149: =IF(N149="zákl. přenesená",J149,0) -> 0 | BH149: =IF(N149="sníž. přenesená",J149,0) -> 0 | BI149: =IF(N149="nulová",J149,0) -> 0 | BJ149: 1 | BK149: =ROUND(I149*H149,2) -> -16492 | BL149: 4 | BM149: 868775141
C150: 16 | D150: K | E150: 184102115 | F150: Výsadba dřeviny s balem D přes 0,5 do 0,6 m do jamky se zalitím v rovině a svahu do 1:5 | G150: kus | H150: -31 | I150: 499.2 | J150: =ROUND(I150*H150,2) -> -15475.2 | K150: CS ÚRS 2023 01 | N150: základní | O150: 0 | P150: =O150*H150 -> 0 | Q150: 0 | R150: =Q150*H150 -> 0 | S150: 0 | T150: =S150*H150 -> 0 | AR150: 4 | AT150: K | AU150: 1 | AY150: ROZPOCET | BE150: =IF(N150="základní",J150,0) -> -15475.2 | BF150: =IF(N150="snížená",J150,0) -> 0 | BG150: =IF(N150="zákl. přenesená",J150,0) -> 0 | BH150: =IF(N150="sníž. přenesená",J150,0) -> 0 | BI150: =IF(N150="nulová",J150,0) -> 0 | BJ150: 1 | BK150: =ROUND(I150*H150,2) -> -15475.2 | BL150: 4 | BM150: -279996813
C151: 17 | D151: M | E151: 026503R | F151: Pyrus communis (hrušeň obecná) - vk 3xp, ok 12 - 14, dtbal, zapěstovaný alejový strom | G151: kus | H151: -22.66 | I151: 2560 | J151: =ROUND(I151*H151,2) -> -58009.6 | N151: základní | O151: 0 | P151: =O151*H151 -> 0 | Q151: 0 | R151: =Q151*H151 -> 0 | S151: 0 | T151: =S151*H151 -> 0 | AR151: 8 | AT151: M | AU151: 1 | AY151: ROZPOCET | BE151: =IF(N151="základní",J151,0) -> -58009.6 | BF151: =IF(N151="snížená",J151,0) -> 0 | BG151: =IF(N151="zákl. přenesená",J151,0) -> 0 | BH151: =IF(N151="sníž. přenesená",J151,0) -> 0 | BI151: =IF(N151="nulová",J151,0) -> 0 | BJ151: 1 | BK151: =ROUND(I151*H151,2) -> -58009.6 | BL151: 4 | BM151: -1578682984
C152: 18 | D152: M | E152: 026503R2 | F152: Tilia cordata (lípa srdčitá) - vk 3xp, ok 14 - 16, dtbal, zapěstovaný alejový strom | G152: kus | H152: -3.09 | I152: 2240 | J152: =ROUND(I152*H152,2) -> -6921.6 | N152: základní | O152: 0 | P152: =O152*H152 -> 0 | Q152: 0 | R152: =Q152*H152 -> 0 | S152: 0 | T152: =S152*H152 -> 0 | AR152: 8 | AT152: M | AU152: 1 | AY152: ROZPOCET | BE152: =IF(N152="základní",J152,0) -> -6921.6 | BF152: =IF(N152="snížená",J152,0) -> 0 | BG152: =IF(N152="zákl. přenesená",J152,0) -> 0 | BH152: =IF(N152="sníž. přenesená",J152,0) -> 0 | BI152: =IF(N152="nulová",J152,0) -> 0 | BJ152: 1 | BK152: =ROUND(I152*H152,2) -> -6921.6 | BL152: 4 | BM152: 1963103548
C153: 19 | D153: M | E153: 026503R3 | F153: Prunus avium ´Plena´ (třešeň ptačí) - vk 3xp, ok 12 - 14, dtbal, zapěstovaný alejový strom | G153: kus | H153: -6.18 | I153: 1680 | J153: =ROUND(I153*H153,2) -> -10382.4 | N153: základní | O153: 0 | P153: =O153*H153 -> 0 | Q153: 0 | R153: =Q153*H153 -> 0 | S153: 0 | T153: =S153*H153 -> 0 | AR153: 8 | AT153: M | AU153: 1 | AY153: ROZPOCET | BE153: =IF(N153="základní",J153,0) -> -10382.4 | BF153: =IF(N153="snížená",J153,0) -> 0 | BG153: =IF(N153="zákl. přenesená",J153,0) -> 0 | BH153: =IF(N153="sníž. přenesená",J153,0) -> 0 | BI153: =IF(N153="nulová",J153,0) -> 0 | BJ153: 1 | BK153: =ROUND(I153*H153,2) -> -10382.4 | BL153: 4 | BM153: -1801557056
C154: 20 | D154: K | E154: 184215133 | F154: Ukotvení kmene dřevin v rovině nebo na svahu do 1:5 třemi kůly D do 0,1 m dl přes 2 do 3 m | G154: kus | H154: -31 | I154: 292.8 | J154: =ROUND(I154*H154,2) -> -9076.8 | K154: CS ÚRS 2023 01 | N154: základní | O154: 0 | P154: =O154*H154 -> 0 | Q154: 0 | R154: =Q154*H154 -> 0 | S154: 0 | T154: =S154*H154 -> 0 | AR154: 4 | AT154: K | AU154: 1 | AY154: ROZPOCET | BE154: =IF(N154="základní",J154,0) -> -9076.8 | BF154: =IF(N154="snížená",J154,0) -> 0 | BG154: =IF(N154="zákl. přenesená",J154,0) -> 0 | BH154: =IF(N154="sníž. přenesená",J154,0) -> 0 | BI154: =IF(N154="nulová",J154,0) -> 0 | BJ154: 1 | BK154: =ROUND(I154*H154,2) -> -9076.8 | BL154: 4 | BM154: -2127881128
C155: 21 | D155: M | E155: 052172110/R | F155: tyč odkorněná délka 250 cm,tloušťka 10 cm | G155: kus | H155: -93.93 | I155: 160 | J155: =ROUND(I155*H155,2) -> -15028.8 | N155: základní | O155: 0 | P155: =O155*H155 -> 0 | Q155: 0 | R155: =Q155*H155 -> 0 | S155: 0 | T155: =S155*H155 -> 0 | AR155: 8 | AT155: M | AU155: 1 | AY155: ROZPOCET | BE155: =IF(N155="základní",J155,0) -> -15028.8 | BF155: =IF(N155="snížená",J155,0) -> 0 | BG155: =IF(N155="zákl. přenesená",J155,0) -> 0 | BH155: =IF(N155="sníž. přenesená",J155,0) -> 0 | BI155: =IF(N155="nulová",J155,0) -> 0 | BJ155: 1 | BK155: =ROUND(I155*H155,2) -> -15028.8 | BL155: 4 | BM155: -151439519
C156: 22 | D156: M | E156: 052172120/R | F156: Příčka z půlené kulatiny, d=30 cm | G156: kus | H156: -93.93 | I156: 40 | J156: =ROUND(I156*H156,2) -> -3757.2 | N156: základní | O156: 0 | P156: =O156*H156 -> 0 | Q156: 0 | R156: =Q156*H156 -> 0 | S156: 0 | T156: =S156*H156 -> 0 | AR156: 8 | AT156: M | AU156: 1 | AY156: ROZPOCET | BE156: =IF(N156="základní",J156,0) -> -3757.2 | BF156: =IF(N156="snížená",J156,0) -> 0 | BG156: =IF(N156="zákl. přenesená",J156,0) -> 0 | BH156: =IF(N156="sníž. přenesená",J156,0) -> 0 | BI156: =IF(N156="nulová",J156,0) -> 0 | BJ156: 1 | BK156: =ROUND(I156*H156,2) -> -3757.2 | BL156: 4 | BM156: 1600453797
C157: 23 | D157: K | E157: 184911311 | F157: Položení mulčovací textilie v rovině a svahu do 1:5 | G157: m2 | H157: -186 | I157: 37.28 | J157: =ROUND(I157*H157,2) -> -6934.08 | K157: CS ÚRS 2023 01 | N157: základní | O157: 0 | P157: =O157*H157 -> 0 | Q157: 0 | R157: =Q157*H157 -> 0 | S157: 0 | T157: =S157*H157 -> 0 | AR157: 4 | AT157: K | AU157: 1 | AY157: ROZPOCET | BE157: =IF(N157="základní",J157,0) -> -6934.08 | BF157: =IF(N157="snížená",J157,0) -> 0 | BG157: =IF(N157="zákl. přenesená",J157,0) -> 0 | BH157: =IF(N157="sníž. přenesená",J157,0) -> 0 | BI157: =IF(N157="nulová",J157,0) -> 0 | BJ157: 1 | BK157: =ROUND(I157*H157,2) -> -6934.08 | BL157: 4 | BM157: 453942523
C158: 24 | D158: M | E158: R691-001 | F158: Mulčovací fólie 50 g/m2 | G158: m2 | H158: -204.6 | I158: 160 | J158: =ROUND(I158*H158,2) -> -32736 | N158: základní | O158: 0 | P158: =O158*H158 -> 0 | Q158: 0 | R158: =Q158*H158 -> 0 | S158: 0 | T158: =S158*H158 -> 0 | AR158: 8 | AT158: M | AU158: 1 | AY158: ROZPOCET | BE158: =IF(N158="základní",J158,0) -> -32736 | BF158: =IF(N158="snížená",J158,0) -> 0 | BG158: =IF(N158="zákl. přenesená",J158,0) -> 0 | BH158: =IF(N158="sníž. přenesená",J158,0) -> 0 | BI158: =IF(N158="nulová",J158,0) -> 0 | BJ158: 1 | BK158: =ROUND(I158*H158,2) -> -32736 | BL158: 4 | BM158: -2031852490
C159: 25 | D159: K | E159: 184911421 | F159: Mulčování rostlin kůrou tl do 0,1 m v rovině a svahu do 1:5 | G159: m2 | H159: -35.06 | I159: 39.84 | J159: =ROUND(I159*H159,2) -> -1396.79 | K159: CS ÚRS 2023 01 | N159: základní | O159: 0 | P159: =O159*H159 -> 0 | Q159: 0 | R159: =Q159*H159 -> 0 | S159: 0 | T159: =S159*H159 -> 0 | AR159: 4 | AT159: K | AU159: 1 | AY159: ROZPOCET | BE159: =IF(N159="základní",J159,0) -> -1396.79 | BF159: =IF(N159="snížená",J159,0) -> 0 | BG159: =IF(N159="zákl. přenesená",J159,0) -> 0 | BH159: =IF(N159="sníž. přenesená",J159,0) -> 0 | BI159: =IF(N159="nulová",J159,0) -> 0 | BJ159: 1 | BK159: =ROUND(I159*H159,2) -> -1396.79 | BL159: 4 | BM159: -678305574
C160: 26 | D160: M | E160: 10391100 | F160: kůra mulčovací VL | G160: m3 | H160: -3.611 | I160: 1984 | J160: =ROUND(I160*H160,2) -> -7164.22 | K160: CS ÚRS 2023 01 | N160: základní | O160: 0 | P160: =O160*H160 -> 0 | Q160: 0 | R160: =Q160*H160 -> 0 | S160: 0 | T160: =S160*H160 -> 0 | AR160: 8 | AT160: M | AU160: 1 | AY160: ROZPOCET | BE160: =IF(N160="základní",J160,0) -> -7164.22 | BF160: =IF(N160="snížená",J160,0) -> 0 | BG160: =IF(N160="zákl. přenesená",J160,0) -> 0 | BH160: =IF(N160="sníž. přenesená",J160,0) -> 0 | BI160: =IF(N160="nulová",J160,0) -> 0 | BJ160: 1 | BK160: =ROUND(I160*H160,2) -> -7164.22 | BL160: 4 | BM160: -877335516
C161: 27 | D161: K | E161: 18580211R | F161: Hnojení půdy umělým hnojivem k jednotlivým rostlinám v rovině a svahu do 1:5 | G161: t | H161: -0.002 | I161: 30640 | J161: =ROUND(I161*H161,2) -> -61.28 | K161: CS ÚRS 2023 01 | N161: základní | O161: 0 | P161: =O161*H161 -> 0 | Q161: 0 | R161: =Q161*H161 -> 0 | S161: 0 | T161: =S161*H161 -> 0 | AR161: 4 | AT161: K | AU161: 1 | AY161: ROZPOCET | BE161: =IF(N161="základní",J161,0) -> -61.28 | BF161: =IF(N161="snížená",J161,0) -> 0 | BG161: =IF(N161="zákl. přenesená",J161,0) -> 0 | BH161: =IF(N161="sníž. přenesená",J161,0) -> 0 | BI161: =IF(N161="nulová",J161,0) -> 0 | BJ161: 1 | BK161: =ROUND(I161*H161,2) -> -61.28 | BL161: 4 | BM161: -735513171
C162: 28 | D162: M | E162: 00572411R | F162: hnojivo tabletové | G162: kg | H162: -1.597 | I162: 960 | J162: =ROUND(I162*H162,2) -> -1533.12 | N162: základní | O162: 0 | P162: =O162*H162 -> 0 | Q162: 0 | R162: =Q162*H162 -> 0 | S162: 0 | T162: =S162*H162 -> 0 | AR162: 8 | AT162: M | AU162: 1 | AY162: ROZPOCET | BE162: =IF(N162="základní",J162,0) -> -1533.12 | BF162: =IF(N162="snížená",J162,0) -> 0 | BG162: =IF(N162="zákl. přenesená",J162,0) -> 0 | BH162: =IF(N162="sníž. přenesená",J162,0) -> 0 | BI162: =IF(N162="nulová",J162,0) -> 0 | BJ162: 1 | BK162: =ROUND(I162*H162,2) -> -1533.12 | BL162: 4 | BM162: 1067695803
C163: 29 | D163: K | E163: 185851121 | F163: Dovoz vody pro zálivku rostlin za vzdálenost do 1000 m | G163: m3 | H163: -1.86 | I163: 324.8 | J163: =ROUND(I163*H163,2) -> -604.13 | K163: CS ÚRS 2023 01 | N163: základní | O163: 0 | P163: =O163*H163 -> 0 | Q163: 0 | R163: =Q163*H163 -> 0 | S163: 0 | T163: =S163*H163 -> 0 | AR163: 4 | AT163: K | AU163: 1 | AY163: ROZPOCET | BE163: =IF(N163="základní",J163,0) -> -604.13 | BF163: =IF(N163="snížená",J163,0) -> 0 | BG163: =IF(N163="zákl. přenesená",J163,0) -> 0 | BH163: =IF(N163="sníž. přenesená",J163,0) -> 0 | BI163: =IF(N163="nulová",J163,0) -> 0 | BJ163: 1 | BK163: =ROUND(I163*H163,2) -> -604.13 | BL163: 4 | BM163: 940487621
C164: 30 | D164: K | E164: 185851129 | F164: Příplatek k dovozu vody pro zálivku rostlin do 1000 m ZKD 1000 m | G164: m3 | H164: -7.44 | I164: 19.76 | J164: =ROUND(I164*H164,2) -> -147.01 | K164: CS ÚRS 2023 01 | N164: základní | O164: 0 | P164: =O164*H164 -> 0 | Q164: 0 | R164: =Q164*H164 -> 0 | S164: 0 | T164: =S164*H164 -> 0 | AR164: 4 | AT164: K | AU164: 1 | AY164: ROZPOCET | BE164: =IF(N164="základní",J164,0) -> -147.01 | BF164: =IF(N164="snížená",J164,0) -> 0 | BG164: =IF(N164="zákl. přenesená",J164,0) -> 0 | BH164: =IF(N164="sníž. přenesená",J164,0) -> 0 | BI164: =IF(N164="nulová",J164,0) -> 0 | BJ164: 1 | BK164: =ROUND(I164*H164,2) -> -147.01 | BL164: 4 | BM164: 174801234
C165: 31 | D165: M | E165: 08211320 | F165: voda pitná pro smluvní odběratele | G165: m3 | H165: -1.86 | I165: 43.68 | J165: =ROUND(I165*H165,2) -> -81.24 | K165: CS ÚRS 2023 01 | N165: základní | O165: 0 | P165: =O165*H165 -> 0 | Q165: 0 | R165: =Q165*H165 -> 0 | S165: 0 | T165: =S165*H165 -> 0 | AR165: 8 | AT165: M | AU165: 1 | AY165: ROZPOCET | BE165: =IF(N165="základní",J165,0) -> -81.24 | BF165: =IF(N165="snížená",J165,0) -> 0 | BG165: =IF(N165="zákl. přenesená",J165,0) -> 0 | BH165: =IF(N165="sníž. přenesená",J165,0) -> 0 | BI165: =IF(N165="nulová",J165,0) -> 0 | BJ165: 1 | BK165: =ROUND(I165*H165,2) -> -81.24 | BL165: 4 | BM165: -2042253824
C166: 32 | D166: K | E166: 919791013 | F166: Montáž ochrany stromů v komunikaci s vnitřní výplní a zabetonovaným rámem plochy přes 1 m2 | G166: kus | H166: -4 | I166: 775.2 | J166: =ROUND(I166*H166,2) -> -3100.8 | K166: CS ÚRS 2023 01 | N166: základní | O166: 0 | P166: =O166*H166 -> 0 | Q166: 0 | R166: =Q166*H166 -> 0 | S166: 0 | T166: =S166*H166 -> 0 | AR166: 4 | AT166: K | AU166: 1 | AY166: ROZPOCET | BE166: =IF(N166="základní",J166,0) -> -3100.8 | BF166: =IF(N166="snížená",J166,0) -> 0 | BG166: =IF(N166="zákl. přenesená",J166,0) -> 0 | BH166: =IF(N166="sníž. přenesená",J166,0) -> 0 | BI166: =IF(N166="nulová",J166,0) -> 0 | BJ166: 1 | BK166: =ROUND(I166*H166,2) -> -3100.8 | BL166: 4 | BM166: 1520852022
...
