Workbook
Name Org: [1]Organizace!$B$2:$B$6
Name Org: [1]Organizace!$B$2:$B$6
Name Org: [2]Organizace!$B$2:$B$6
Name Org: [2]Organizace!$B$2:$B$6
Name Org: [3]Organizace!$B$2:$B$6
Name Org: [3]Organizace!$B$2:$B$6
Name Org: [4]Organizace!$B$2:$B$6
Name Org: [4]Organizace!$B$2:$B$6
Name Org: [5]Organizace!$B$2:$B$6
Name Org: [5]Organizace!$B$2:$B$6
Name Org: [6]Organizace!$B$2:$B$6
Name Organizace: #REF!
Name Organizace: #REF!
Name Organizace: #REF!
Name Organizace: #REF!
Name Organizace: #REF!
Name Organizace: #REF!
Name Organizace: #REF!
Name Organizace: #REF!
Name Organizace: #REF!
Name Organizace: #REF!
Name Organizace: #REF!
Name Ředitelé: [1]Organizace!$B$8:$B$12
Name Ředitelé: [1]Organizace!$B$8:$B$12
Name Ředitelé: [2]Organizace!$B$8:$B$12
Name Ředitelé: [2]Organizace!$B$8:$B$12
Name Ředitelé: [3]Organizace!$B$8:$B$12
Name Ředitelé: [3]Organizace!$B$8:$B$12
Name Ředitelé: [4]Organizace!$B$8:$B$12
Name Ředitelé: [4]Organizace!$B$8:$B$12
Name Ředitelé: [5]Organizace!$B$8:$B$12
Name Ředitelé: [5]Organizace!$B$8:$B$12
Name Ředitelé: [6]Organizace!$B$8:$B$12

Sheet rozpočet
B1: =IF('příjmy-paragraf'!A1=0," ",'příjmy-paragraf'!A1) -> Rozpočet města Nové Město pod Smrkem na rok 2025
B2: po I. změně rozpočtu
B3: Příjmy v Kč | C3: rozpočet | E3: schváleno | F3: rozdíl
B4: Příjmy daňové | C4: =IF('příjmy-paragraf'!F67=0," ",'příjmy-paragraf'!F67) -> 89825000 | E4: 86391000 | F4: =C4-E4 -> 3434000
B5: Příjmy nedaňové | C5: =IF('příjmy-paragraf'!F68=0," ",'příjmy-paragraf'!F68) -> 36589300 | E5: 36053000 | F5: =C5-E5 -> 536300
B6: Příjmy kapitálové | C6: =IF('příjmy-paragraf'!F69=0," ",'příjmy-paragraf'!F69) -> 3000000 | E6: 1000000 | F6: =C6-E6 -> 2000000
B7: Dotace - transfery | C7: =IF('příjmy-paragraf'!F70=0," ",'příjmy-paragraf'!F70) -> 18223346 | E7: 15716000 | F7: =C7-E7 -> 2507346
B8: Přijatý úvěr | C8: 0 | E8: 0 | F8: 0
B9: Příjmy celkem | C9: =SUM(C4:C8) -> 147637646 | E9: 139160000 | F9: =SUM(F4:F8) -> 8477646
B11: Výdaje v Kč | C11: rozpočet
B12: Běžné výdaje | C12: =IF('výdaje-paragraf'!F61=0," ",'výdaje-paragraf'!F61) -> 129905956 | E12: 123737000 | F12: =C12-E12 -> 6168956
B13: Kapitálové výdaje | C13: =IF('výdaje-paragraf'!F57=0," ",'výdaje-paragraf'!F57) -> 30168000 | E13: 30168000 | F13: =C13-E13 -> 0
B14: Výdaje celkem | C14: =SUM(C10:C13) -> 160073956 | E14: 153905000 | F14: =SUM(F12:F13) -> 6168956
B15: Financování (splátky jistin úvěrů) | C15: =IF('příjmy a výdaje'!D70=0," ",'příjmy a výdaje'!D70) -> 1500000 | E15: 1500000 | F15: 0
B16: součet (výdaje + úvěr) | C16: =SUM(C14:C15) -> 161573956 | E16: 155405000 | F16: =SUM(C16-E16) -> 6168956
B18: Financování | C18: =IF('příjmy a výdaje'!D72=0," ",'příjmy a výdaje'!D72) -> 13936310 | E18: 16245000 | F18: =E18-C18 -> 2308690
B20: Usnesení č. 7/13Z/2024
B21: Rozpočet města na rok 2025 po I. rozpočtové změně je schodkový a skládá se ve výši:
B22: dle předložených podkladů jako schodkový ve výši příjmů: | C22: =IF('příjmy-paragraf'!F64=0," ",'příjmy-paragraf'!F64) -> 147637646
B23: výdajů: | C23: =IF('výdaje-paragraf'!F47=0," ",'výdaje-paragraf'!F47) -> 160073956
B24: splátek jistin bankovního úvěru ve výši: | C24: 1500000
B25: Schodek rozpočtu bude kryt ze zůstatků finančních prostředků
B26: na bankovních účtech k 31.12.2024 ve výši: | C26: =C23+C24-C22 -> 13936310

Sheet příjmy a výdaje
A1: =IF('příjmy-paragraf'!A1=0," ",'příjmy-paragraf'!A1) -> Rozpočet města Nové Město pod Smrkem na rok 2025 | G1: =IF('výdaje-paragraf'!A1=0," ",'výdaje-paragraf'!A1) -> Rozpočet města Nové Město pod Smrkem na rok 2025
A2: příjmy | B2: (v Kč) | D2: =IF('příjmy-paragraf'!F2=0," ",'příjmy-paragraf'!F2) -> rok 2025 | E2: =IF('příjmy-paragraf'!F2=0," ",'příjmy-paragraf'!F2) -> rok 2025 | G2: výdaje | H2: (v Kč) | J2: =IF('výdaje-paragraf'!F2=0," ",'výdaje-paragraf'!F2) -> rok 2025 | K2: =IF('výdaje-paragraf'!F2=0," ",'výdaje-paragraf'!F2) -> rok 2025
A3: paragraf | B3: popis | C3: popis (původní) | D3: návrh | E3: dílčí návrhy | G3: paragraf | H3: popis | I3: popis (původní) | J3: návrh | K3: dílčí návrhy
A4: =IF('příjmy-paragraf'!A4=0," ",'příjmy-paragraf'!A4) -> 111x | B4: =IF('příjmy-paragraf'!B4=0," ",'příjmy-paragraf'!B4) -> daň z příjmů fyzických osob | C4: =IF('příjmy-paragraf'!C4=0," ",'příjmy-paragraf'!C4) | D4: =IF('příjmy-paragraf'!F4=0," ",'příjmy-paragraf'!F4) -> 18000000 | G4: =IF('výdaje-paragraf'!A4=0," ",'výdaje-paragraf'!A4) -> 1014 | H4: =IF('výdaje-paragraf'!B4=0," ",'výdaje-paragraf'!B4) -> ozdrav. hosp. zvířat | I4: =IF('výdaje-paragraf'!C4=0," ",'výdaje-paragraf'!C4) -> útulek | J4: =IF('výdaje-paragraf'!F4=0," ",'výdaje-paragraf'!F4) -> 100000
A5: =IF('příjmy-paragraf'!A5=0," ",'příjmy-paragraf'!A5) -> 112x | B5: =IF('příjmy-paragraf'!B5=0," ",'příjmy-paragraf'!B5) -> daň z příjmů právnických osob | C5: =IF('příjmy-paragraf'!C5=0," ",'příjmy-paragraf'!C5) | D5: =IF('příjmy-paragraf'!F5=0," ",'příjmy-paragraf'!F5) -> 27434000 | G5: =IF('výdaje-paragraf'!A5=0," ",'výdaje-paragraf'!A5) -> 1031 | H5: =IF('výdaje-paragraf'!B5=0," ",'výdaje-paragraf'!B5) -> pěstební činnost | I5: =IF('výdaje-paragraf'!C5=0," ",'výdaje-paragraf'!C5) -> les | J5: =IF('výdaje-paragraf'!F5=0," ",'výdaje-paragraf'!F5) -> 380000 | K5: =IF('výdaje-paragraf'!G5=0," ",'výdaje-paragraf'!G5)
A6: =IF('příjmy-paragraf'!A6=0," ",'příjmy-paragraf'!A6) -> 121x | B6: =IF('příjmy-paragraf'!B6=0," ",'příjmy-paragraf'!B6) -> daň z přidané hodnoty | C6: =IF('příjmy-paragraf'!C6=0," ",'příjmy-paragraf'!C6) | D6: =IF('příjmy-paragraf'!F6=0," ",'příjmy-paragraf'!F6) -> 38000000 | G6: =IF('výdaje-paragraf'!A6=0," ",'výdaje-paragraf'!A6) -> 2212 | H6: =IF('výdaje-paragraf'!B6=0," ",'výdaje-paragraf'!B6) -> silnice | I6: =IF('výdaje-paragraf'!C6=0," ",'výdaje-paragraf'!C6) -> komunikace | J6: =IF('výdaje-paragraf'!F6=0," ",'výdaje-paragraf'!F6) -> 710000 | K6: =IF('výdaje-paragraf'!G6=0," ",'výdaje-paragraf'!G6)
A7: =IF('příjmy-paragraf'!A7=0," ",'příjmy-paragraf'!A7) -> 1511 | B7: =IF('příjmy-paragraf'!B7=0," ",'příjmy-paragraf'!B7) -> daň z nemovitých věcí | C7: =IF('příjmy-paragraf'!C7=0," ",'příjmy-paragraf'!C7) | D7: =IF('příjmy-paragraf'!F7=0," ",'příjmy-paragraf'!F7) -> 2000000 | G7: =IF('výdaje-paragraf'!A7=0," ",'výdaje-paragraf'!A7) -> 2292 | H7: =IF('výdaje-paragraf'!B7=0," ",'výdaje-paragraf'!B7) -> dopravní obslužnost | I7: =IF('výdaje-paragraf'!C7=0," ",'výdaje-paragraf'!C7) -> dopravní obslužnost | J7: =IF('výdaje-paragraf'!F7=0," ",'výdaje-paragraf'!F7) -> 751000 | K7: =IF('výdaje-paragraf'!G7=0," ",'výdaje-paragraf'!G7)
A8: =IF('příjmy-paragraf'!A8=0," ",'příjmy-paragraf'!A8) | B8: =IF('příjmy-paragraf'!B8=0," ",'příjmy-paragraf'!B8) -> Daně sdílené ze SR | C8: =IF('příjmy-paragraf'!C8=0," ",'příjmy-paragraf'!C8) | D8: =IF('příjmy-paragraf'!F8=0," ",'příjmy-paragraf'!F8) | E8: =SUM(D4:D7) -> 85434000 | G8: =IF('výdaje-paragraf'!A8=0," ",'výdaje-paragraf'!A8) -> 3111 | H8: =IF('výdaje-paragraf'!B8=0," ",'výdaje-paragraf'!B8) -> mateřské školy | I8: =IF('výdaje-paragraf'!C8=0," ",'výdaje-paragraf'!C8) -> Mateřská škola | J8: =IF('výdaje-paragraf'!F8=0," ",'výdaje-paragraf'!F8) -> 1373000 | K8: =IF('výdaje-paragraf'!G8=0," ",'výdaje-paragraf'!G8)
A9: =IF('příjmy-paragraf'!A9=0," ",'příjmy-paragraf'!A9) -> 134x | B9: =IF('příjmy-paragraf'!B9=0," ",'příjmy-paragraf'!B9) -> místní poplatky z vybraných činností a služeb | C9: =IF('příjmy-paragraf'!C9=0," ",'příjmy-paragraf'!C9) -> poplatek za psy | D9: =SUM(E9:E13) -> 2141000 | E9: =IF('příjmy-paragraf'!G9=0," ",'příjmy-paragraf'!G9) -> 70000 | G9: =IF('výdaje-paragraf'!A9=0," ",'výdaje-paragraf'!A9) -> 3113 | H9: =IF('výdaje-paragraf'!B9=0," ",'výdaje-paragraf'!B9) -> základní školy | I9: =IF('výdaje-paragraf'!C9=0," ",'výdaje-paragraf'!C9) -> Základní škola | J9: =IF('výdaje-paragraf'!F9=0," ",'výdaje-paragraf'!F9) -> 6685370 | K9: =IF('výdaje-paragraf'!G9=0," ",'výdaje-paragraf'!G9)
C10: =IF('příjmy-paragraf'!C10=0," ",'příjmy-paragraf'!C10) -> poplatek z veřejného pros. | E10: =IF('příjmy-paragraf'!G10=0," ",'příjmy-paragraf'!G10) -> 20000 | G10: =IF('výdaje-paragraf'!A10=0," ",'výdaje-paragraf'!A10) -> 3231 | H10: =IF('výdaje-paragraf'!B10=0," ",'výdaje-paragraf'!B10) -> základní umělecké školy | I10: =IF('výdaje-paragraf'!C10=0," ",'výdaje-paragraf'!C10) -> Základní umělecká škola | J10: =IF('výdaje-paragraf'!F10=0," ",'výdaje-paragraf'!F10) -> 762476 | K10: =IF('výdaje-paragraf'!G10=0," ",'výdaje-paragraf'!G10)
C11: =IF('příjmy-paragraf'!C11=0," ",'příjmy-paragraf'!C11) -> poplatek z pobytu | E11: =IF('příjmy-paragraf'!G11=0," ",'příjmy-paragraf'!G11) -> 150000 | G11: =IF('výdaje-paragraf'!A11=0," ",'výdaje-paragraf'!A11) -> 3314 | H11: =IF('výdaje-paragraf'!B11=0," ",'výdaje-paragraf'!B11) -> činnosti knihovnické | I11: =IF('výdaje-paragraf'!C11=0," ",'výdaje-paragraf'!C11) -> knihovna | J11: =IF('výdaje-paragraf'!F11=0," ",'výdaje-paragraf'!F11) -> 663000 | K11: =IF('výdaje-paragraf'!G11=0," ",'výdaje-paragraf'!G11)
C12: =IF('příjmy-paragraf'!C12=0," ",'příjmy-paragraf'!C12) -> poplatek ze vstupného | E12: =IF('příjmy-paragraf'!G12=0," ",'příjmy-paragraf'!G12) -> 1000 | G12: =IF('výdaje-paragraf'!A12=0," ",'výdaje-paragraf'!A12) -> 3341 | H12: =IF('výdaje-paragraf'!B12=0," ",'výdaje-paragraf'!B12) -> rozhlas a televize | I12: =IF('výdaje-paragraf'!C12=0," ",'výdaje-paragraf'!C12) -> rozhlas | J12: =IF('výdaje-paragraf'!F12=0," ",'výdaje-paragraf'!F12) -> 50000 | K12: =IF('výdaje-paragraf'!G12=0," ",'výdaje-paragraf'!G12)
C13: =IF('příjmy-paragraf'!C13=0," ",'příjmy-paragraf'!C13) -> poplatek za odpad | E13: =IF('příjmy-paragraf'!G13=0," ",'příjmy-paragraf'!G13) -> 1900000 | G13: =IF('výdaje-paragraf'!A13=0," ",'výdaje-paragraf'!A13) -> 3349 | H13: =IF('výdaje-paragraf'!B13=0," ",'výdaje-paragraf'!B13) -> ostatní záležitosti sdělovacích prostředků | I13: =IF('výdaje-paragraf'!C13=0," ",'výdaje-paragraf'!C13) -> Novoměstské noviny | J13: =IF('výdaje-paragraf'!F13=0," ",'výdaje-paragraf'!F13) -> 100000 | K13: =IF('výdaje-paragraf'!G13=0," ",'výdaje-paragraf'!G13)
A14: =IF('příjmy-paragraf'!A14=0," ",'příjmy-paragraf'!A14) -> 1361 | B14: =IF('příjmy-paragraf'!B14=0," ",'příjmy-paragraf'!B14) -> správní poplatky | C14: =IF('příjmy-paragraf'!C14=0," ",'příjmy-paragraf'!C14) | D14: =IF('příjmy-paragraf'!F14=0," ",'příjmy-paragraf'!F14) -> 150000 | G14: =IF('výdaje-paragraf'!A14=0," ",'výdaje-paragraf'!A14) -> 3399 | H14: =IF('výdaje-paragraf'!B14=0," ",'výdaje-paragraf'!B14) -> ostatní záležitosti kultury | I14: =IF('výdaje-paragraf'!C14=0," ",'výdaje-paragraf'!C14) -> SPOZ, kultura, ples | J14: =IF('výdaje-paragraf'!F14=0," ",'výdaje-paragraf'!F14) -> 875000 | K14: =IF('výdaje-paragraf'!G14=0," ",'výdaje-paragraf'!G14)
A15: =IF('příjmy-paragraf'!A15=0," ",'příjmy-paragraf'!A15) -> 1381 | B15: =IF('příjmy-paragraf'!B15=0," ",'příjmy-paragraf'!B15) -> daně, poplatky z hazardních her | C15: =IF('příjmy-paragraf'!C15=0," ",'příjmy-paragraf'!C15) | D15: =IF('příjmy-paragraf'!F15=0," ",'příjmy-paragraf'!F15) -> 100000 | G15: =IF('výdaje-paragraf'!A15=0," ",'výdaje-paragraf'!A15) -> 3419 | H15: =IF('výdaje-paragraf'!B15=0," ",'výdaje-paragraf'!B15) -> ostatní sportovní činnost | I15: =IF('výdaje-paragraf'!C15=0," ",'výdaje-paragraf'!C15) -> AFK | J15: =IF('výdaje-paragraf'!F15=0," ",'výdaje-paragraf'!F15) -> 500000 | K15: =IF('výdaje-paragraf'!G15=0," ",'výdaje-paragraf'!G15)
A16: =IF('příjmy-paragraf'!A16=0," ",'příjmy-paragraf'!A16) -> 1385 | B16: =IF('příjmy-paragraf'!B16=0," ",'příjmy-paragraf'!B16) -> příjem z daně z technických her | C16: =IF('příjmy-paragraf'!C16=0," ",'příjmy-paragraf'!C16) | D16: =IF('příjmy-paragraf'!F16=0," ",'příjmy-paragraf'!F16) -> 2000000 | G16: =IF('výdaje-paragraf'!A16=0," ",'výdaje-paragraf'!A16) -> 3421 | H16: =IF('výdaje-paragraf'!B16=0," ",'výdaje-paragraf'!B16) -> využití volného času dětí a mládeže | I16: =IF('výdaje-paragraf'!C16=0," ",'výdaje-paragraf'!C16) -> ROROŠ | J16: =IF('výdaje-paragraf'!F16=0," ",'výdaje-paragraf'!F16) -> 1456800 | K16: =IF('výdaje-paragraf'!G16=0," ",'výdaje-paragraf'!G16)
B17: =IF('příjmy-paragraf'!B17=0," ",'příjmy-paragraf'!B17) -> Místní daně | C17: =IF('příjmy-paragraf'!C17=0," ",'příjmy-paragraf'!C17) | D17: =IF('příjmy-paragraf'!F17=0," ",'příjmy-paragraf'!F17) | E17: =SUM(D9:D16) -> 4391000 | G17: =IF('výdaje-paragraf'!A17=0," ",'výdaje-paragraf'!A17) -> 3429 | H17: =IF('výdaje-paragraf'!B17=0," ",'výdaje-paragraf'!B17) -> ostatní zájmová činnost a rekreace | I17: =IF('výdaje-paragraf'!C17=0," ",'výdaje-paragraf'!C17) -> SRC | J17: =SUM(K17:K20) -> 8642000 | K17: =IF('výdaje-paragraf'!G17=0," ",'výdaje-paragraf'!G17) -> 8183000
A18: =IF('příjmy-paragraf'!A18=0," ",'příjmy-paragraf'!A18) -> 2412 | B18: =IF('příjmy-paragraf'!B18=0," ",'příjmy-paragraf'!B18) -> splátky půjček (UNITAS) | C18: =IF('příjmy-paragraf'!C18=0," ",'příjmy-paragraf'!C18) | D18: =IF('příjmy-paragraf'!F18=0," ",'příjmy-paragraf'!F18) -> 220000 | I18: =IF('výdaje-paragraf'!C18=0," ",'výdaje-paragraf'!C18) -> dotace Město | K18: =IF('výdaje-paragraf'!G18=0," ",'výdaje-paragraf'!G18) -> 300000
B19: =IF('příjmy-paragraf'!B19=0," ",'příjmy-paragraf'!B19) -> Splátky půjček | C19: =IF('příjmy-paragraf'!C19=0," ",'příjmy-paragraf'!C19) | D19: =IF('příjmy-paragraf'!F19=0," ",'příjmy-paragraf'!F19) | E19: =SUM(D18) -> 220000 | I19: =IF('výdaje-paragraf'!C19=0," ",'výdaje-paragraf'!C19) -> 3d-3z-3p | K19: =IF('výdaje-paragraf'!G19=0," ",'výdaje-paragraf'!G19) -> 60000
A20: =IF('příjmy-paragraf'!A20=0," ",'příjmy-paragraf'!A20) -> 4112 | B20: =IF('příjmy-paragraf'!B20=0," ",'příjmy-paragraf'!B20) -> neinvestiční přijaté transfery ze SR | C20: =IF('příjmy-paragraf'!C20=0," ",'příjmy-paragraf'!C20) -> výkon státní správy | D20: =IF('příjmy-paragraf'!F20=0," ",'příjmy-paragraf'!F20) -> 2226000 | I20: =IF('výdaje-paragraf'!C20=0," ",'výdaje-paragraf'!C20) -> členské příspěvky | K20: =IF('výdaje-paragraf'!G20=0," ",'výdaje-paragraf'!G20) -> 99000
A21: =IF('příjmy-paragraf'!A21=0," ",'příjmy-paragraf'!A21) -> 4116 | B21: =IF('příjmy-paragraf'!B21=0," ",'příjmy-paragraf'!B21) -> ostatní neinvestiční přijaté dotace ze SR | C21: =IF('příjmy-paragraf'!C21=0," ",'příjmy-paragraf'!C21) -> soc. terénní pracovník | D21: =SUM(E21:E27) -> 5135846 | E21: =IF('příjmy-paragraf'!G21=0," ",'příjmy-paragraf'!G21) -> 400000 | G21: =IF('výdaje-paragraf'!A21=0," ",'výdaje-paragraf'!A21) -> 3612 | H21: =IF('výdaje-paragraf'!B21=0," ",'výdaje-paragraf'!B21) -> bytové hospodářství | I21: =IF('výdaje-paragraf'!C21=0," ",'výdaje-paragraf'!C21) -> bytová správa | J21: =IF('výdaje-paragraf'!F21=0," ",'výdaje-paragraf'!F21) -> 30047000 | K21: =IF('výdaje-paragraf'!G21=0," ",'výdaje-paragraf'!G21)
C22: =IF('příjmy-paragraf'!C22=0," ",'příjmy-paragraf'!C22) -> APK | E22: =IF('příjmy-paragraf'!G22=0," ",'příjmy-paragraf'!G22) -> 500000 | G22: =IF('výdaje-paragraf'!A22=0," ",'výdaje-paragraf'!A22) -> 3613 | H22: =IF('výdaje-paragraf'!B22=0," ",'výdaje-paragraf'!B22) -> nebytové hospodářství | I22: =IF('výdaje-paragraf'!C22=0," ",'výdaje-paragraf'!C22) -> budovy | J22: =IF('výdaje-paragraf'!F22=0," ",'výdaje-paragraf'!F22) -> 2420000 | K22: =IF('výdaje-paragraf'!G22=0," ",'výdaje-paragraf'!G22)
C23: =IF('příjmy-paragraf'!C23=0," ",'příjmy-paragraf'!C23) -> sociální práce | E23: =IF('příjmy-paragraf'!G23=0," ",'příjmy-paragraf'!G23) -> 400000 | G23: =IF('výdaje-paragraf'!A23=0," ",'výdaje-paragraf'!A23) -> 3631 | H23: =IF('výdaje-paragraf'!B23=0," ",'výdaje-paragraf'!B23) -> veřejné osvětlení | I23: =IF('výdaje-paragraf'!C23=0," ",'výdaje-paragraf'!C23) -> veřejné osvětlení | J23: =IF('výdaje-paragraf'!F23=0," ",'výdaje-paragraf'!F23) -> 894000 | K23: =IF('výdaje-paragraf'!G23=0," ",'výdaje-paragraf'!G23)
C24: =IF('příjmy-paragraf'!C24=0," ",'příjmy-paragraf'!C24) -> terénní pracovník | E24: =IF('příjmy-paragraf'!G24=0," ",'příjmy-paragraf'!G24) -> 400000 | G24: =IF('výdaje-paragraf'!A24=0," ",'výdaje-paragraf'!A24) -> 3632 | H24: =IF('výdaje-paragraf'!B24=0," ",'výdaje-paragraf'!B24) -> pohřebnictví | I24: =IF('výdaje-paragraf'!C24=0," ",'výdaje-paragraf'!C24) -> pohřebnictví | J24: =IF('výdaje-paragraf'!F24=0," ",'výdaje-paragraf'!F24) -> 120000 | K24: =IF('výdaje-paragraf'!G24=0," ",'výdaje-paragraf'!G24)
C25: =IF('příjmy-paragraf'!C25=0," ",'příjmy-paragraf'!C25) -> UP VPP | E25: =IF('příjmy-paragraf'!G25=0," ",'příjmy-paragraf'!G25) -> 1000000 | G25: =IF('výdaje-paragraf'!A25=0," ",'výdaje-paragraf'!A25) -> 3639 | H25: =IF('výdaje-paragraf'!B25=0," ",'výdaje-paragraf'!B25) -> komunální služby a územní rozvoj | I25: =IF('výdaje-paragraf'!C25=0," ",'výdaje-paragraf'!C25) -> opravy a investice | J25: =SUM(K25:K29) -> 31230000 | K25: =IF('výdaje-paragraf'!G25=0," ",'výdaje-paragraf'!G25) -> 31000000
C26: =IF('příjmy-paragraf'!C26=0," ",'příjmy-paragraf'!C26) -> dotace pro ZŠ z KÚLK | E26: =IF('příjmy-paragraf'!G26=0," ",'příjmy-paragraf'!G26) -> 2125370
C27: =IF('příjmy-paragraf'!C27=0," ",'příjmy-paragraf'!C27) -> dotace pro ZUŠ z KÚLK | E27: =IF('příjmy-paragraf'!G27=0," ",'příjmy-paragraf'!G27) -> 310476
A28: =IF('příjmy-paragraf'!A28=0," ",'příjmy-paragraf'!A28) -> 4121 | B28: =IF('příjmy-paragraf'!B28=0," ",'příjmy-paragraf'!B28) -> neinvestiční přijaté transfery od obcí | C28: =IF('příjmy-paragraf'!C28=0," ",'příjmy-paragraf'!C28) -> od obcí za přestupky | D28: =IF('příjmy-paragraf'!F28=0," ",'příjmy-paragraf'!F28) -> 5000 | E28: =IF('příjmy-paragraf'!G28=0," ",'příjmy-paragraf'!G28) -> 5000 | I28: =IF('výdaje-paragraf'!C26=0," ",'výdaje-paragraf'!C26) -> platby dani a poplatků | K28: =IF('výdaje-paragraf'!G26=0," ",'výdaje-paragraf'!G26) -> 30000
A29: =IF('příjmy-paragraf'!A29=0," ",'příjmy-paragraf'!A29) -> 4122 | B29: =IF('příjmy-paragraf'!B29=0," ",'příjmy-paragraf'!B29) -> neinvestiční přijaté dotace od krajů | C29: =IF('příjmy-paragraf'!C29=0," ",'příjmy-paragraf'!C29) -> DPS služby klientům | D29: =IF('příjmy-paragraf'!F29=0," ",'příjmy-paragraf'!F29) -> 1566500 | E29: =IF('příjmy-paragraf'!G29=0," ",'příjmy-paragraf'!G29) -> 1500000 | I29: =IF('výdaje-paragraf'!C27=0," ",'výdaje-paragraf'!C27) -> pořízení nemovitého majetku | K29: =IF('výdaje-paragraf'!G27=0," ",'výdaje-paragraf'!G27) -> 200000
C30: =IF('příjmy-paragraf'!C30=0," ",'příjmy-paragraf'!C30) -> SVČ ROROŠ | E30: =IF('příjmy-paragraf'!G30=0," ",'příjmy-paragraf'!G30) -> 66500
A31: =IF('příjmy-paragraf'!A31=0," ",'příjmy-paragraf'!A31) -> 4213 | B31: =IF('příjmy-paragraf'!B31=0," ",'příjmy-paragraf'!B31) -> investiční přijaté dotace ze SF | C31: =IF('příjmy-paragraf'!C31=0," ",'příjmy-paragraf'!C31) | D31: =IF('příjmy-paragraf'!F31=0," ",'příjmy-paragraf'!F31) | E31: =IF('příjmy-paragraf'!G31=0," ",'příjmy-paragraf'!G31) | G31: =IF('výdaje-paragraf'!A28=0," ",'výdaje-paragraf'!A28) -> 3713 | H31: =IF('výdaje-paragraf'!B28=0," ",'výdaje-paragraf'!B28) -> změny technologíí vytápění | I31: =IF('výdaje-paragraf'!C28=0," ",'výdaje-paragraf'!C28) -> Teplárenská novoměstská | J31: =IF('výdaje-paragraf'!F28=0," ",'výdaje-paragraf'!F28) -> 3000000 | K31: =IF('výdaje-paragraf'!G28=0," ",'výdaje-paragraf'!G28)
A32: =IF('příjmy-paragraf'!A32=0," ",'příjmy-paragraf'!A32) -> 4216 | B32: =IF('příjmy-paragraf'!B32=0," ",'příjmy-paragraf'!B32) -> investiční dotace ze SR | C32: =IF('příjmy-paragraf'!C32=0," ",'příjmy-paragraf'!C32) -> MMR rekonstrukce učebny ZŠ | D32: =SUM(E32:E33) -> 8690000 | E32: =IF('příjmy-paragraf'!G32=0," ",'příjmy-paragraf'!G32) -> 5690000 | G32: =IF('výdaje-paragraf'!A29=0," ",'výdaje-paragraf'!A29) -> 3722 | H32: =IF('výdaje-paragraf'!B29=0," ",'výdaje-paragraf'!B29) -> sběr a svoz komunálních odpadů | I32: =IF('výdaje-paragraf'!C29=0," ",'výdaje-paragraf'!C29) -> odpadové hospodářství | J32: =IF('výdaje-paragraf'!F29=0," ",'výdaje-paragraf'!F29) -> 8488000 | K32: =IF('výdaje-paragraf'!G29=0," ",'výdaje-paragraf'!G29)
C33: =IF('příjmy-paragraf'!C33=0," ",'příjmy-paragraf'!C33) -> MMR revitalizace Mírového náměstí | E33: =IF('příjmy-paragraf'!G33=0," ",'příjmy-paragraf'!G33) -> 3000000 | G33: =IF('výdaje-paragraf'!A30=0," ",'výdaje-paragraf'!A30) -> 3745 | H33: =IF('výdaje-paragraf'!B30=0," ",'výdaje-paragraf'!B30) -> péče o vzhled obci a veřejnou zeleň | I33: =IF('výdaje-paragraf'!C30=0," ",'výdaje-paragraf'!C30) -> zeleň a čištění města | J33: =SUM(K33:K36) -> 5243000 | K33: =IF('výdaje-paragraf'!G30=0," ",'výdaje-paragraf'!G30) -> 3223000
A34: =IF('příjmy-paragraf'!A34=0," ",'příjmy-paragraf'!A34) -> 4222 | B34: =IF('příjmy-paragraf'!B34=0," ",'příjmy-paragraf'!B34) -> investiční dotace kraj | C34: =IF('příjmy-paragraf'!C34=0," ",'příjmy-paragraf'!C34) | D34: =SUM(E34:E36) -> 600000 | E34: =IF('příjmy-paragraf'!G34=0," ",'příjmy-paragraf'!G34) | I34: =IF('výdaje-paragraf'!C31=0," ",'výdaje-paragraf'!C31) -> VPP | K34: =IF('výdaje-paragraf'!G31=0," ",'výdaje-paragraf'!G31) -> 2020000
C35: =IF('příjmy-paragraf'!C35=0," ",'příjmy-paragraf'!C35) -> Dotace auto JSDH | E35: =IF('příjmy-paragraf'!G35=0," ",'příjmy-paragraf'!G35) -> 600000
C36: =IF('příjmy-paragraf'!C36=0," ",'příjmy-paragraf'!C36) | E36: =IF('příjmy-paragraf'!G36=0," ",'příjmy-paragraf'!G36)
A37: =IF('příjmy-paragraf'!A37=0," ",'příjmy-paragraf'!A37) | B37: =IF('příjmy-paragraf'!B37=0," ",'příjmy-paragraf'!B37) -> Dotace | C37: =IF('příjmy-paragraf'!C37=0," ",'příjmy-paragraf'!C37) | D37: =IF('příjmy-paragraf'!F37=0," ",'příjmy-paragraf'!F37) | E37: =SUM(D20:D36) -> 18223346 | G37: =IF('výdaje-paragraf'!A32=0," ",'výdaje-paragraf'!A32) -> 4351 | H37: =IF('výdaje-paragraf'!B32=0," ",'výdaje-paragraf'!B32) -> osobní asist., peč. služba … | I37: =IF('výdaje-paragraf'!C32=0," ",'výdaje-paragraf'!C32) -> DPS | J37: =IF('výdaje-paragraf'!F32=0," ",'výdaje-paragraf'!F32) -> 3113000 | K37: =IF('výdaje-paragraf'!G32=0," ",'výdaje-paragraf'!G32)
A38: =IF('příjmy-paragraf'!A38=0," ",'příjmy-paragraf'!A38) -> 1031 | B38: =IF('příjmy-paragraf'!B38=0," ",'příjmy-paragraf'!B38) -> pěstební činnost | C38: =IF('příjmy-paragraf'!C38=0," ",'příjmy-paragraf'!C38) -> les | D38: =IF('příjmy-paragraf'!F38=0," ",'příjmy-paragraf'!F38) -> 500000 | E38: =IF('příjmy-paragraf'!G38=0," ",'příjmy-paragraf'!G38) | G38: =IF('výdaje-paragraf'!A33=0," ",'výdaje-paragraf'!A33) -> 5213 | H38: =IF('výdaje-paragraf'!B33=0," ",'výdaje-paragraf'!B33) -> krizová opatření | I38: =IF('výdaje-paragraf'!C33=0," ",'výdaje-paragraf'!C33) -> krizová rezerva | J38: =IF('výdaje-paragraf'!F33=0," ",'výdaje-paragraf'!F33) -> 500000 | K38: =IF('výdaje-paragraf'!G33=0," ",'výdaje-paragraf'!G33)
A39: =IF('příjmy-paragraf'!A39=0," ",'příjmy-paragraf'!A39) -> 2321 | B39: =IF('příjmy-paragraf'!B39=0," ",'příjmy-paragraf'!B39) -> odvádění a čištění odpadních vod | C39: =IF('příjmy-paragraf'!C39=0," ",'příjmy-paragraf'!C39) -> nájemné FVS | D39: =IF('příjmy-paragraf'!F39=0," ",'příjmy-paragraf'!F39) -> 494000 | E39: =IF('příjmy-paragraf'!G39=0," ",'příjmy-paragraf'!G39) | G39: =IF('výdaje-paragraf'!A34=0," ",'výdaje-paragraf'!A34) -> 5512 | H39: =IF('výdaje-paragraf'!B34=0," ",'výdaje-paragraf'!B34) -> požární ochrana - dobrovolná část | I39: =IF('výdaje-paragraf'!C34=0," ",'výdaje-paragraf'!C34) -> JSDH | J39: =IF('výdaje-paragraf'!F34=0," ",'výdaje-paragraf'!F34) -> 3226000 | K39: =IF('výdaje-paragraf'!G34=0," ",'výdaje-paragraf'!G34)
A40: =IF('příjmy-paragraf'!A40=0," ",'příjmy-paragraf'!A40) -> 3314 | B40: =IF('příjmy-paragraf'!B40=0," ",'příjmy-paragraf'!B40) -> činnosti knihovnické | C40: =IF('příjmy-paragraf'!C40=0," ",'příjmy-paragraf'!C40) -> knihovna | D40: =IF('příjmy-paragraf'!F40=0," ",'příjmy-paragraf'!F40) -> 10000 | E40: =IF('příjmy-paragraf'!G40=0," ",'příjmy-paragraf'!G40) | G40: =IF('výdaje-paragraf'!A35=0," ",'výdaje-paragraf'!A35) -> 6112 | H40: =IF('výdaje-paragraf'!B35=0," ",'výdaje-paragraf'!B35) -> zastupitelstva obcí | I40: =IF('výdaje-paragraf'!C35=0," ",'výdaje-paragraf'!C35) -> Město | J40: =IF('výdaje-paragraf'!F35=0," ",'výdaje-paragraf'!F35) -> 3460000 | K40: =IF('výdaje-paragraf'!G35=0," ",'výdaje-paragraf'!G35)
A41: =IF('příjmy-paragraf'!A41=0," ",'příjmy-paragraf'!A41) -> 3315 | B41: =IF('příjmy-paragraf'!B41=0," ",'příjmy-paragraf'!B41) -> činosti muzeí a galerií | C41: =IF('příjmy-paragraf'!C41=0," ",'příjmy-paragraf'!C41) -> muzeum | D41: =IF('příjmy-paragraf'!F41=0," ",'příjmy-paragraf'!F41) | E41: =IF('příjmy-paragraf'!G41=0," ",'příjmy-paragraf'!G41) | G41: =IF('výdaje-paragraf'!A36=0," ",'výdaje-paragraf'!A36) -> 6114 | H41: =IF('výdaje-paragraf'!B36=0," ",'výdaje-paragraf'!B36) -> volby | I41: =IF('výdaje-paragraf'!C36=0," ",'výdaje-paragraf'!C36) | J41: =IF('výdaje-paragraf'!F36=0," ",'výdaje-paragraf'!F36) | K41: =IF('výdaje-paragraf'!G36=0," ",'výdaje-paragraf'!G36)
A42: =IF('příjmy-paragraf'!A42=0," ",'příjmy-paragraf'!A42) -> 3349 | B42: =IF('příjmy-paragraf'!B42=0," ",'příjmy-paragraf'!B42) -> záležitosti sdělovacích prostředků (noviny) | C42: =IF('příjmy-paragraf'!C42=0," ",'příjmy-paragraf'!C42) -> noviny | D42: =IF('příjmy-paragraf'!F42=0," ",'příjmy-paragraf'!F42) -> 10000 | E42: =IF('příjmy-paragraf'!G42=0," ",'příjmy-paragraf'!G42) | G42: =IF('výdaje-paragraf'!A37=0," ",'výdaje-paragraf'!A37) -> 6171 | H42: =IF('výdaje-paragraf'!B37=0," ",'výdaje-paragraf'!B37) -> činnost místní správy | I42: =IF('výdaje-paragraf'!C37=0," ",'výdaje-paragraf'!C37) -> Město | J42: =SUM(K42:K45) -> 28263000 | K42: =IF('výdaje-paragraf'!G37=0," ",'výdaje-paragraf'!G37) -> 385000
A43: =IF('příjmy-paragraf'!A43=0," ",'příjmy-paragraf'!A43) -> 3399 | B43: =IF('příjmy-paragraf'!B43=0," ",'příjmy-paragraf'!B43) -> vstupné na kulturní akce | C43: =IF('příjmy-paragraf'!C43=0," ",'příjmy-paragraf'!C43) | D43: =IF('příjmy-paragraf'!F43=0," ",'příjmy-paragraf'!F43) -> 75000 | E43: =IF('příjmy-paragraf'!G43=0," ",'příjmy-paragraf'!G43)
A44: =IF('příjmy-paragraf'!A44=0," ",'příjmy-paragraf'!A44) -> 3421 | B44: =IF('příjmy-paragraf'!B44=0," ",'příjmy-paragraf'!B44) -> peněžité dary | C44: =IF('příjmy-paragraf'!C44=0," ",'příjmy-paragraf'!C44) -> volný čas dětí a mládeže | D44: =IF('příjmy-paragraf'!F44=0," ",'příjmy-paragraf'!F44) -> 106300 | E44: =IF('příjmy-paragraf'!G44=0," ",'příjmy-paragraf'!G44) -> 106300
A45: =IF('příjmy-paragraf'!A45=0," ",'příjmy-paragraf'!A45) -> 3612 | B45: =IF('příjmy-paragraf'!B45=0," ",'příjmy-paragraf'!B45) -> bytové hospodářství | C45: =IF('příjmy-paragraf'!C45=0," ",'příjmy-paragraf'!C45) -> nájem byty | D45: =IF('příjmy-paragraf'!F45=0," ",'příjmy-paragraf'!F45) -> 30047000 | E45: =IF('příjmy-paragraf'!G45=0," ",'příjmy-paragraf'!G45) | I45: =IF('výdaje-paragraf'!C38=0," ",'výdaje-paragraf'!C38) -> MěÚ | K45: =IF('výdaje-paragraf'!G38=0," ",'výdaje-paragraf'!G38) -> 27878000
A46: =IF('příjmy-paragraf'!A46=0," ",'příjmy-paragraf'!A46) -> 3613 | B46: =IF('příjmy-paragraf'!B46=0," ",'příjmy-paragraf'!B46) -> nebytové hospodářství | C46: =IF('příjmy-paragraf'!C46=0," ",'příjmy-paragraf'!C46) -> nájem nebytový | D46: =IF('příjmy-paragraf'!F46=0," ",'příjmy-paragraf'!F46) -> 1750000 | E46: =IF('příjmy-paragraf'!G46=0," ",'příjmy-paragraf'!G46) | G46: =IF('výdaje-paragraf'!A39=0," ",'výdaje-paragraf'!A39) -> 6223 | H46: =IF('výdaje-paragraf'!B39=0," ",'výdaje-paragraf'!B39) -> mezinárodní spolupráce | I46: =IF('výdaje-paragraf'!C39=0," ",'výdaje-paragraf'!C39) -> Evropská Nová Města | J46: =IF('výdaje-paragraf'!F39=0," ",'výdaje-paragraf'!F39) -> 60000 | K46: =IF('výdaje-paragraf'!G39=0," ",'výdaje-paragraf'!G39)
A47: =IF('příjmy-paragraf'!A47=0," ",'příjmy-paragraf'!A47) -> 3631 | B47: =IF('příjmy-paragraf'!B47=0," ",'příjmy-paragraf'!B47) -> veřejné osvětlení (pronájem plošiny) | C47: =IF('příjmy-paragraf'!C47=0," ",'příjmy-paragraf'!C47) -> veřejné osvětlení | D47: =IF('příjmy-paragraf'!F47=0," ",'příjmy-paragraf'!F47) -> 260000 | E47: =IF('příjmy-paragraf'!G47=0," ",'příjmy-paragraf'!G47) | G47: =IF('výdaje-paragraf'!A40=0," ",'výdaje-paragraf'!A40) -> 6320 | H47: =IF('výdaje-paragraf'!B40=0," ",'výdaje-paragraf'!B40) -> pojištění funkčně nespecifikované | I47: =IF('výdaje-paragraf'!C40=0," ",'výdaje-paragraf'!C40) -> pojištění majetku a odpovědnosti | J47: =IF('výdaje-paragraf'!F40=0," ",'výdaje-paragraf'!F40) -> 490000
A48: =IF('příjmy-paragraf'!A48=0," ",'příjmy-paragraf'!A48) -> 3632 | B48: =IF('příjmy-paragraf'!B48=0," ",'příjmy-paragraf'!B48) -> pohřebnictví | C48: =IF('příjmy-paragraf'!C48=0," ",'příjmy-paragraf'!C48) -> pohřebnictví | D48: =IF('příjmy-paragraf'!F48=0," ",'příjmy-paragraf'!F48) -> 50000 | E48: =IF('příjmy-paragraf'!G48=0," ",'příjmy-paragraf'!G48) | G48: =IF('výdaje-paragraf'!A41=0," ",'výdaje-paragraf'!A41) -> 6330 | H48: =IF('výdaje-paragraf'!B41=0," ",'výdaje-paragraf'!B41) -> převody vlastním fondům | I48: =IF('výdaje-paragraf'!C41=0," ",'výdaje-paragraf'!C41) -> sociální fond | J48: =IF('výdaje-paragraf'!F41=0," ",'výdaje-paragraf'!F41) -> 700000 | K48: =IF('výdaje-paragraf'!G41=0," ",'výdaje-paragraf'!G41)
A49: =IF('příjmy-paragraf'!A49=0," ",'příjmy-paragraf'!A49) -> 3639 | B49: =IF('příjmy-paragraf'!B49=0," ",'příjmy-paragraf'!B49) -> územní rozvoj | C49: =IF('příjmy-paragraf'!C49=0," ",'příjmy-paragraf'!C49) -> pronájem pozemků | D49: =SUM(E49:E53) -> 3250000 | E49: =IF('příjmy-paragraf'!G49=0," ",'příjmy-paragraf'!G49) -> 250000 | G49: =IF('výdaje-paragraf'!A42=0," ",'výdaje-paragraf'!A42) -> 6399 | H49: =IF('výdaje-paragraf'!B42=0," ",'výdaje-paragraf'!B42) -> ostatní finanční operace | I49: =IF('výdaje-paragraf'!C42=0," ",'výdaje-paragraf'!C42) -> Daně placené městem, DPH | J49: =IF('výdaje-paragraf'!F42=0," ",'výdaje-paragraf'!F42) -> 11434000 | K49: =IF('výdaje-paragraf'!G42=0," ",'výdaje-paragraf'!G42)
G50: =IF('výdaje-paragraf'!A43=0," ",'výdaje-paragraf'!A43) -> 6402 | H50: =IF('výdaje-paragraf'!B43=0," ",'výdaje-paragraf'!B43) -> finanční vypořádání | I50: =IF('výdaje-paragraf'!C43=0," ",'výdaje-paragraf'!C43) -> vratka dotací z roku 2024 | J50: =IF('výdaje-paragraf'!F43=0," ",'výdaje-paragraf'!F43) -> 41310
C51: =IF('příjmy-paragraf'!C50=0," ",'příjmy-paragraf'!C50) -> prodej pozemků | E51: =IF('příjmy-paragraf'!G50=0," ",'příjmy-paragraf'!G50) -> 3000000 | G51: =IF('výdaje-paragraf'!A44=0," ",'výdaje-paragraf'!A44) -> 6409 | H51: =IF('výdaje-paragraf'!B44=0," ",'výdaje-paragraf'!B44) -> ostatní činnosti | I51: =IF('výdaje-paragraf'!C44=0," ",'výdaje-paragraf'!C44) -> Mikroregion Frýdlantsko | J51: =SUM(K51:K54) -> 4296000 | K51: =IF('výdaje-paragraf'!G44=0," ",'výdaje-paragraf'!G44) -> 4221000
C52: =IF('příjmy-paragraf'!C51=0," ",'příjmy-paragraf'!C51) -> prodej budov a staveb | E52: =IF('příjmy-paragraf'!G51=0," ",'příjmy-paragraf'!G51) -> 1e-18 | I52: =IF('výdaje-paragraf'!C45=0," ",'výdaje-paragraf'!C45) -> SO Smrk | K52: =IF('výdaje-paragraf'!G45=0," ",'výdaje-paragraf'!G45) -> 57000
C53: =IF('příjmy-paragraf'!C52=0," ",'příjmy-paragraf'!C52) -> kraj-komunikace náměstí | E53: =IF('příjmy-paragraf'!G52=0," ",'příjmy-paragraf'!G52) | I53: =IF('výdaje-paragraf'!C46=0," ",'výdaje-paragraf'!C46) -> Svaz měst a obcí ČR | K53: =IF('výdaje-paragraf'!G46=0," ",'výdaje-paragraf'!G46) -> 18000
A54: =IF('příjmy-paragraf'!A53=0," ",'příjmy-paragraf'!A53) -> 3713 | B54: =IF('příjmy-paragraf'!B53=0," ",'příjmy-paragraf'!B53) -> technologie vytápění (Teplárenská) | C54: =IF('příjmy-paragraf'!C53=0," ",'příjmy-paragraf'!C53) -> nájem Teplárenská | D54: =IF('příjmy-paragraf'!F53=0," ",'příjmy-paragraf'!F53) | E54: =IF('příjmy-paragraf'!G53=0," ",'příjmy-paragraf'!G53)
A55: =IF('příjmy-paragraf'!A54=0," ",'příjmy-paragraf'!A54) -> 3722 | B55: =IF('příjmy-paragraf'!B54=0," ",'příjmy-paragraf'!B54) -> sběr a svoz komunálního odpadu | C55: =IF('příjmy-paragraf'!C54=0," ",'příjmy-paragraf'!C54) -> kompenzace FCC | D55: =IF('příjmy-paragraf'!F54=0," ",'příjmy-paragraf'!F54) | E55: =IF('příjmy-paragraf'!G54=0," ",'příjmy-paragraf'!G54) | G55: celkem | J55: =SUM(J4:J54) -> 160073956
A56: =IF('příjmy-paragraf'!A55=0," ",'příjmy-paragraf'!A55) -> 3723 | B56: =IF('příjmy-paragraf'!B55=0," ",'příjmy-paragraf'!B55) -> sběr a svoz odpadu | C56: =IF('příjmy-paragraf'!C55=0," ",'příjmy-paragraf'!C55) -> využití odpadu EKOKOM | D56: =IF('příjmy-paragraf'!F55=0," ",'příjmy-paragraf'!F55) -> 57000 | E56: =IF('příjmy-paragraf'!G55=0," ",'příjmy-paragraf'!G55)
A57: =IF('příjmy-paragraf'!A56=0," ",'příjmy-paragraf'!A56) -> 3725 | B57: =IF('příjmy-paragraf'!B56=0," ",'příjmy-paragraf'!B56) -> využívání komun. odpadů (Eko-com,Asocol) | C57: =IF('příjmy-paragraf'!C56=0," ",'příjmy-paragraf'!C56) -> odpady EKOKOM | D57: =IF('příjmy-paragraf'!F56=0," ",'příjmy-paragraf'!F56) -> 965000 | E57: =IF('příjmy-paragraf'!G56=0," ",'příjmy-paragraf'!G56)
A58: =IF('příjmy-paragraf'!A57=0," ",'příjmy-paragraf'!A57) -> 3745 | B58: =IF('příjmy-paragraf'!B57=0," ",'příjmy-paragraf'!B57) -> péče o vzhled obce | C58: =IF('příjmy-paragraf'!C57=0," ",'příjmy-paragraf'!C57) -> čištění města | D58: =IF('příjmy-paragraf'!F57=0," ",'příjmy-paragraf'!F57) -> 145000 | E58: =IF('příjmy-paragraf'!G57=0," ",'příjmy-paragraf'!G57)
A59: =IF('příjmy-paragraf'!A58=0," ",'příjmy-paragraf'!A58) -> 4351 | B59: =IF('příjmy-paragraf'!B58=0," ",'příjmy-paragraf'!B58) -> pečovatelská služba | C59: =IF('příjmy-paragraf'!C58=0," ",'příjmy-paragraf'!C58) -> DPS služby klientům | D59: =IF('příjmy-paragraf'!F58=0," ",'příjmy-paragraf'!F58) -> 340000 | E59: =IF('příjmy-paragraf'!G58=0," ",'příjmy-paragraf'!G58)
A60: =IF('příjmy-paragraf'!A59=0," ",'příjmy-paragraf'!A59) -> 5512 | B60: =IF('příjmy-paragraf'!B59=0," ",'příjmy-paragraf'!B59) -> JSDH | C60: =IF('příjmy-paragraf'!C59=0," ",'příjmy-paragraf'!C59) -> příspěvek Agrofert | D60: =IF('příjmy-paragraf'!F59=0," ",'příjmy-paragraf'!F59) -> 60000
A61: =IF('příjmy-paragraf'!A60=0," ",'příjmy-paragraf'!A60) -> 6171 | B61: =IF('příjmy-paragraf'!B60=0," ",'příjmy-paragraf'!B60) -> činnost místní správy (nedaňové příjmy) | C61: =IF('příjmy-paragraf'!C60=0," ",'příjmy-paragraf'!C60) -> obědy | D61: =SUM(E61:E62) -> 550000 | E61: =IF('příjmy-paragraf'!G60=0," ",'příjmy-paragraf'!G60) -> 500000
C62: =IF('příjmy-paragraf'!C61=0," ",'příjmy-paragraf'!C61) -> ostatní nahodilé přijmy | E62: =IF('příjmy-paragraf'!G61=0," ",'příjmy-paragraf'!G61) -> 50000
A63: =IF('příjmy-paragraf'!A62=0," ",'příjmy-paragraf'!A62) -> 6330 | B63: =IF('příjmy-paragraf'!B62=0," ",'příjmy-paragraf'!B62) -> převody fondům (sociální fond) | C63: =IF('příjmy-paragraf'!C62=0," ",'příjmy-paragraf'!C62) -> sociální fond | D63: =IF('příjmy-paragraf'!F62=0," ",'příjmy-paragraf'!F62) -> 700000 | E63: =IF('příjmy-paragraf'!G62=0," ",'příjmy-paragraf'!G62)
A64: celkem | D64: =SUM(D4:D63) -> 147637646
B66: Usnesení č.7/13Z/2024
B67: Zastupitelstvo města schvaluje na 13. zasedání konaném dne 16.12.2024 rozpočet města pro rok 2025
B68: dle předložených podkladů jako schodkový ve výši příjmů: | D68: =D64 -> 147637646
C69: výdajů: | D69: =J55 -> 160073956
B70: splátek bankovního úvěru ve výši: | D70: 1500000
B71: Schodek rozpočtu bude kryt ze zůstatků finančních prostředků
B72: na bankovních účtech k 31.12.2024 ve výši: | D72: =D69+D70-D68 -> 13936310

Sheet příjmy-paragraf
A1: Rozpočet města Nové Město pod Smrkem na rok 2025
A2: příjmy | B2: (v Kč) | D2: rok 2024 | F2: rok 2025 | G2: rok 2025
A3: paragraf | B3: popis | C3: popis (původní) | D3: plán | E3: k 30.09. | F3: návrh | G3: dílčí návrhy | H3: poznámka
A4: 111x | B4: daň z příjmů fyzických osob | D4: 15200000 | E4: 12237206 | F4: 18000000
A5: 112x | B5: daň z příjmů právnických osob | D5: 26916000 | E5: 23055940 | F5: =I5+J5 -> 27434000 | I5: 24000000 | J5: 3434000
A6: 121x | B6: daň z přidané hodnoty | D6: 41200000 | E6: 26726627 | F6: 38000000
A7: 1511 | B7: daň z nemovitých věcí | D7: 1200000 | E7: 2076634 | F7: 2000000
B8: Daně sdílené ze SR | D8: =SUM(D4:D7) -> 84516000 | E8: =SUM(E4:E7) -> 64096407 | G8: =SUM(F4:F7) -> 85434000
A9: 134x | B9: místní poplatky z vybraných činností a služeb | C9: poplatek za psy | D9: 71000 | E9: 66870 | F9: =SUM(G9:G13) -> 2141000 | G9: 70000
C10: poplatek z veřejného pros. | D10: 15000 | E10: 35808 | G10: 20000
C11: poplatek z pobytu | D11: 150000 | E11: 135700 | G11: 150000
C12: poplatek ze vstupného | D12: 1000 | E12: 1690 | G12: 1000
C13: poplatek za odpad | D13: 1900000 | E13: 1757347 | G13: =IF('3722-odpady'!G8=0," ",'3722-odpady'!G8) -> 1900000
A14: 1361 | B14: správní poplatky | D14: 100000 | E14: 174394 | F14: 150000
A15: 1381 | B15: daně, poplatky z hazardních her | D15: 100000 | E15: 154031 | F15: 100000
A16: 1385 | B16: příjem z daně z technických her | D16: 1500000 | E16: 1189129 | F16: 2000000
B17: Místní daně | D17: =SUM(D9:D16) -> 3837000 | E17: =SUM(E9:E16) -> 3514969 | G17: =SUM(F9:F16) -> 4391000
A18: 2412 | B18: splátky půjček (UNITAS) | D18: 220000 | E18: 183490 | F18: 220000
B19: Splátky půjček | D19: =SUM(D18) -> 220000 | E19: =SUM(E18) -> 183490 | G19: =SUM(F18) -> 220000
A20: 4112 | B20: neinvestiční přijaté transfery ze SR | C20: výkon státní správy | D20: 2598900 | E20: 1949175 | F20: 2226000
A21: 4116 | B21: ostatní neinvestiční přijaté dotace ze SR | C21: soc. terénní pracovník | D21: 300000 | E21: 300000 | F21: =SUM(G21:G27) -> 5135846 | G21: 400000
C22: APK | D22: 582000 | E22: 582000 | G22: 500000
C23: sociální práce | D23: 402430 | E23: 402430 | G23: 400000
C24: terénní pracovník | D24: 0 | E24: 0 | G24: 400000
C25: UP VPP | D25: 1072680 | E25: 620000 | G25: 1000000
C26: dotace pro ZŠ z KÚLK | D26: 0 | E26: 0 | G26: =I26+J26 -> 2125370 | I26: 0 | J26: 2125370
C27: dotace pro ZUŠ z KÚLK | D27: 0 | E27: 0 | G27: =I27+J27 -> 310476 | I27: 0 | J27: 310476
A28: 4121 | B28: neinvestiční přijaté transfery od obcí | C28: od obcí za přestupky | D28: 0 | E28: 0 | F28: =G28 -> 5000 | G28: =I28+J28 -> 5000 | I28: 0 | J28: 5000
A29: 4122 | B29: neinvestiční přijaté dotace od krajů | C29: DPS služby klientům | D29: 1831520 | E29: 1831524 | F29: =SUM(G29:G30) -> 1566500 | G29: 1500000
C30: SVČ ROROŠ | D30: 0 | E30: 0 | G30: =I30+J30 -> 66500 | I30: 0 | J30: 66500
A31: 4213 | B31: investiční přijaté dotace ze SF | D31: 0 | E31: 0 | F31: 0
A32: 4216 | B32: investiční dotace ze SR | C32: MMR rekonstrukce učebny ZŠ | D32: 0 | E32: 0 | F32: =SUM(G32:G33) -> 8690000 | G32: 5690000
C33: MMR revitalizace Mírového náměstí | D33: 0 | E33: 0 | G33: 3000000
A34: 4222 | B34: investiční dotace kraj | D34: 0 | E34: 0 | F34: =SUM(G34:G36) -> 600000 | G34: 0
C35: Dotace auto JSDH | D35: 0 | E35: 0 | G35: 600000
D36: 0 | E36: 0 | G36: 0
B37: Dotace | D37: =SUM(D20:D36) -> 6787530 | E37: =SUM(E20:E36) -> 5685129 | G37: =SUM(F20:F36) -> 18223346
A38: 1031 | B38: pěstební činnost | C38: les | D38: =IF('1031-les'!C10=0," ",'1031-les'!C10) -> 400000 | E38: =IF('1031-les'!D10=0," ",'1031-les'!D10) -> 283051 | F38: =IF('1031-les'!G10=0," ",'1031-les'!G10) -> 500000
A39: 2321 | B39: odvádění a čištění odpadních vod | C39: nájemné FVS | D39: 363000 | E39: 364600 | F39: 494000
A40: 3314 | B40: činnosti knihovnické | C40: knihovna | D40: =IF('3314-knihovna'!C7=0," ",'3314-knihovna'!C7) -> 15000 | E40: =IF('3314-knihovna'!D7=0," ",'3314-knihovna'!D7) -> 7566 | F40: =IF('3314-knihovna'!G10=0," ",'3314-knihovna'!G10) -> 10000
A41: 3315 | B41: činosti muzeí a galerií | C41: muzeum | D41: =IF('3315-muzeum'!C10=0," ",'3315-muzeum'!C10) | E41: =IF('3315-muzeum'!D10=0," ",'3315-muzeum'!D10) | F41: 0
A42: 3349 | B42: záležitosti sdělovacích prostředků (noviny) | C42: noviny | D42: 15000 | E42: 6810 | F42: 10000
A43: 3399 | B43: vstupné na kulturní akce | D43: 30000 | E43: 26700 | F43: =IF('3399-Kultura-SPOZ'!G10=0," ",'3399-Kultura-SPOZ'!G10) -> 75000
A44: 3421 | B44: peněžité dary | C44: volný čas dětí a mládeže | D44: 0 | E44: 0 | F44: =G44 -> 106300 | G44: =I44+J44 -> 106300 | I44: 0 | J44: 106300
A45: 3612 | B45: bytové hospodářství | C45: nájem byty | D45: =IF('3612-BS'!C11=0," ",'3612-BS'!C11) -> 28190000 | E45: =IF('3612-BS'!D11=0," ",'3612-BS'!D11) -> 22698398 | F45: =IF('3612-BS'!G11=0," ",'3612-BS'!G11) -> 30047000
A46: 3613 | B46: nebytové hospodářství | C46: nájem nebytový | D46: =IF('3613-budovy'!C10=0," ",'3613-budovy'!C10) -> 1700000 | E46: =IF('3613-budovy'!D10=0," ",'3613-budovy'!D10) -> 1849687 | F46: =IF('3613-budovy'!G10=0," ",'3613-budovy'!G10) -> 1750000
A47: 3631 | B47: veřejné osvětlení (pronájem plošiny) | C47: veřejné osvětlení | D47: =IF('3631-osvětlení'!C11=0," ",'3631-osvětlení'!C11) -> 10000 | E47: =IF('3631-osvětlení'!D11=0," ",'3631-osvětlení'!D11) -> 130932 | F47: =IF('3631-osvětlení'!G11=0," ",'3631-osvětlení'!G11) -> 260000
A48: 3632 | B48: pohřebnictví | C48: pohřebnictví | D48: =IF('3632-pohřebnictví'!C9=0," ",'3632-pohřebnictví'!C9) -> 50000 | E48: =IF('3632-pohřebnictví'!D9=0," ",'3632-pohřebnictví'!D9) -> 51724 | F48: =IF('3632-pohřebnictví'!G9=0," ",'3632-pohřebnictví'!G9) -> 50000
A49: 3639 | B49: územní rozvoj | C49: pronájem pozemků | D49: =IF('město-různé'!C7=0," ",'město-různé'!C7) -> 220000 | E49: =IF('město-různé'!D7=0," ",'město-různé'!D7) -> 209463 | F49: =SUM(G49:G52) -> 3250000 | G49: =IF('město-různé'!G7=0," ",'město-různé'!G7) -> 250000
C50: prodej pozemků | D50: =IF('město-různé'!C8=0," ",'město-různé'!C8) -> 3500000 | E50: =IF('město-různé'!D8=0," ",'město-různé'!D8) -> 4843967 | G50: =IF('město-různé'!G8=0," ",'město-různé'!G8) -> 3000000
C51: prodej budov a staveb | D51: =IF('město-různé'!C9=0," ",'město-různé'!C9) -> 50000 | E51: =IF('město-různé'!D9=0," ",'město-různé'!D9) | G51: =IF('město-různé'!G9=0," ",'město-různé'!G9) -> 1e-18
C52: kraj-komunikace náměstí | D52: 13270000 | E52: 8900000
A53: 3713 | B53: technologie vytápění (Teplárenská) | C53: nájem Teplárenská | D53: 1956000 | E53: 1465609 | F53: 0
A54: 3722 | B54: sběr a svoz komunálního odpadu | C54: kompenzace FCC | D54: 0 | E54: 0 | F54: =IF('3722-odpady'!G18=0," ",'3722-odpady'!G18)
A55: 3723 | B55: sběr a svoz odpadu | C55: využití odpadu EKOKOM | D55: =IF('3722-odpady'!C12=0," ",'3722-odpady'!C12) -> 52000 | E55: =IF('3722-odpady'!D12=0," ",'3722-odpady'!D12) -> 49384 | F55: =IF('3722-odpady'!G12=0," ",'3722-odpady'!G12) -> 57000
A56: 3725 | B56: využívání komun. odpadů (Eko-com,Asocol) | C56: odpady EKOKOM | D56: =IF('3722-odpady'!C16=0," ",'3722-odpady'!C16) -> 800000 | E56: =IF('3722-odpady'!D16=0," ",'3722-odpady'!D16) -> 759672 | F56: =IF('3722-odpady'!G16=0," ",'3722-odpady'!G16) -> 965000
A57: 3745 | B57: péče o vzhled obce | C57: čištění města | D57: =IF('3745-zeleň'!C8=0," ",'3745-zeleň'!C8) -> 50000 | E57: =IF('3745-zeleň'!D8=0," ",'3745-zeleň'!D8) -> 48763 | F57: =IF('3745-zeleň'!G8=0," ",'3745-zeleň'!G8) -> 145000
A58: 4351 | B58: pečovatelská služba | C58: DPS služby klientům | D58: =IF('4351-DPS'!C9=0," ",'4351-DPS'!C9) -> 330000 | E58: =IF('4351-DPS'!D9=0," ",'4351-DPS'!D9) -> 357784 | F58: =IF('4351-DPS'!G9=0," ",'4351-DPS'!G9) -> 340000
A59: 5512 | B59: JSDH | C59: příspěvek Agrofert | E59: =IF('4351-DPS'!D10=0," ",'4351-DPS'!D10) | F59: =IF('5512-hasiči'!G9=0," ",'5512-hasiči'!G9) -> 60000
A60: 6171 | B60: činnost místní správy (nedaňové příjmy) | C60: obědy | D60: =IF('6171-MěÚ'!C7=0," ",'6171-MěÚ'!C7) -> 450000 | E60: =IF('6171-MěÚ'!D7=0," ",'6171-MěÚ'!D7) -> 413146 | F60: =SUM(G60:G61) -> 550000 | G60: =IF('6171-MěÚ'!G7=0," ",'6171-MěÚ'!G7) -> 500000
C61: ostatní nahodilé přijmy | D61: =IF('6171-MěÚ'!C8=0," ",'6171-MěÚ'!C8) | E61: =IF('6171-MěÚ'!D8=0," ",'6171-MěÚ'!D8) -> 56714 | G61: =IF('6171-MěÚ'!G8=0," ",'6171-MěÚ'!G8) -> 50000
A62: 6330 | B62: převody fondům (sociální fond) | C62: sociální fond | D62: 590000 | E62: 700000 | F62: =IF('6171-MěÚ'!G48=0," ",'6171-MěÚ'!G48) -> 700000
B63: Součet | D63: =SUM(D38:D62) -> 52041000 | E63: =SUM(E38:E62) -> 43223970 | G63: =SUM(F38:F62) -> 39369300
A64: celkem | D64: =SUM(D8+D17+D19+D37+D63) -> 147401530 | E64: =SUM(E8+E17+E19+E37+E63) -> 116703965 | F64: =SUM(F4:F63) -> 147637646 | G64: =SUM(G63+G37+G19+G17+G8) -> 147637646
B66: Příjmy
B67: Daňové příjmy | F67: =G8+G17 -> 89825000
B68: Nedaňové příjmy | F68: =F64-(F67+F69+F70) -> 36589300
B69: Kapitálové příjmy | F69: =SUM(G50+G51) -> 3000000
B70: Přijaté transfery (dotace) | F70: =G37 -> 18223346
B71: Součet | F71: =SUM(F67:F70) -> 147637646

Sheet HV PO
D2: ='HV PO pr.'!D3 -> Použití hospodářských výsledků
D3: ='HV PO pr.'!D4 -> příspěvkových organizací za rok 2020
B5: ='HV PO pr.'!B6 -> HV | C5: ='HV PO pr.'!C6 -> odvod 19 | E5: ='HV PO pr.'!E6 -> rezervní fond | H5: ='HV PO pr.'!H6 -> fond odměn | K5: ='HV PO pr.'!K6 -> fond reprodukce majetku | M5: ='HV PO pr.'!M6 -> FKSP
B6: ='HV PO pr.'!B7 -> [Kč] | C6: ='HV PO pr.'!C7 -> [Kč] | D6: ='HV PO pr.'!D7 -> stav 2019 | E6: ='HV PO pr.'!E7 -> příděl z HV | F6: ='HV PO pr.'!F7 -> nově | G6: ='HV PO pr.'!G7 -> stav 2019 | H6: ='HV PO pr.'!H7 -> příděl z HV | I6: ='HV PO pr.'!I7 -> nově | ... M6: ='HV PO pr.'!M7 -> stav 2019
A7: ='HV PO pr.'!A8 -> ZŠ | B7: ='HV PO pr.'!B8 -> -36028 | C7: ='HV PO pr.'!C8 -> #REF! | D7: ='HV PO pr.'!D8 -> 979169 | E7: ='HV PO pr.'!E8 -> 0 | F7: ='HV PO pr.'!F8 -> 979169 | G7: ='HV PO pr.'!G8 -> 2000 | H7: ='HV PO pr.'!H8 -> 0 | ... M7: ='HV PO pr.'!M8 -> 286574
A8: ='HV PO pr.'!A9 -> MŠ | B8: ='HV PO pr.'!B9 -> 125975 | C8: ='HV PO pr.'!C9 -> #REF! | D8: ='HV PO pr.'!D9 -> 333468 | E8: ='HV PO pr.'!E9 -> 0 | F8: ='HV PO pr.'!F9 -> 333468 | G8: ='HV PO pr.'!G9 -> 39383 | H8: ='HV PO pr.'!H9 -> 0 | ... M8: ='HV PO pr.'!M9 -> 22820
A9: ='HV PO pr.'!A10 -> ZUŠ | B9: ='HV PO pr.'!B10 -> 2600 | C9: ='HV PO pr.'!C10 -> #REF! | D9: ='HV PO pr.'!D10 -> 360130 | E9: ='HV PO pr.'!E10 -> 0 | F9: ='HV PO pr.'!F10 -> 360130 | G9: ='HV PO pr.'!G10 -> 45340 | H9: ='HV PO pr.'!H10 -> 0 | ... M9: ='HV PO pr.'!M10 -> 108572
A10: ='HV PO pr.'!A11 -> ROROŠ | B10: ='HV PO pr.'!B11 -> 218622 | C10: ='HV PO pr.'!C11 -> #REF! | D10: ='HV PO pr.'!D11 -> 149837 | E10: ='HV PO pr.'!E11 -> 0 | F10: ='HV PO pr.'!F11 -> 149837 | G10: ='HV PO pr.'!G11 -> 80550 | H10: ='HV PO pr.'!H11 -> 0 | ... M10: ='HV PO pr.'!M11 -> 9485
A11: ='HV PO pr.'!A12 -> SRC | B11: ='HV PO pr.'!B12 -> 251328 | C11: ='HV PO pr.'!C12 -> #REF! | D11: ='HV PO pr.'!D12 -> 18311 | E11: ='HV PO pr.'!E12 -> 0 | F11: ='HV PO pr.'!F12 -> 18311 | G11: ='HV PO pr.'!G12 -> 37400 | H11: ='HV PO pr.'!H12 -> 0 | ... M11: ='HV PO pr.'!M12 -> 70906

Sheet HV PO pr.
D3: Použití hospodářských výsledků
D4: příspěvkových organizací za rok 2020
B6: HV | C6: odvod 19 | E6: rezervní fond | H6: fond odměn | K6: fond reprodukce majetku | M6: FKSP
A7: název PO | B7: [Kč] | C7: [Kč] | D7: stav 2019 | E7: příděl z HV | F7: nově | G7: stav 2019 | H7: příděl z HV | I7: nově | J7: stav 2019 | K7: příděl z HV | L7: nově | M7: stav 2019
A8: ZŠ | B8: -36028 | C8: =#REF! -> #REF! | D8: 979169 | F8: =D8+E8 -> 979169 | G8: 2000 | I8: =G8+H8 -> 2000 | J8: 0 | L8: =J8+K8 -> 0 | M8: 286574
A9: MŠ | B9: 125975 | C9: =#REF! -> #REF! | D9: 333468 | F9: =D9+E9 -> 333468 | G9: 39383 | I9: =G9+H9 -> 39383 | J9: 706 | L9: =J9+K9 -> 706 | M9: 22820
A10: ZUŠ | B10: 2600 | C10: =#REF! -> #REF! | D10: 360130 | F10: =D10+E10 -> 360130 | G10: 45340 | I10: =G10+H10 -> 45340 | J10: 0 | L10: =J10+K10 -> 0 | M10: 108572
A11: ROROŠ | B11: 218622 | C11: =#REF! -> #REF! | D11: 149837 | F11: =D11+E11 -> 149837 | G11: 80550 | I11: =G11+H11 -> 80550 | J11: 0 | L11: =J11+K11 -> 0 | M11: 9485
A12: SRC | B12: 251328 | C12: =#REF! -> #REF! | D12: 18311 | F12: =D12+E12 -> 18311 | G12: 37400 | I12: =G12+H12 -> 37400 | J12: 14497 | L12: =J12+K12 -> 14497 | M12: 70906
B13: =SUM(B8:B12) -> 562497 | C13: =SUM(C8:C12) -> #REF!

Sheet výdaje-paragraf
A1: Rozpočet města Nové Město pod Smrkem na rok 2025
A2: výdaje | B2: (v Kč) | D2: rok 2024 | F2: rok 2025 | G2: rok 2025
A3: paragraf | B3: popis | C3: popis (původní) | D3: plán | E3: k 30.09. | F3: návrh | G3: dílčí návrhy | H3: poznámka
A4: 1014 | B4: ozdrav. hosp. zvířat | C4: útulek | D4: =IF('1014-útulek'!C19=0," ",'1014-útulek'!C19) -> 120000 | E4: =IF('1014-útulek'!D19=0," ",'1014-útulek'!D19) -> 68273 | F4: =IF('1014-útulek'!G19=0," ",'1014-útulek'!G19) -> 100000
A5: 1031 | B5: pěstební činnost | C5: les | D5: =IF('1031-les'!C19=0," ",'1031-les'!C19) -> 300000 | E5: =IF('1031-les'!D19=0," ",'1031-les'!D19) -> 201467 | F5: =IF('1031-les'!G19=0," ",'1031-les'!G19) -> 380000
A6: 2212 | B6: silnice | C6: komunikace | D6: =IF('2212-komunikace'!C21=0," ",'2212-komunikace'!C21) -> 700000 | E6: =IF('2212-komunikace'!D21=0," ",'2212-komunikace'!D21) -> 481816 | F6: =IF('2212-komunikace'!G21=0," ",'2212-komunikace'!G21) -> 710000
A7: 2292 | B7: dopravní obslužnost | C7: dopravní obslužnost | D7: 751000 | E7: 750800 | F7: 751000
A8: 3111 | B8: mateřské školy | C8: Mateřská škola | D8: 1470224 | E8: 1470224 | F8: =IF('3111-MŠ-I'!E6=0," ",'3111-MŠ-I'!E6) -> 1373000
A9: 3113 | B9: základní školy | C9: Základní škola | D9: 6966024 | E9: 7079592 | F9: =I9+J9 -> 6685370 | I9: =IF('3113-ZŠ-I'!E6=0," ",'3113-ZŠ-I'!E6) -> 4560000 | J9: 2125370
A10: 3231 | B10: základní umělecké školy | C10: Základní umělecká škola | D10: 430000 | E10: 430000 | F10: =I10+J10 -> 762476 | I10: =IF('3231-ZUŠ-I'!E6=0," ",'3231-ZUŠ-I'!E6) -> 452000 | J10: 310476
A11: 3314 | B11: činnosti knihovnické | C11: knihovna | D11: =IF('3314-knihovna'!C32=0," ",'3314-knihovna'!C32) -> 681000 | E11: =IF('3314-knihovna'!D32=0," ",'3314-knihovna'!D32) -> 406142 | F11: =IF('3314-knihovna'!G32=0," ",'3314-knihovna'!G32) -> 663000
A12: 3341 | B12: rozhlas a televize | C12: rozhlas | D12: =IF('3341-rozhlas'!C20=0," ",'3341-rozhlas'!C20) -> 51000 | E12: =IF('3341-rozhlas'!D20=0," ",'3341-rozhlas'!D20) -> 4356 | F12: =IF('3341-rozhlas'!G20=0," ",'3341-rozhlas'!G20) -> 50000
A13: 3349 | B13: ostatní záležitosti sdělovacích prostředků | C13: Novoměstské noviny | D13: =IF('město-různé'!C19=0," ",'město-různé'!C19) -> 100000 | E13: =IF('město-různé'!D19=0," ",'město-různé'!D19) -> 55216 | F13: =IF('město-různé'!G19=0," ",'město-různé'!G19) -> 100000
A14: 3399 | B14: ostatní záležitosti kultury | C14: SPOZ, kultura, ples | D14: =IF('3399-Kultura-SPOZ'!C23=0," ",'3399-Kultura-SPOZ'!C23) -> 2050000 | E14: =IF('3399-Kultura-SPOZ'!D23=0," ",'3399-Kultura-SPOZ'!D23) -> 2038120 | F14: =IF('3399-Kultura-SPOZ'!G23=0," ",'3399-Kultura-SPOZ'!G23) -> 875000
A15: 3419 | B15: ostatní sportovní činnost | C15: AFK | D15: 480000 | E15: 480000 | F15: 500000
A16: 3421 | B16: využití volného času dětí a mládeže | C16: ROROŠ | D16: 933170 | E16: 933170 | F16: =I16+J16+K16 -> 1456800 | I16: =IF('3421-ROROŠ-I'!E6=0," ",'3421-ROROŠ-I'!E6) -> 1284000 | J16: 66500 | K16: 106300
A17: 3429 | B17: ostatní zájmová činnost a rekreace | C17: SRC | D17: 7188000 | E17: 7188000 | F17: =SUM(G17:G20) -> 8642000 | G17: =IF('3429-SRC-I'!E6=0," ",'3429-SRC-I'!E6) -> 8183000
C18: dotace Město | D18: =IF('město-různé'!C34=0," ",'město-různé'!C34) -> 250000 | E18: =IF('město-různé'!D34=0," ",'město-různé'!D34) -> 226077 | G18: =IF('město-různé'!G34=0," ",'město-různé'!G34) -> 300000
C19: 3d-3z-3p | D19: =IF('město-různé'!C35=0," ",'město-různé'!C35) -> 50000 | E19: =IF('město-různé'!D35=0," ",'město-různé'!D35) -> 47629 | G19: =IF('město-různé'!G35=0," ",'město-různé'!G35) -> 60000
C20: členské příspěvky | D20: =IF('město-různé'!C36=0," ",'město-různé'!C36) -> 99000 | E20: =IF('město-různé'!D36=0," ",'město-různé'!D36) -> 83315 | G20: =IF('město-různé'!G36=0," ",'město-různé'!G36) -> 99000
A21: 3612 | B21: bytové hospodářství | C21: bytová správa | D21: =IF('3612-BS'!C49=0," ",'3612-BS'!C49) -> 28190000 | E21: =IF('3612-BS'!D49=0," ",'3612-BS'!D49) -> 20703783 | F21: =IF('3612-BS'!G49=0," ",'3612-BS'!G49) -> 30047000
A22: 3613 | B22: nebytové hospodářství | C22: budovy | D22: =IF('3613-budovy'!C29=0," ",'3613-budovy'!C29) -> 2580000 | E22: =IF('3613-budovy'!D29=0," ",'3613-budovy'!D29) -> 1624836 | F22: =IF('3613-budovy'!G29=0," ",'3613-budovy'!G29) -> 2420000
A23: 3631 | B23: veřejné osvětlení | C23: veřejné osvětlení | D23: =IF('3631-osvětlení'!C26=0," ",'3631-osvětlení'!C26) -> 1294000 | E23: =IF('3631-osvětlení'!D26=0," ",'3631-osvětlení'!D26) -> 657863 | F23: =IF('3631-osvětlení'!G26=0," ",'3631-osvětlení'!G26) -> 894000
A24: 3632 | B24: pohřebnictví | C24: pohřebnictví | D24: =IF('3632-pohřebnictví'!C26=0," ",'3632-pohřebnictví'!C26) -> 130000 | E24: =IF('3632-pohřebnictví'!D26=0," ",'3632-pohřebnictví'!D26) -> 45650 | F24: =IF('3632-pohřebnictví'!G26=0," ",'3632-pohřebnictví'!G26) -> 120000
A25: 3639 | B25: komunální služby a územní rozvoj | C25: opravy a investice | D25: 55000000 | E25: 44039271 | F25: =SUM(G25:G27) -> 31230000 | G25: 31000000
C26: platby dani a poplatků | D26: =IF('město-různé'!C20=0," ",'město-různé'!C20) -> 40000 | E26: 14066 | G26: 30000
C27: pořízení nemovitého majetku | D27: =IF('město-různé'!C21=0," ",'město-různé'!C21) -> 1000000 | E27: 0 | G27: =IF('město-různé'!G21=0," ",'město-různé'!G21) -> 200000
A28: 3713 | B28: změny technologíí vytápění | C28: Teplárenská novoměstská | D28: 1259000 | E28: 1259890 | F28: 3000000
A29: 3722 | B29: sběr a svoz komunálních odpadů | C29: odpadové hospodářství | D29: =IF('3722-odpady'!C34=0," ",'3722-odpady'!C34) -> 8236000 | E29: =IF('3722-odpady'!D34=0," ",'3722-odpady'!D34) -> 5421930 | F29: =IF('3722-odpady'!G34=0," ",'3722-odpady'!G34) -> 8488000
A30: 3745 | B30: péče o vzhled obci a veřejnou zeleň | C30: zeleň a čištění města | D30: =IF('3745-zeleň'!C33=0," ",'3745-zeleň'!C33) -> 2873000 | E30: =IF('3745-zeleň'!D33=0," ",'3745-zeleň'!D33) -> 2469632 | F30: =SUM(G30:G31) -> 5243000 | G30: =IF('3745-zeleň'!G33=0," ",'3745-zeleň'!G33) -> 3223000
C31: VPP | D31: =IF('3745-zeleň'!C19=0," ",'3745-zeleň'!C19) -> 2033000 | E31: =IF('3745-zeleň'!D19=0," ",'3745-zeleň'!D19) -> 1131553 | G31: =IF('3745-zeleň'!G19=0," ",'3745-zeleň'!G19) -> 2020000
A32: 4351 | B32: osobní asist., peč. služba … | C32: DPS | D32: =IF('4351-DPS'!C38=0," ",'4351-DPS'!C38) -> 2564000 | E32: =IF('4351-DPS'!D38=0," ",'4351-DPS'!D38) -> 1797602 | F32: =IF('4351-DPS'!G38=0," ",'4351-DPS'!G38) -> 3113000
A33: 5213 | B33: krizová opatření | C33: krizová rezerva | D33: 500000 | E33: 0 | F33: 500000
A34: 5512 | B34: požární ochrana - dobrovolná část | C34: JSDH | D34: =IF('5512-hasiči'!C41=0," ",'5512-hasiči'!C41) -> 1607000 | E34: =IF('5512-hasiči'!D41=0," ",'5512-hasiči'!D41) -> 1178820 | F34: =IF('5512-hasiči'!G41=0," ",'5512-hasiči'!G41) -> 3226000
A35: 6112 | B35: zastupitelstva obcí | C35: Město | D35: =IF('6112-ZM'!C20=0," ",'6112-ZM'!C20) -> 3248000 | E35: =IF('6112-ZM'!D20=0," ",'6112-ZM'!D20) -> 2417392 | F35: =IF('6112-ZM'!G20=0," ",'6112-ZM'!G20) -> 3460000
A36: 6114 | B36: volby | D36: 148000 | E36: 121918
A37: 6171 | B37: činnost místní správy | C37: Město | D37: =IF('město-různé'!C33=0," ",'město-různé'!C33) -> 265000 | E37: =IF('město-různé'!D33=0," ",'město-různé'!D33) -> 243692 | F37: =SUM(G37:G38) -> 28263000 | G37: =IF('město-různé'!G33=0," ",'město-různé'!G33) -> 385000
C38: MěÚ | D38: =IF('6171-MěÚ'!C50=0," ",'6171-MěÚ'!C50) -> 26611000 | E38: =IF('6171-MěÚ'!D50=0," ",'6171-MěÚ'!D50) -> 19810082 | G38: =IF('6171-MěÚ'!G50=0," ",'6171-MěÚ'!G50) -> 27878000
A39: 6223 | B39: mezinárodní spolupráce | C39: Evropská Nová Města | D39: =IF('město-různé'!C39=0," ",'město-různé'!C39) -> 10000 | E39: =IF('město-různé'!D39=0," ",'město-různé'!D39) -> 2894 | F39: =IF('město-různé'!G39=0," ",'město-různé'!G39) -> 60000
A40: 6320 | B40: pojištění funkčně nespecifikované | C40: pojištění majetku a odpovědnosti | D40: =IF('6171-MěÚ'!C52=0," ",'6171-MěÚ'!C52) -> 360000 | E40: =IF('6171-MěÚ'!D52=0," ",'6171-MěÚ'!D52) -> 180329 | F40: =IF('6171-MěÚ'!G52=0," ",'6171-MěÚ'!G52) -> 490000
A41: 6330 | B41: převody vlastním fondům | C41: sociální fond | D41: 590000 | E41: 590000 | F41: =IF('6171-MěÚ'!G48=0," ",'6171-MěÚ'!G48) -> 700000
A42: 6399 | B42: ostatní finanční operace | C42: Daně placené městem, DPH | D42: =IF('město-různé'!C42=0," ",'město-různé'!C42) -> 12916000 | E42: =IF('město-různé'!D42=0," ",'město-různé'!D42) -> 12611351 | F42: =IF('město-různé'!G42=0," ",'město-různé'!G42) -> 11434000
A43: 6402 | B43: finanční vypořádání | C43: vratka dotací z roku 2024 | D43: 0 | E43: 0 | F43: 41310
A44: 6409 | B44: ostatní činnosti | C44: Mikroregion Frýdlantsko | D44: =IF('město-různé'!C43=0," ",'město-různé'!C43) -> 3800000 | E44: =IF('město-různé'!D43=0," ",'město-různé'!D43) -> 641500 | F44: =SUM(G44:G46) -> 4296000 | G44: =IF('město-různé'!G43=0," ",'město-různé'!G43) -> 4221000
C45: SO Smrk | D45: =IF('město-různé'!C44=0," ",'město-různé'!C44) -> 57000 | E45: =IF('město-různé'!D44=0," ",'město-různé'!D44) -> 57040 | G45: =IF('město-různé'!G44=0," ",'město-různé'!G44) -> 57000
C46: Svaz měst a obcí ČR | D46: =IF('město-různé'!C45=0," ",'město-různé'!C45) -> 17000 | E46: =IF('město-různé'!D45=0," ",'město-různé'!D45) -> 17388 | G46: =IF('město-různé'!G45=0," ",'město-různé'!G45) -> 18000
A47: celkem | D47: =SUM(D4:D46) -> 177947418 | E47: =SUM(E4:E46) -> 138982679 | F47: =SUM(F4:F46) -> 160073956
B49: Kapitálové výdaje
A50: 3639 | B50: komunální služby a územní rozvoj | C50: pořízení nemov. majetku | F50: =G27 -> 200000
A51: 3639 | B51: komunální služby a územní rozvoj | C51: územní rozvoj | F51: 22218000
A52: 3713 | B52: změny technologíí vytápění | C52: Teplárenská novoměstská | F52: =F28 -> 3000000
A53: 3722 | B53: sběr a svoz komunálních odpadů | C53: odpadové hospodářství | F53: =IF('3722-odpady'!G33=0," ",'3722-odpady'!G33) -> 1000000
A54: 3745 | B54: péče o vzhled obci a veřejnou zeleň | C54: zeleň a čištění města | F54: 1300000
A55: 4351 | B55: osobní asist., peč. služba … | C55: DPS | F55: 550000
A56: 5512 | B56: požární ochrana - dobrovolná část | C56: požární ochrana | F56: =IF('5512-hasiči'!G40=0," ",'5512-hasiči'!G40) -> 1900000
A57: součet | F57: =SUM(F50:F56) -> 30168000
B59: Běžné výdaje
F60: =F47-F57 -> 129905956
A61: součet | F61: =SUM(F60) -> 129905956

Sheet opr.a inv. pr.
B1: Opravy a investice 2025 | C1: plán [v Kč]
A2: 1 | B2: Projekty a inženýrská činnost | C2: 700000 | D2: Odhad | E2: investice
A3: 2 | B3: Revitalizace prostranství v ulici Jindřichovická, parcela č. 414 | C3: 7530000 | D3: Cena z projektu | E3: investice
A4: 3 | B4: Parkoviště v ul. Nádražní, parcela č. 647/1 + část z ul. Nádražní | C4: 2800000 | D4: Cena z projektu | E4: investice
A5: 4 | B5: 2 učebny, chemie, přírodních věd a kabinet pro ZŠ Tylova | C5: 5746000 | D5: Cena z projektu | E5: oprava
A6: 5 | B6: Okna Dělňák | C6: 750000 | D6: Nabídka | E6: oprava
A7: 6 | B7: Hřbitovní cesta ke Klingerově mauzoleu, parcela č. 2352 | C7: 700000 | D7: Odhad | E7: oprava
A8: 7 | B8: Ludvíkov pod Smrkem - vodovod a kanalizace | C8: 7063000 | D8: Cena z projektu | E8: investice
A9: 8 | B9: Přístupové komunikace u bytových domů v ul. 28. října, 3x vchod a ul. Mánesova parcela č. 831 | C9: 700000 | D9: Nabídka | E9: oprava
A10: 9 | B10: Vybudování doskočiště - sportovní areál u Sokolovny | C10: 275000 | D10: Nabídka | E10: investice
A11: 10 | B11: Rezervní (záložní) pumpy do čerpacích stanic - 5 ks | C11: 450000 | D11: Nabídka | E11: oprava
A12: 11 | B12: Dětské hřiště ul. Jindřichovická u Sokolovny | C12: 3300000 | D12: Nabídka | E12: investice
A13: 12 | B13: Rekonstrukce velké zasedací místnosti | C13: 1000000 | D13: Nabídka | E13: oprava
... A18: 17 | B18: Klimatizace budovy ZUŠ | C18: 100000 | D18: Nabídka | E18: investice
A19: 18
A20: 19
A21: 20
B22: součet | C22: =SUM(C2:C21) -> 34668000 | D22: =IF('výdaje-paragraf'!G25=0," ",'výdaje-paragraf'!G25) -> 31000000 | E22: =D22-C22 -> -3668000
A23: 21 | B23: Rekonstrukce střechy budovy knihovny | C23: 1200000 | D23: Odhad | E23: oprava
A24: 22 | B24: Odkup pozemků Ludvíkov pod Smrkem | C24: 1207000 | D24: Odhad | E24: investice
A25: 23 | B25: Povrch komunikací a chodníků v ulici 28. října (od ul. Vaňkova po ul. Smetanova) | C25: 3115296 | D25: Cena z projektu | E25: oprava
A26: 24 | B26: Úprava přechodů na sil. II/291 u MŠ a ZŠ na řízené se SSZ | C26: 2357913 | D26: Cena z projektu | E26: investice
A27: 25 | B27: Povrch komunikací a chodníků v ulici Mánesova, parcela č. 140/5 a 835 | C27: 2300000 | D27: Odhad | E27: oprava
A28: 26 | B28: Povrch komunikace v ulici Husova, 2x lampa VO parcela č. 598/3 a 647/1 | C28: 1900000 | D28: Odhad | E28: oprava
A29: 27 | B29: Rekonstrukce ul. Palackého (úsek před úřadem) | C29: 1850000 | D29: Odhad | E29: oprava
A30: 28 | B30: Rekonstrukce ul. Palackého (úsek Mánesova - Myslbekova), ul. 28. října (úsek Frýdlantská - Revoluční) | C30: 10000000 | D30: Odhad | E30: oprava
A31: 29 | B31: Oprava štítu budovy úřadu, Palackého 280 | C31: 500000 | D31: Odhad | E31: investice
A32: 30 | B32: Údržba stezek Singltrek pod Smrkem | C32: 150000 | D32: Odhad | E32: oprava
A33: 31 | B33: Dešťová kanalizace s odlehčením - ul. Dělnická, ul. Husova (Měděnec) | C33: 4862277 | D33: Cena z projektu | E33: oprava
A34: 32 | B34: Cyklostezka Ludvíkov pod Smrkem
A35: 33 | B35: Rekonstrukce ul. Vaňkova (včetně přilehlých komunikací) | C35: 28811660 | D35: Cena z projektu | E35: oprava
A36: 34 | B36: Obnova části komunikace na Přebytku | C36: 150000 | D36: Odhad | E36: oprava
A37: 35 | B37: Komunikace ul. Rokycanova (po výměně vody FVS)
A38: 36 | B38: Komunikace Havířská - oprava cca 100 m
A39: 37 | B39: Střecha AFK kabiny | C39: 100000 | D39: Odhad | E39: oprava
A40: 38 | B40: Ludvíkov - zpevnění plochy dětského hřiště | C40: 350000 | D40: Odhad | E40: oprava
A41: 39 | B41: Ludvíkov - oprava vodoteče a stavidla požární nádrže | C41: 520000 | D41: Odhad | E41: oprava
A42: 40 | B42: Fasáda - budova Jindřichovická 145 (policie) | C42: 1800000 | D42: Odhad | E42: oprava
A43: 41 | B43: Mázelova hrobka - klempířské prvky a penetrace pískovce | C43: 1000000 | D43: Odhad | E43: oprava
A44: 42 | B44: Koupaliště - úprava břehu
A45: 43 | B45: Komunikace ul. Jiskrova (po výměně vody FVS)
B46: součet | C46: =SUM(C23:C45) -> 62174146
B47: Celkem | C47: =SUM(C22+C46) -> 96842146
B48: Čísla názvu akcí, neurčují jejich pořadí !!!
B50: i

Sheet 1014-útulek
B1: Rozpočet útulku (org 0338) na | F1: =IF('příjmy-paragraf'!F2=0," ",'příjmy-paragraf'!F2) -> rok 2025
A3: § 1014 | B3: útulek
B4: příjmová část | E4: rozpočet v Kč
A5: položka | B5: text | C5: upravený | D5: skutečnost | E5: předpoklad | F5: návrh | G5: schválený
C6: =IF('příjmy-paragraf'!D2=0," ",'příjmy-paragraf'!D2) -> rok 2024 | D6: =IF('příjmy-paragraf'!E3=0," ",'příjmy-paragraf'!E3) -> k 30.09. | E6: k 31.12.2024 | F6: =IF('příjmy-paragraf'!F2=0," ",'příjmy-paragraf'!F2) -> rok 2025 | G6: =IF('příjmy-paragraf'!F2=0," ",'příjmy-paragraf'!F2) -> rok 2025
B10: součet | C10: =SUM(C7:C9) -> 0 | D10: =SUM(D7:D9) -> 0 | E10: =SUM(E7:E9) -> 0 | F10: =SUM(F7:F9) -> 0 | G10: =SUM(G7:G9) -> 0
A13: § 1014 | B13: útulek
B14: výdajová část | E14: rozpočet v Kč
A15: položka | B15: text | C15: upravený | D15: skutečnost | E15: předpoklad | F15: návrh | G15: schválený
C16: =IF('příjmy-paragraf'!D2=0," ",'příjmy-paragraf'!D2) -> rok 2024 | D16: =IF('příjmy-paragraf'!E3=0," ",'příjmy-paragraf'!E3) -> k 30.09. | E16: k 31.12.2024 | F16: =IF('příjmy-paragraf'!F2=0," ",'příjmy-paragraf'!F2) -> rok 2025 | G16: =IF('příjmy-paragraf'!F2=0," ",'příjmy-paragraf'!F2) -> rok 2025
A17: 5169 | B17: ostatní služby | C17: 120000 | D17: 68273 | E17: 100000 | F17: 100000 | G17: 100000
A18: 5171 | B18: opravy a udržování | C18: 0 | D18: 0 | E18: 0 | F18: 0 | G18: 0
B19: součet | C19: =SUM(C17:C18) -> 120000 | D19: =SUM(D17:D18) -> 68273 | E19: =SUM(E17:E18) -> 100000 | F19: =SUM(F17:F18) -> 100000 | G19: =SUM(G17:G18) -> 100000
B22: Nové Město pod Smrkem dne: | C22: 45595 | E22: zpracoval: | F22: Jaromír Pelant

Sheet 1031-les
B1: Rozpočet pěstební činnost - les (org 0339) na | F1: =IF('příjmy-paragraf'!F2=0," ",'příjmy-paragraf'!F2) -> rok 2025
A3: § 1031 | B3: Pěstební činnost (les)
B4: příjmová část | E4: rozpočet v Kč
A5: položka | B5: text | C5: upravený | D5: skutečnost | E5: předpoklad | F5: návrh | G5: schválený
C6: =IF('příjmy-paragraf'!D2=0," ",'příjmy-paragraf'!D2) -> rok 2024 | D6: =IF('příjmy-paragraf'!E3=0," ",'příjmy-paragraf'!E3) -> k 30.09. | E6: =IF('1014-útulek'!E6=0," ",'1014-útulek'!E6) -> k 31.12.2024 | F6: =IF('příjmy-paragraf'!F2=0," ",'příjmy-paragraf'!F2) -> rok 2025 | G6: =IF('příjmy-paragraf'!F2=0," ",'příjmy-paragraf'!F2) -> rok 2025
A7: 2111 | B7: tržby za prodej dřeva | C7: 400000 | D7: 283051 | E7: 300000 | F7: 500000 | G7: 500000
B10: součet | C10: =SUM(C7:C9) -> 400000 | D10: =SUM(D7:D9) -> 283051 | E10: =SUM(E7:E9) -> 300000 | F10: =SUM(F7:F9) -> 500000 | G10: =SUM(G7:G9) -> 500000
A13: § 1031 | B13: Pěstební činnost (les)
B14: výdajová část | E14: rozpočet v Kč
A15: položka | B15: text | C15: upravený | D15: skutečnost | E15: předpoklad | F15: návrh | G15: schválený
C16: =IF('příjmy-paragraf'!D2=0," ",'příjmy-paragraf'!D2) -> rok 2024 | D16: =IF('příjmy-paragraf'!E3=0," ",'příjmy-paragraf'!E3) -> k 30.09. | E16: =IF('1014-útulek'!E16=0," ",'1014-útulek'!E16) -> k 31.12.2024 | F16: =IF('příjmy-paragraf'!F2=0," ",'příjmy-paragraf'!F2) -> rok 2025 | G16: =IF('příjmy-paragraf'!F2=0," ",'příjmy-paragraf'!F2) -> rok 2025
A17: 5139 | B17: materiál | C17: 30000 | D17: 5400 | E17: 30000 | F17: 80000 | G17: 80000
A18: 5169 | B18: ostatní služby | C18: 270000 | D18: 196067 | E18: 270000 | F18: 300000 | G18: 300000
B19: součet | C19: =SUM(C17:C18) -> 300000 | D19: =SUM(D17:D18) -> 201467 | E19: =SUM(E17:E18) -> 300000 | F19: =SUM(F17:F18) -> 380000 | G19: =SUM(G17:G18) -> 380000
B22: Nové Město pod Smrkem dne: | C22: 45595 | E22: zpracoval: | F22: Radim Seifert

Sheet 2212-komunikace
B1: Rozpočet komunikace (org 0359) na | F1: =IF('příjmy-paragraf'!F2=0," ",'příjmy-paragraf'!F2) -> rok 2025
A3: § 2212 | B3: komunikace
B4: příjmová část | E4: rozpočet v Kč
A5: položka | B5: text | C5: upravený | D5: skutečnost | E5: předpoklad | F5: návrh | G5: schválený
C6: =IF('příjmy-paragraf'!D2=0," ",'příjmy-paragraf'!D2) -> rok 2024 | D6: =IF('příjmy-paragraf'!E3=0," ",'příjmy-paragraf'!E3) -> k 30.09. | E6: =IF('1014-útulek'!E6=0," ",'1014-útulek'!E6) -> k 31.12.2024 | F6: =IF('příjmy-paragraf'!F2=0," ",'příjmy-paragraf'!F2) -> rok 2025 | G6: =IF('příjmy-paragraf'!F2=0," ",'příjmy-paragraf'!F2) -> rok 2025
B10: součet | C10: =SUM(C7:C9) -> 0 | D10: =SUM(D7:D9) -> 0 | E10: =SUM(E7:E9) -> 0 | F10: =SUM(F7:F9) -> 0 | G10: =SUM(G7:G9) -> 0
A13: § 2212 | B13: komunikace
B14: výdajová část | E14: rozpočet v Kč
A15: položka | B15: text | C15: upravený | D15: skutečnost | E15: předpoklad | F15: návrh | G15: schválený
C16: =IF('příjmy-paragraf'!D2=0," ",'příjmy-paragraf'!D2) -> rok 2024 | D16: =IF('příjmy-paragraf'!E3=0," ",'příjmy-paragraf'!E3) -> k 30.09. | E16: =IF('1014-útulek'!E16=0," ",'1014-útulek'!E16) -> k 31.12.2024 | F16: =IF('příjmy-paragraf'!F2=0," ",'příjmy-paragraf'!F2) -> rok 2025 | G16: =IF('příjmy-paragraf'!F2=0," ",'příjmy-paragraf'!F2) -> rok 2025
A17: 5137 | B17: DDHM | C17: 0 | D17: 0 | E17: 0 | F17: 0 | G17: 0
A18: 5139 | B18: materiál (posyp) | C18: 110000 | D18: 72371 | E18: 110000 | F18: 110000 | G18: 110000
A19: 5169 | B19: ostatní služby | C19: 590000 | D19: 236394 | E19: 300000 | F19: 600000 | G19: 600000
A20: 5171 | B20: opravy a udržování | C20: 0 | D20: 173051 | E20: 200000 | F20: 0 | G20: 0
B21: součet | C21: =SUM(C17:C20) -> 700000 | D21: =SUM(D17:D20) -> 481816 | E21: =SUM(E17:E20) -> 610000 | F21: =SUM(F17:F20) -> 710000 | G21: =SUM(G17:G20) -> 710000
B24: Nové Město pod Smrkem dne: | C24: 45595 | E24: zpracoval: | F24: Jalovičár D.

Sheet 3111-MŠ
C1: Návrh rozpočtu | F1: na rok | G1: =[1]P8!F1 -> 2025 | I1: Příloha č. 1, 6
B2: =[1]P8!B2 -> Mateřská škola, Nové Město pod Smrkem, okres Liberec, příspěvková organizace
I3: v Kč
B4: účet | C4: ukazatel | D4: =[1]P8!F1-1 -> 2024 | E4: návrh | F4: I. změna | G4: II. změna | H4: III. změna | I4: po změnách
A5: NÁKLADY CELKEM - účtová třída 5 | D5: =D6+D9+D14+D20+D22+D27+D31+D33 -> 15410328 | E5: =E6+E9+E14+E20+E22+E27+E31+E33 -> 15878000 | F5: =F6+F9+F14+F20+F22+F27+F31+F33 -> 0 | G5: =G6+G9+G14+G20+G22+G27+G31+G33 -> 0 | H5: =H6+H9+H14+H20+H22+H27+H31+H33 -> 0 | I5: =SUM(E5:H5) -> 15878000
A6: 50 | B6: Spotřebované nákupy | D6: =SUM(D7:D8) -> 2731370 | E6: =SUM(E7:E8) -> 2785000 | F6: =SUM(F7:F8) -> 0 | G6: =SUM(G7:G8) -> 0 | H6: =SUM(H7:H8) -> 0 | I6: =SUM(E6:H6) -> 2785000
B7: 501 | C7: Spotřeba materiálu | D7: 1911370 | E7: =[1]P8!D8 -> 1885000 | I7: =SUM(E7:H7) -> 1885000
B8: 502 | C8: Spotřeba energie (teplo, voda, plyn, el. energie) | D8: 820000 | E8: =[1]P8!D17 -> 900000 | I8: =SUM(E8:H8) -> 900000
A9: 51 | B9: Služby | D9: =SUM(D10:D13) -> 342000 | E9: =SUM(E10:E13) -> 772000 | F9: =SUM(F10:F13) -> 0 | G9: =SUM(G10:G13) -> 0 | H9: =SUM(H10:H13) -> 0 | I9: =SUM(E9:H9) -> 772000
B10: 511 | C10: Opravy a udržování | D10: 150000 | E10: =[1]P8!D23 -> 480000 | I10: =SUM(E10:H10) -> 480000
B11: 512 | C11: Cestovné | E11: =[1]P8!D26 -> 0 | I11: =SUM(E11:H11) -> 0
B12: 513 | C12: Náklady na reprezentaci | D12: 5000 | E12: =[1]P8!D28 -> 5000 | I12: =SUM(E12:H12) -> 5000
B13: 518 | C13: Ostatní služby | D13: 187000 | E13: =[1]P8!D30 -> 287000 | I13: =SUM(E13:H13) -> 287000
A14: 52 | B14: Osobní náklady | D14: =SUM(D15:D19) -> 12210958 | E14: =SUM(E15:E19) -> 12215000 | F14: =SUM(F15:F19) -> 0 | G14: =SUM(G15:G19) -> 0 | H14: =SUM(H15:H19) -> 0 | I14: =SUM(E14:H14) -> 12215000
B15: 521 | C15: Mzdové náklady | D15: 9007418 | E15: =[1]P8!D45 -> 9010000 | I15: =SUM(E15:H15) -> 9010000
B16: 524 | C16: Zákonné sociální pojištění (zdravotní, sociální) | D16: 3044507 | E16: =[1]P8!D47 -> 3045000 | I16: =SUM(E16:H16) -> 3045000
B17: 525 | C17: Jiné sociální pojištění (Kooperativa) | D17: 30000 | E17: =[1]P8!D49 -> 30000 | I17: =SUM(E17:H17) -> 30000
B18: 527 | C18: Zákonné sociální náklady | D18: 129033 | E18: =[1]P8!D51 -> 130000 | I18: =SUM(E18:H18) -> 130000
B19: 528 | C19: Jiné sociální náklady | E19: =[1]P8!D56 -> 0 | I19: =SUM(E19:H19) -> 0
A20: 53 | B20: Daně a poplatky | D20: =D21 -> 0 | E20: =E21 -> 0 | F20: =F21 -> 0 | G20: =G21 -> 0 | H20: =H21 -> 0 | I20: =SUM(E20:H20) -> 0
B21: 538 | C21: Jiné daně a poplatky | E21: =[1]P8!D59 -> 0 | I21: =SUM(E21:H21) -> 0
A22: 54 | B22: Ostatní náklady | D22: =SUM(D23:D26) -> 6000 | E22: =SUM(E23:E26) -> 6000 | F22: =SUM(F23:F26) -> 0 | G22: =SUM(G23:G26) -> 0 | H22: =SUM(H23:H26) -> 0 | I22: =SUM(E22:H22) -> 6000
B23: 541 | C23: Smluvní pokuty a úroky z prodlení | E23: =[1]P8!D62 -> 0 | I23: =SUM(E23:H23) -> 0
B24: 542 | C24: Jiné pokuty a penále | E24: =[1]P8!D64 -> 0 | I24: =SUM(E24:H24) -> 0
B25: 547 | C25: Manka a škody | E25: =[1]P8!D66 -> 0 | I25: =SUM(E25:H25) -> 0
B26: 549 | C26: Ostatní náklady (ostatní pojištění, kapesné) | D26: 6000 | E26: =[1]P8!D68 -> 6000 | I26: =SUM(E26:H26) -> 6000
A27: 55 | B27: Odpisy, rezervy a opravné položky | D27: =SUM(D28:D30) -> 120000 | E27: =SUM(E28:E30) -> 100000 | F27: =SUM(F28:F30) -> 0 | G27: =SUM(G28:G30) -> 0 | H27: =SUM(H28:H30) -> 0 | I27: =SUM(E27:H27) -> 100000
B28: 551 | C28: Odpisy dlouhodobého majetku | E28: =[1]P8!D71 -> 0 | I28: =SUM(E28:H28) -> 0
B29: 556 | C29: Tvorba a zúčtování opravných položek | E29: =[1]P8!D73 -> 0 | I29: =SUM(E29:H29) -> 0
B30: 558 | C30: Náklady z DDM | D30: 120000 | E30: =[1]P8!D75 -> 100000 | I30: =SUM(E30:H30) -> 100000
A31: 56 | B31: Finanční náklady | D31: =D32 -> 0 | E31: =E32 -> 0 | F31: =F32 -> 0 | G31: =G32 -> 0 | H31: =H32 -> 0 | I31: =SUM(E31:H31) -> 0
B32: 569 | C32: Ostatní finanční náklady | E32: =[1]P8!D79 -> 0 | I32: =SUM(E32:H32) -> 0
A33: 59 | B33: Daň z příjmů | D33: =SUM(D34:D35) -> 0 | E33: =SUM(E34:E35) -> 0 | F33: =SUM(F34:F35) -> 0 | G33: =SUM(G34:G35) -> 0 | H33: =SUM(H34:H35) -> 0 | I33: =SUM(E33:H33) -> 0
B34: 591 | C34: Daň z příjmů | E34: =[1]P8!D82 -> 0 | I34: =SUM(E34:H34) -> 0
B35: 595 | C35: Dodatečné odvody daně z příjmů | E35: =[1]P8!D84 -> 0 | I35: =SUM(E35:H35) -> 0
A36: VÝNOSY CELKEM - účtová třída 6 | D36: =D37+D41+D46+D48 -> 15410328 | E36: =E37+E41+E46+E48 -> 15878000 | F36: =F37+F41+F46+F48 -> 0 | G36: =G37+G41+G46+G48 -> 0 | H36: =H37+H41+H46+H48 -> 0 | I36: =SUM(E36:H36) -> 15878000
A37: 60 | B37: Výnosy z vlastních výkonů a zboží | D37: =SUM(D38:D40) -> 1690000 | E37: =SUM(E38:E40) -> 1845000 | F37: =SUM(F38:F40) -> 0 | G37: =SUM(G38:G40) -> 0 | H37: =SUM(H38:H40) -> 0 | I37: =SUM(E37:H37) -> 1845000
B38: 602 | C38: Výnosy z prodeje služeb | D38: 1690000 | E38: 1845000 | I38: =SUM(E38:H38) -> 1845000
B39: 603 | C39: Výnosy z pronájmu | I39: =SUM(E39:H39) -> 0
B40: 604 | C40: Výnosy z prodaného zboží | I40: =SUM(E40:H40) -> 0
A41: 64 | B41: Ostatní výnosy | D41: =SUM(D42:D45) -> 150000 | E41: =SUM(E42:E45) -> 515000 | F41: =SUM(F42:F45) -> 0 | G41: =SUM(G42:G45) -> 0 | H41: =SUM(H42:H45) -> 0 | I41: =SUM(E41:H41) -> 515000
B42: 641 | C42: Smluvní pokuty a úroky z prodlení | I42: =SUM(E42:H42) -> 0
B43: 643 | C43: Výnosy z vyřazených pohledávek | I43: =SUM(E43:H43) -> 0
B44: 648 | C44: Čerpání fondů | D44: 150000 | E44: 515000 | I44: =SUM(E44:H44) -> 515000
B45: 649 | C45: Ostatní výnosy z činnosti | I45: =SUM(E45:H45) -> 0
A46: 66 | B46: Finanční výnosy | D46: =D47 -> 0 | E46: =E47 -> 0 | F46: =F47 -> 0 | G46: =G47 -> 0 | H46: =H47 -> 0 | I46: =SUM(E46:H46) -> 0
B47: 662 | C47: Úroky (BÚ apod.) | I47: =SUM(E47:H47) -> 0
A48: 67 | B48: Výnosy z transferů | D48: =SUM(D49:D53) -> 13570328 | E48: =SUM(E49:E53) -> 13518000 | F48: =SUM(F49:F53) -> 0 | G48: =SUM(G49:G53) -> 0 | H48: =SUM(H49:H53) -> 0 | I48: =SUM(E48:H48) -> 13518000
A49: 672… | B49: 500 | C49: Výnosy institucí z transferů - město | D49: 1373000 | E49: 1373000 | I49: =SUM(E49:H49) -> 1373000
A50: 672… | B50: 510 | C50: Výnosy institucí z transferů - odpisy | I50: =SUM(E50:H50) -> 0
A51: 672… | B51: 600 | C51: Výnosy institucí z transferů - kraj | D51: 12197328 | E51: 12145000 | I51: =SUM(E51:H51) -> 12145000
A52: 672… | C52: Výnosy institucí z transferů (dotace) | I52: =SUM(E52:H52) -> 0
A53: 672… | C53: Výnosy institucí ostatní (ÚP) | I53: =SUM(E53:H53) -> 0
A54: Hospodářský výsledek po zdanění | D54: =D36-D5 -> 0 | E54: =E36-E5 -> 0 | F54: =F36-F5 -> 0 | G54: =G36-G5 -> 0 | H54: =H36-H5 -> 0 | I54: =SUM(E54:H54) -> 0
A55: DOPLŇKOVÉ ÚDAJE
A56: Závazky vůči rozpočtu zřizovatele | D56: =SUM(D57:D58) -> 0 | E56: =SUM(E57:E58) -> 0 | F56: =SUM(F57:F58) -> 0 | G56: =SUM(G57:G58) -> 0 | H56: =SUM(H57:H58) -> 0 | I56: =SUM(E56:H56) -> 0
A57: V tom | B57: odvod z provozu | I57: =SUM(E57:H57) -> 0
B58: ostatní odvody | I58: =SUM(E58:H58) -> 0
A59: Úč. příspěvky a dotace ze SR a zřizovatele (nad rozpočet) | D59: =SUM(D60:D62) -> 0 | E59: =SUM(E60:E62) -> 0 | F59: =SUM(F60:F62) -> 0 | G59: =SUM(G60:G62) -> 0 | H59: =SUM(H60:H62) -> 0 | I59: =SUM(E59:H59) -> 0
A60: Z toho | B60: investiční dotace zřizovatele do investičního fondu | I60: =SUM(E60:H60) -> 0
B61: účelové dotace státního rozpočtu a státních fondů | I61: =SUM(E61:H61) -> 0
B62: individuální dotace státního rozpočtu na investice | I62: =SUM(E62:H62) -> 0
A64: sestavil: | C64: =[1]P8!C89 -> Mgr. Gabriela Ouhrabková | D64: podpis: | G64: datum: | H64: 21.10.2024
A66: ředitel PO: | C66: =[1]P8!C91 -> Mgr. Gabriela Ouhrabková | D66: podpis:
A68: Pozn.: k vyplnění jsou určena žlutá pole.

Sheet 3111-MŠ-I
C1: Přehled nákladů | E1: na rok | F1: 2025 | H1: Příloha č. 8
B2: Mateřská škola, Nové Město pod Smrkem, okres Liberec, příspěvková organizace
C3: Hlavní činnost | H3: v Kč
B4: účet | C4: ukazatel | D4: celková potřeba | E4: příspěvek města | F4: další zdroje
F5: vlastní | G5: fondy | H5: od cizích
A6: NÁKLADY CELKEM | D6: =D7+D22+D44+D58+D61+D70+D78+D81 -> 15878000 | E6: =E7+E22+E44+E58+E61+E70+E78+E81 -> 1373000 | F6: =F7+F22+F44+F58+F61+F70+F78+F81 -> 345000 | G6: =G7+G22+G44+G58+G61+G70+G78+G81 -> 515000 | H6: =H7+H22+H44+H58+H61+H70+H78+H81 -> 13645000
A7: 50 | B7: Spotřebované nákupy (501+502) | D7: =SUM(E7:H7) -> 2785000 | E7: =SUM(E8+E17) -> 1050000 | F7: =SUM(F8+F17) -> 200000 | G7: =SUM(G8+G17) -> 35000 | H7: =SUM(H8+H17) -> 1500000
A8: 501 | B8: Spotřeba materiálu | D8: =SUM(E8:H8) -> 1885000 | E8: =SUM(E9:E16) -> 150000 | F8: =SUM(F9:F16) -> 200000 | G8: =SUM(G9:G16) -> 35000 | H8: =SUM(H9:H16) -> 1500000
A9: 501 | B9: 310 | C9: Ostatní materiál, DDHM do 3.000 Kč | D9: =SUM(E9:H9) -> 250000 | E9: 65000 | F9: 150000 | G9: 35000
A10: 501 | B10: 320 | C10: Učebnice a bezplatně poskytované školní potřeby | D10: =SUM(E10:H10) -> 30000 | F10: 30000
A11: 501 | B11: 330 | C11: Kancelářské potřeby | D11: =SUM(E11:H11) -> 20000 | E11: 20000
A12: 501 | B12: 340 | C12: Knihy, tisk, předplatné | D12: =SUM(E12:H12) -> 10000 | E12: 10000
A13: 501 | B13: 360 | C13: Pohonné hmoty | D13: =SUM(E13:H13) -> 0
A14: 501 | B14: 370 | C14: Potraviny | D14: =SUM(E14:H14) -> 1500000 | H14: 1500000
A15: 501 | B15: 380 | C15: Čisticí prostředky | D15: =SUM(E15:H15) -> 75000 | E15: 55000 | F15: 20000
A16: 501 | B16: 390 | C16: Chemikálie | D16: =SUM(E16:H16) -> 0
A17: 502 | B17: Spotřeba energie | D17: =SUM(E17:H17) -> 900000 | E17: =SUM(E18:E21) -> 900000 | F17: =SUM(F18:F21) -> 0 | G17: =SUM(G18:G21) -> 0 | H17: =SUM(H18:H21) -> 0
A18: 502 | B18: 310 | C18: Elektrická energie | D18: =SUM(E18:H18) -> 380000 | E18: 380000
A19: 502 | B19: 320 | C19: Teplo | D19: =SUM(E19:H19) -> 400000 | E19: 400000
A20: 502 | B20: 330 | C20: Plyn | D20: =SUM(E20:H20) -> 0
A21: 502 | B21: 340 | C21: Voda | D21: =SUM(E21:H21) -> 120000 | E21: 120000
A22: 51 | B22: Služby (511+512+513+518) | D22: =SUM(E22:H22) -> 772000 | E22: =SUM(E23+E26+E28+E30) -> 192000 | F22: =SUM(F23+F26+F28+F30) -> 100000 | G22: =SUM(G23+G26+G28+G30) -> 480000 | H22: =SUM(H23+H26+H28+H30) -> 0
A23: 511 | B23: Opravy a udržování | D23: =SUM(E23:H23) -> 480000 | E23: =SUM(E24:E25) -> 0 | F23: =SUM(F24:F25) -> 0 | G23: =SUM(G24:G25) -> 480000 | H23: =SUM(H24:H25) -> 0
A24: 511 | B24: 300 | C24: Opravy a udržování (vč. revizí) | D24: =SUM(E24:H24) -> 480000 | G24: 480000
A25: 511 | B25: 310 | C25: Opravy počítačů | D25: =SUM(E25:H25) -> 0
A26: 512 | B26: Cestovné | D26: =SUM(E26:H26) -> 0 | E26: =SUM(E27:E27) -> 0 | F26: =SUM(F27:F27) -> 0 | G26: =SUM(G27:G27) -> 0 | H26: =SUM(H27:H27) -> 0
A27: 512 | B27: 300 | C27: Cestovné a cestovní náhrady | D27: =SUM(E27:H27) -> 0
A28: 513 | B28: Náklady na reprezentaci | D28: =SUM(E28:H28) -> 5000 | E28: =SUM(E29:E29) -> 5000 | F28: =SUM(F29:F29) -> 0 | G28: =SUM(G29:G29) -> 0 | H28: =SUM(H29:H29) -> 0
A29: 513 | B29: 300 | C29: Náklady na reprezentaci (pohoštění) | D29: =SUM(E29:H29) -> 5000 | E29: 5000
A30: 518 | B30: Ostatní služby | D30: =SUM(E30:H30) -> 287000 | E30: =SUM(E31:E43) -> 187000 | F30: =SUM(F31:F43) -> 100000 | G30: =SUM(G31:G43) -> 0 | H30: =SUM(H31:H43) -> 0
A31: 518 | B31: 310 | C31: Svoz odpadu | D31: =SUM(E31:H31) -> 25000 | E31: 25000
A32: 518 | B32: 320 | C32: Internet | D32: =SUM(E32:H32) -> 10000 | E32: 10000
A33: 518 | B33: 330 | C33: Služby pošt | D33: =SUM(E33:H33) -> 1000 | E33: 1000
A34: 518 | B34: 340 | C34: Telefonní poplatky | D34: =SUM(E34:H34) -> 25000 | E34: 25000
A35: 518 | B35: 350 | C35: Ostatní služby, DDNM do 7.000 Kč | D35: =SUM(E35:H35) -> 200000 | E35: 100000 | F35: 100000
A36: 518 | B36: 370 | C36: Přeprava dětí | D36: =SUM(E36:H36) -> 0
A37: 518 | B37: 400 | C37: Bankovní poplatky | D37: =SUM(E37:H37) -> 20000 | E37: 20000
A38: 518 | B38: 440 | C38: Nájemné tělocvičny | D38: =SUM(E38:H38) -> 6000 | E38: 6000
A39: 518 | B39: 450 | C39: Nájemné leasing (např. kopírky) | D39: =SUM(E39:H39) -> 0
A40: 518 | B40: 460 | C40: Nájem sálu | D40: =SUM(E40:H40) -> 0
A41: 518 | B41: 470 | C41: Rozbory vody | D41: =SUM(E41:H41) -> 0
A42: 518 | B42: 480 | C42: Propagace, reklama | D42: =SUM(E42:H42) -> 0
A43: 518 | B43: 520 | C43: Plavání | D43: =SUM(E43:H43) -> 0
A44: 52 | B44: Osobní náklady (521+524+525+527+528) | D44: =SUM(E44:H44) -> 12215000 | E44: =SUM(E45+E47+E49+E51+E56) -> 70000 | F44: =SUM(F45+F47+F49+F51+F56) -> 0 | G44: =SUM(G45+G47+G49+G51+G56) -> 0 | H44: =SUM(H45+H47+H49+H51+H56) -> 12145000
A45: 521 | B45: Mzdové náklady | D45: =SUM(E45:H45) -> 9010000 | E45: =SUM(E46:E46) -> 0 | F45: =SUM(F46:F46) -> 0 | G45: =SUM(G46:G46) -> 0 | H45: =SUM(H46:H46) -> 9010000
A46: 521 | C46: Mzdové náklady | D46: =SUM(E46:H46) -> 9010000 | H46: 9010000
A47: 524 | B47: Zákonné sociální pojištění | D47: =SUM(E47:H47) -> 3045000 | E47: =SUM(E48:E48) -> 0 | F47: =SUM(F48:F48) -> 0 | G47: =SUM(G48:G48) -> 0 | H47: =SUM(H48:H48) -> 3045000
A48: 524 | C48: Zákonné sociální pojištění | D48: =SUM(E48:H48) -> 3045000 | H48: 3045000
A49: 525 | B49: Jiné sociální pojištění | D49: =SUM(E49:H49) -> 30000 | E49: =SUM(E50:E50) -> 30000 | F49: =SUM(F50:F50) -> 0 | G49: =SUM(G50:G50) -> 0 | H49: =SUM(H50:H50) -> 0
A50: 525 | C50: Jiné sociální pojištění | D50: =SUM(E50:H50) -> 30000 | E50: 30000
A51: 527 | B51: Zákonné sociální náklady | D51: =SUM(E51:H51) -> 130000 | E51: =SUM(E52:E55) -> 40000 | F51: =SUM(F52:F55) -> 0 | G51: =SUM(G52:G55) -> 0 | H51: =SUM(H52:H55) -> 90000
A52: 527 | C52: Zákonné sociální náklady (FKSP) | D52: =SUM(E52:H52) -> 90000 | H52: 90000
A53: 527 | B53: 400 | C53: Služby, školení a vzdělávání | D53: =SUM(E53:H53) -> 10000 | E53: 10000
A54: 527 | B54: 500 | C54: Zdravotní prohlídky | D54: =SUM(E54:H54) -> 0
A55: 527 | B55: 600 | C55: Ochranné pomůcky | D55: =SUM(E55:H55) -> 30000 | E55: 30000
A56: 528 | B56: Jiné sociální náklady | D56: =SUM(E56:H56) -> 0 | E56: =SUM(E57:E57) -> 0 | F56: =SUM(F57:F57) -> 0 | G56: =SUM(G57:G57) -> 0 | H56: =SUM(H57:H57) -> 0
A57: 528 | C57: Jiné sociální náklady | D57: =SUM(E57:H57) -> 0
A58: 53 | B58: Daně a poplatky (538) | D58: =SUM(E58:H58) -> 0 | E58: =SUM(E59:E59) -> 0 | F58: =SUM(F59:F59) -> 0 | G58: =SUM(G59:G59) -> 0 | H58: =SUM(H59:H59) -> 0
A59: 538 | B59: Jiné daně a poplatky | D59: =SUM(E59:H59) -> 0 | E59: =SUM(E60:E60) -> 0 | F59: =SUM(F60:F60) -> 0 | G59: =SUM(G60:G60) -> 0 | H59: =SUM(H60:H60) -> 0
A60: 538 | C60: Jiné daně a poplatky | D60: =SUM(E60:H60) -> 0
A61: 54 | B61: Ostatní náklady (541+542+547+549) | D61: =SUM(E61:H61) -> 6000 | E61: =SUM(E62+E64+E66+E68) -> 6000 | F61: =SUM(F62+F64+F66+F68) -> 0 | G61: =SUM(G62+G64+G66+G68) -> 0 | H61: =SUM(H62+H64+H66+H68) -> 0
A62: 541 | B62: Smluvní pokuty a úroky z prodlení | D62: =SUM(E62:H62) -> 0 | E62: =SUM(E63:E63) -> 0 | F62: =SUM(F63:F63) -> 0 | G62: =SUM(G63:G63) -> 0 | H62: =SUM(H63:H63) -> 0
A63: 541 | C63: Smluvní pokuty a úroky z prodlení | D63: =SUM(E63:H63) -> 0
A64: 542 | B64: Ostatní pokuty a penále | D64: =SUM(E64:H64) -> 0 | E64: =SUM(E65:E65) -> 0 | F64: =SUM(F65:F65) -> 0 | G64: =SUM(G65:G65) -> 0 | H64: =SUM(H65:H65) -> 0
A65: 542 | C65: Ostatní pokuty a penále | D65: =SUM(E65:H65) -> 0
A66: 547 | B66: Manka a škody | D66: =SUM(E66:H66) -> 0 | E66: =SUM(E67:E67) -> 0 | F66: =SUM(F67:F67) -> 0 | G66: =SUM(G67:G67) -> 0 | H66: =SUM(H67:H67) -> 0
A67: 547 | C67: Manka a škody | D67: =SUM(E67:H67) -> 0
A68: 549 | B68: Ostatní náklady (ostatní pojištění, kapesné) | D68: =SUM(E68:H68) -> 6000 | E68: =SUM(E69:E69) -> 6000 | F68: =SUM(F69:F69) -> 0 | G68: =SUM(G69:G69) -> 0 | H68: =SUM(H69:H69) -> 0
A69: 549 | B69: 320 | C69: Ostatní náklady - pojištění | D69: =SUM(E69:H69) -> 6000 | E69: 6000
A70: 55 | B70: Odpisy, rezervy a opravné položky (556+558) | D70: =SUM(E70:H70) -> 100000 | E70: =SUM(E71+E73+E75) -> 55000 | F70: =SUM(F71+F73+F75) -> 45000 | G70: =SUM(G71+G73+G75) -> 0 | H70: =SUM(H71+H73+H75) -> 0
A71: 551 | B71: Odpisy dlouhodobého majetku | D71: =SUM(E71:H71) -> 0 | E71: =SUM(E72:E72) -> 0 | F71: =SUM(F72:F72) -> 0 | G71: =SUM(G72:G72) -> 0 | H71: =SUM(H72:H72) -> 0
A72: 551 | C72: Odpisy dlouhodobého majetku | D72: =SUM(E72:H72) -> 0
A73: 556 | B73: Tvorba a zúčtování opravných položek | D73: =SUM(E73:H73) -> 0 | E73: =SUM(E74:E74) -> 0 | F73: =SUM(F74:F74) -> 0 | G73: =SUM(G74:G74) -> 0 | H73: =SUM(H74:H74) -> 0
A74: 556 | C74: Tvorba a zúčtování opravných položek | D74: =SUM(E74:H74) -> 0
A75: 558 | B75: Náklady z DDM | D75: =SUM(E75:H75) -> 100000 | E75: =SUM(E76:E77) -> 55000 | F75: =SUM(F76:F77) -> 45000 | G75: =SUM(G76:G77) -> 0 | H75: =SUM(H76:H77) -> 0
A76: 558 | B76: 300 | C76: DDHM (3.000-40.000 Kč) | D76: =SUM(E76:H76) -> 100000 | E76: 55000 | F76: 45000
A77: 558 | B77: 330 | C77: DDNM (7.000-60.000 Kč) | D77: =SUM(E77:H77) -> 0
A78: 56 | B78: Finanční náklady (569) | D78: =SUM(E78:H78) -> 0 | E78: =SUM(E79:E79) -> 0 | F78: =SUM(F79:F79) -> 0 | G78: =SUM(G79:G79) -> 0 | H78: =SUM(H79:H79) -> 0
A79: 569 | B79: Ostatní finanční náklady | D79: =SUM(E79:H79) -> 0 | E79: =SUM(E80:E80) -> 0 | F79: =SUM(F80:F80) -> 0 | G79: =SUM(G80:G80) -> 0 | H79: =SUM(H80:H80) -> 0
A80: 569 | C80: Ostatní finanční náklady | D80: =SUM(E80:H80) -> 0
A81: 59 | B81: Daň z příjmů (591+595) | D81: =SUM(E81:H81) -> 0 | E81: =SUM(E82:E84) -> 0 | F81: =SUM(F82:F84) -> 0 | G81: =SUM(G82:G84) -> 0 | H81: =SUM(H82:H84) -> 0
A82: 591 | B82: Daň z příjmů | D82: =SUM(E82:H82) -> 0 | E82: =SUM(E83:E83) -> 0 | F82: =SUM(F83:F83) -> 0 | G82: =SUM(G83:G83) -> 0 | H82: =SUM(H83:H83) -> 0
A83: 591 | B83: 300 | C83: Daň z příjmů | D83: =SUM(E83:H83) -> 0
A84: 595 | B84: Dodatečné odvody daně z příjmů | D84: =SUM(E84:H84) -> 0 | E84: =SUM(E85:E85) -> 0 | F84: =SUM(F85:F85) -> 0 | G84: =SUM(G85:G85) -> 0 | H84: =SUM(H85:H85) -> 0
A85: 595 | B85: 300 | C85: Dodatečné odvody daně z příjmů | D85: =SUM(E85:H85) -> 0
A89: sestavil: | C89: Mgr. Gabriela Ouhrabková | D89: podpis: | F89: datum: | G89: 21.10.2024
A91: ředitel PO: | C91: Mgr. Gabriela Ouhrabková | D91: podpis:
A93: poznámka: | C93: k vyplnění jsou určena žlutá pole

Sheet 3113-ZŠ
C1: Návrh rozpočtu | F1: na rok | G1: =[2]P8!F1 -> 2025 | I1: Příloha č. 1, 6
B2: =[2]P8!B2 -> Základní škola Nové Město pod Smrkem, příspěvková organizace
I3: v Kč
B4: účet | C4: ukazatel | D4: =[2]P8!F1-1 -> 2024 | E4: návrh | F4: I. změna | G4: II. změna | H4: III. změna | I4: po změnách
A5: NÁKLADY CELKEM - účtová třída 5 | D5: =D6+D9+D14+D20+D22+D27+D31+D33 -> 38791155 | E5: =E6+E9+E14+E20+E22+E27+E31+E33 -> 37528578 | F5: =F6+F9+F14+F20+F22+F27+F31+F33 -> 0 | G5: =G6+G9+G14+G20+G22+G27+G31+G33 -> 0 | H5: =H6+H9+H14+H20+H22+H27+H31+H33 -> 0 | I5: =SUM(E5:H5) -> 37528578
A6: 50 | B6: Spotřebované nákupy | D6: =SUM(D7:D8) -> 2542702 | E6: =SUM(E7:E8) -> 2536447 | F6: =SUM(F7:F8) -> 0 | G6: =SUM(G7:G8) -> 0 | H6: =SUM(H7:H8) -> 0 | I6: =SUM(E6:H6) -> 2536447
B7: 501 | C7: Spotřeba materiálu | D7: 885702 | E7: =[2]P8!D8 -> 889447 | I7: =SUM(E7:H7) -> 889447
B8: 502 | C8: Spotřeba energie (teplo, voda, plyn, el. energie) | D8: 1657000 | E8: =[2]P8!D17 -> 1647000 | I8: =SUM(E8:H8) -> 1647000
A9: 51 | B9: Služby | D9: =SUM(D10:D13) -> 2897687 | E9: =SUM(E10:E13) -> 2636000 | F9: =SUM(F10:F13) -> 0 | G9: =SUM(G10:G13) -> 0 | H9: =SUM(H10:H13) -> 0 | I9: =SUM(E9:H9) -> 2636000
B10: 511 | C10: Opravy a udržování | D10: 998700 | E10: =[2]P8!D23 -> 940000 | I10: =SUM(E10:H10) -> 940000
B11: 512 | C11: Cestovné | D11: 40000 | E11: =[2]P8!D26 -> 40000 | I11: =SUM(E11:H11) -> 40000
B12: 513 | C12: Náklady na reprezentaci | D12: 4000 | E12: =[2]P8!D28 -> 4000 | I12: =SUM(E12:H12) -> 4000
B13: 518 | C13: Ostatní služby | D13: 1854987 | E13: =[2]P8!D30 -> 1652000 | I13: =SUM(E13:H13) -> 1652000
A14: 52 | B14: Osobní náklady | D14: =SUM(D15:D19) -> 32533131 | E14: =SUM(E15:E19) -> 32056131 | F14: =SUM(F15:F19) -> 0 | G14: =SUM(G15:G19) -> 0 | H14: =SUM(H15:H19) -> 0 | I14: =SUM(E14:H14) -> 32056131
B15: 521 | C15: Mzdové náklady | D15: 24167233 | E15: =[2]P8!D45 -> 23667233 | I15: =SUM(E15:H15) -> 23667233
B16: 524 | C16: Zákonné sociální pojištění (zdravotní, sociální) | D16: 7961525 | E16: =[2]P8!D47 -> 7961525 | I16: =SUM(E16:H16) -> 7961525
B17: 525 | C17: Jiné sociální pojištění (Kooperativa) | D17: 100000 | E17: =[2]P8!D49 -> 100000 | I17: =SUM(E17:H17) -> 100000
B18: 527 | C18: Zákonné sociální náklady | D18: 304373 | E18: =[2]P8!D51 -> 327373 | I18: =SUM(E18:H18) -> 327373
B19: 528 | C19: Jiné sociální náklady | E19: =[2]P8!D56 -> 0 | I19: =SUM(E19:H19) -> 0
A20: 53 | B20: Daně a poplatky | D20: =D21 -> 0 | E20: =E21 -> 0 | F20: =F21 -> 0 | G20: =G21 -> 0 | H20: =H21 -> 0 | I20: =SUM(E20:H20) -> 0
B21: 538 | C21: Jiné daně a poplatky | E21: =[2]P8!D59 -> 0 | I21: =SUM(E21:H21) -> 0
A22: 54 | B22: Ostatní náklady | D22: =SUM(D23:D26) -> 26000 | E22: =SUM(E23:E26) -> 0 | F22: =SUM(F23:F26) -> 0 | G22: =SUM(G23:G26) -> 0 | H22: =SUM(H23:H26) -> 0 | I22: =SUM(E22:H22) -> 0
B23: 541 | C23: Smluvní pokuty a úroky z prodlení | E23: =[2]P8!D62 -> 0 | I23: =SUM(E23:H23) -> 0
B24: 542 | C24: Jiné pokuty a penále | E24: =[2]P8!D64 -> 0 | I24: =SUM(E24:H24) -> 0
B25: 547 | C25: Manka a škody | E25: =[2]P8!D66 -> 0 | I25: =SUM(E25:H25) -> 0
B26: 549 | C26: Ostatní náklady (ostatní pojištění, kapesné) | D26: 26000 | E26: =[2]P8!D68 -> 0 | I26: =SUM(E26:H26) -> 0
A27: 55 | B27: Odpisy, rezervy a opravné položky | D27: =SUM(D28:D30) -> 784000 | E27: =SUM(E28:E30) -> 300000 | F27: =SUM(F28:F30) -> 0 | G27: =SUM(G28:G30) -> 0 | H27: =SUM(H28:H30) -> 0 | I27: =SUM(E27:H27) -> 300000
B28: 551 | C28: Odpisy dlouhodobého majetku | E28: =[2]P8!D71 -> 0 | I28: =SUM(E28:H28) -> 0
B29: 556 | C29: Tvorba a zúčtování opravných položek | E29: =[2]P8!D73 -> 0 | I29: =SUM(E29:H29) -> 0
B30: 558 | C30: Náklady z DDM | D30: 784000 | E30: =[2]P8!D75 -> 300000 | I30: =SUM(E30:H30) -> 300000
A31: 56 | B31: Finanční náklady | D31: =D32 -> 7635 | E31: =E32 -> 0 | F31: =F32 -> 0 | G31: =G32 -> 0 | H31: =H32 -> 0 | I31: =SUM(E31:H31) -> 0
B32: 569 | C32: Ostatní finanční náklady | D32: 7635 | E32: =[2]P8!D79 -> 0 | I32: =SUM(E32:H32) -> 0
A33: 59 | B33: Daň z příjmů | D33: =SUM(D34:D35) -> 0 | E33: =SUM(E34:E35) -> 0 | F33: =SUM(F34:F35) -> 0 | G33: =SUM(G34:G35) -> 0 | H33: =SUM(H34:H35) -> 0 | I33: =SUM(E33:H33) -> 0
B34: 591 | C34: Daň z příjmů | E34: =[2]P8!D82 -> 0 | I34: =SUM(E34:H34) -> 0
B35: 595 | C35: Dodatečné odvody daně z příjmů | E35: =[2]P8!D84 -> 0 | I35: =SUM(E35:H35) -> 0
A36: VÝNOSY CELKEM - účtová třída 6 | D36: =D37+D41+D46+D48 -> 38791155 | E36: =E37+E41+E46+E48 -> 37528578 | F36: =F37+F41+F46+F48 -> 0 | G36: =G37+G41+G46+G48 -> 0 | H36: =H37+H41+H46+H48 -> 0 | I36: =SUM(E36:H36) -> 37528578
A37: 60 | B37: Výnosy z vlastních výkonů a zboží | D37: =SUM(D38:D40) -> 82000 | E37: =SUM(E38:E40) -> 82000 | F37: =SUM(F38:F40) -> 0 | G37: =SUM(G38:G40) -> 0 | H37: =SUM(H38:H40) -> 0 | I37: =SUM(E37:H37) -> 82000
B38: 602 | C38: Výnosy z prodeje služeb | D38: 70000 | E38: 70000 | I38: =SUM(E38:H38) -> 70000
B39: 603 | C39: Výnosy z pronájmu | D39: 12000 | E39: 12000 | I39: =SUM(E39:H39) -> 12000
B40: 604 | C40: Výnosy z prodaného zboží | I40: =SUM(E40:H40) -> 0
A41: 64 | B41: Ostatní výnosy | D41: =SUM(D42:D45) -> 490730 | E41: =SUM(E42:E45) -> 0 | F41: =SUM(F42:F45) -> 0 | G41: =SUM(G42:G45) -> 0 | H41: =SUM(H42:H45) -> 0 | I41: =SUM(E41:H41) -> 0
B42: 641 | C42: Smluvní pokuty a úroky z prodlení | I42: =SUM(E42:H42) -> 0
B43: 643 | C43: Výnosy z vyřazených pohledávek | I43: =SUM(E43:H43) -> 0
B44: 648 | C44: Čerpání fondů | D44: 490730 | I44: =SUM(E44:H44) -> 0
B45: 649 | C45: Ostatní výnosy z činnosti | I45: =SUM(E45:H45) -> 0
A46: 66 | B46: Finanční výnosy | D46: =D47 -> 0 | E46: =E47 -> 0 | F46: =F47 -> 0 | G46: =G47 -> 0 | H46: =H47 -> 0 | I46: =SUM(E46:H46) -> 0
B47: 662 | C47: Úroky (BÚ apod.) | I47: =SUM(E47:H47) -> 0
A48: 67 | B48: Výnosy z transferů | D48: =SUM(D49:D53) -> 38218425 | E48: =SUM(E49:E53) -> 37446578 | F48: =SUM(F49:F53) -> 0 | G48: =SUM(G49:G53) -> 0 | H48: =SUM(H49:H53) -> 0 | I48: =SUM(E48:H48) -> 37446578
A49: 672… | B49: 500 | C49: Výnosy institucí z transferů - město | D49: 4141000 | E49: 4560000 | I49: =SUM(E49:H49) -> 4560000
A50: 672… | B50: 510 | C50: Výnosy institucí z transferů - odpisy | I50: =SUM(E50:H50) -> 0
A51: 672… | B51: 600 | C51: Výnosy institucí z transferů - kraj | D51: 31004833 | E51: 31004833 | I51: =SUM(E51:H51) -> 31004833
A52: 672… | C52: Výnosy institucí z transferů (dotace) | D52: 3072592 | E52: 1881745 | I52: =SUM(E52:H52) -> 1881745
A53: 672… | C53: Výnosy institucí ostatní (ÚP) | I53: =SUM(E53:H53) -> 0
A54: Hospodářský výsledek po zdanění | D54: =D36-D5 -> 0 | E54: =E36-E5 -> 0 | F54: =F36-F5 -> 0 | G54: =G36-G5 -> 0 | H54: =H36-H5 -> 0 | I54: =SUM(E54:H54) -> 0
A55: DOPLŇKOVÉ ÚDAJE
A56: Závazky vůči rozpočtu zřizovatele | D56: =SUM(D57:D58) -> 0 | E56: =SUM(E57:E58) -> 0 | F56: =SUM(F57:F58) -> 0 | G56: =SUM(G57:G58) -> 0 | H56: =SUM(H57:H58) -> 0 | I56: =SUM(E56:H56) -> 0
A57: V tom | B57: odvod z provozu | I57: =SUM(E57:H57) -> 0
B58: ostatní odvody | I58: =SUM(E58:H58) -> 0
A59: Úč. příspěvky a dotace ze SR a zřizovatele (nad rozpočet) | D59: =SUM(D60:D62) -> 0 | E59: =SUM(E60:E62) -> 0 | F59: =SUM(F60:F62) -> 0 | G59: =SUM(G60:G62) -> 0 | H59: =SUM(H60:H62) -> 0 | I59: =SUM(E59:H59) -> 0
A60: Z toho | B60: investiční dotace zřizovatele do investičního fondu | I60: =SUM(E60:H60) -> 0
B61: účelové dotace státního rozpočtu a státních fondů | I61: =SUM(E61:H61) -> 0
B62: individuální dotace státního rozpočtu na investice | I62: =SUM(E62:H62) -> 0
A64: sestavil: | C64: =[2]P8!C89 -> Mgr. Radoslava Žáková | D64: podpis: | G64: datum: | H64: 04.11.2024
A66: ředitel PO: | C66: =[2]P8!C91 -> Mgr. Radoslava Žáková | D66: podpis:
A68: Pozn.: k vyplnění jsou určena žlutá pole.

Sheet 3113-ZŠ-I
C1: Přehled nákladů | E1: na rok | F1: 2025 | H1: Příloha č. 8
B2: Základní škola Nové Město pod Smrkem, příspěvková organizace
C3: Hlavní činnost | H3: v Kč
B4: účet | C4: ukazatel | D4: celková potřeba | E4: příspěvek města | F4: další zdroje
F5: vlastní | G5: fondy | H5: od cizích
A6: NÁKLADY CELKEM | D6: =D7+D22+D44+D58+D61+D70+D78+D81 -> 37528578 | E6: =E7+E22+E44+E58+E61+E70+E78+E81 -> 4560000 | F6: =F7+F22+F44+F58+F61+F70+F78+F81 -> 82000 | G6: =G7+G22+G44+G58+G61+G70+G78+G81 -> 0 | H6: =H7+H22+H44+H58+H61+H70+H78+H81 -> 32886578
A7: 50 | B7: Spotřebované nákupy (501+502) | D7: =SUM(E7:H7) -> 2536447 | E7: =SUM(E8+E17) -> 2083000 | F7: =SUM(F8+F17) -> 12000 | G7: =SUM(G8+G17) -> 0 | H7: =SUM(H8+H17) -> 441447
A8: 501 | B8: Spotřeba materiálu | D8: =SUM(E8:H8) -> 889447 | E8: =SUM(E9:E16) -> 436000 | F8: =SUM(F9:F16) -> 12000 | G8: =SUM(G9:G16) -> 0 | H8: =SUM(H9:H16) -> 441447
A9: 501 | B9: 310 | C9: Ostatní materiál, DDHM do 3.000 Kč | D9: =SUM(E9:H9) -> 431745 | E9: 268000 | F9: 12000 | H9: 151745
A10: 501 | B10: 320 | C10: Učebnice a bezplatně poskytované školní potřeby | D10: =SUM(E10:H10) -> 319702 | E10: 30000 | H10: 289702
A11: 501 | B11: 330 | C11: Kancelářské potřeby | D11: =SUM(E11:H11) -> 35000 | E11: 35000
A12: 501 | B12: 340 | C12: Knihy, tisk, předplatné | D12: =SUM(E12:H12) -> 18000 | E12: 18000
A13: 501 | B13: 360 | C13: Pohonné hmoty | D13: =SUM(E13:H13) -> 0
A14: 501 | B14: 370 | C14: Potraviny | D14: =SUM(E14:H14) -> 0
A15: 501 | B15: 380 | C15: Čisticí prostředky | D15: =SUM(E15:H15) -> 85000 | E15: 85000
A16: 501 | B16: 390 | C16: Chemikálie | D16: =SUM(E16:H16) -> 0
A17: 502 | B17: Spotřeba energie | D17: =SUM(E17:H17) -> 1647000 | E17: =SUM(E18:E21) -> 1647000 | F17: =SUM(F18:F21) -> 0 | G17: =SUM(G18:G21) -> 0 | H17: =SUM(H18:H21) -> 0
A18: 502 | B18: 310 | C18: Elektrická energie | D18: =SUM(E18:H18) -> 208000 | E18: 208000
A19: 502 | B19: 320 | C19: Teplo | D19: =SUM(E19:H19) -> 939000 | E19: 939000
A20: 502 | B20: 330 | C20: Plyn | D20: =SUM(E20:H20) -> 400000 | E20: 400000
A21: 502 | B21: 340 | C21: Voda | D21: =SUM(E21:H21) -> 100000 | E21: 100000
A22: 51 | B22: Služby (511+512+513+518) | D22: =SUM(E22:H22) -> 2636000 | E22: =SUM(E23+E26+E28+E30) -> 2106000 | F22: =SUM(F23+F26+F28+F30) -> 70000 | G22: =SUM(G23+G26+G28+G30) -> 0 | H22: =SUM(H23+H26+H28+H30) -> 460000
A23: 511 | B23: Opravy a udržování | D23: =SUM(E23:H23) -> 940000 | E23: =SUM(E24:E25) -> 940000 | F23: =SUM(F24:F25) -> 0 | G23: =SUM(G24:G25) -> 0 | H23: =SUM(H24:H25) -> 0
A24: 511 | B24: 300 | C24: Opravy a udržování (vč. revizí) | D24: =SUM(E24:H24) -> 900000 | E24: 900000
A25: 511 | B25: 310 | C25: Opravy počítačů | D25: =SUM(E25:H25) -> 40000 | E25: 40000
A26: 512 | B26: Cestovné | D26: =SUM(E26:H26) -> 40000 | E26: =SUM(E27:E27) -> 0 | F26: =SUM(F27:F27) -> 40000 | G26: =SUM(G27:G27) -> 0 | H26: =SUM(H27:H27) -> 0
A27: 512 | B27: 300 | C27: Cestovné a cestovní náhrady | D27: =SUM(E27:H27) -> 40000 | F27: 40000
A28: 513 | B28: Náklady na reprezentaci | D28: =SUM(E28:H28) -> 4000 | E28: =SUM(E29:E29) -> 4000 | F28: =SUM(F29:F29) -> 0 | G28: =SUM(G29:G29) -> 0 | H28: =SUM(H29:H29) -> 0
A29: 513 | B29: 300 | C29: Náklady na reprezentaci (pohoštění) | D29: =SUM(E29:H29) -> 4000 | E29: 4000
A30: 518 | B30: Ostatní služby | D30: =SUM(E30:H30) -> 1652000 | E30: =SUM(E31:E43) -> 1162000 | F30: =SUM(F31:F43) -> 30000 | G30: =SUM(G31:G43) -> 0 | H30: =SUM(H31:H43) -> 460000
A31: 518 | B31: 310 | C31: Svoz odpadu | D31: =SUM(E31:H31) -> 40000 | E31: 40000
A32: 518 | B32: 320 | C32: Internet | D32: =SUM(E32:H32) -> 14000 | E32: 14000
A33: 518 | B33: 330 | C33: Služby pošt | D33: =SUM(E33:H33) -> 4000 | E33: 4000
A34: 518 | B34: 340 | C34: Telefonní poplatky | D34: =SUM(E34:H34) -> 50000 | E34: 50000
A35: 518 | B35: 350 | C35: Ostatní služby, DDNM do 7.000 Kč | D35: =SUM(E35:H35) -> 860000 | E35: 430000 | F35: 30000 | H35: 400000
A36: 518 | B36: 370 | C36: Přeprava dětí | D36: =SUM(E36:H36) -> 0
A37: 518 | B37: 400 | C37: Bankovní poplatky | D37: =SUM(E37:H37) -> 20000 | E37: 20000
A38: 518 | B38: 440 | C38: Nájemné tělocvičny | D38: =SUM(E38:H38) -> 500000 | E38: 500000
A39: 518 | B39: 450 | C39: Nájemné leasing (např. kopírky) | D39: =SUM(E39:H39) -> 0
A40: 518 | B40: 460 | C40: Nájem sálu | D40: =SUM(E40:H40) -> 4000 | E40: 4000
A41: 518 | B41: 470 | C41: Rozbory vody | D41: =SUM(E41:H41) -> 0
A42: 518 | B42: 480 | C42: Propagace, reklama | D42: =SUM(E42:H42) -> 0
A43: 518 | B43: 520 | C43: Plavání | D43: =SUM(E43:H43) -> 160000 | E43: 100000 | H43: 60000
A44: 52 | B44: Osobní náklady (521+524+525+527+528) | D44: =SUM(E44:H44) -> 32056131 | E44: =SUM(E45+E47+E49+E51+E56) -> 71000 | F44: =SUM(F45+F47+F49+F51+F56) -> 0 | G44: =SUM(G45+G47+G49+G51+G56) -> 0 | H44: =SUM(H45+H47+H49+H51+H56) -> 31985131
A45: 521 | B45: Mzdové náklady | D45: =SUM(E45:H45) -> 23667233 | E45: =SUM(E46:E46) -> 0 | F45: =SUM(F46:F46) -> 0 | G45: =SUM(G46:G46) -> 0 | H45: =SUM(H46:H46) -> 23667233
A46: 521 | C46: Mzdové náklady | D46: =SUM(E46:H46) -> 23667233 | H46: 23667233
A47: 524 | B47: Zákonné sociální pojištění | D47: =SUM(E47:H47) -> 7961525 | E47: =SUM(E48:E48) -> 0 | F47: =SUM(F48:F48) -> 0 | G47: =SUM(G48:G48) -> 0 | H47: =SUM(H48:H48) -> 7961525
A48: 524 | C48: Zákonné sociální pojištění | D48: =SUM(E48:H48) -> 7961525 | H48: 7961525
A49: 525 | B49: Jiné sociální pojištění | D49: =SUM(E49:H49) -> 100000 | E49: =SUM(E50:E50) -> 0 | F49: =SUM(F50:F50) -> 0 | G49: =SUM(G50:G50) -> 0 | H49: =SUM(H50:H50) -> 100000
A50: 525 | C50: Jiné sociální pojištění | D50: =SUM(E50:H50) -> 100000 | H50: 100000
A51: 527 | B51: Zákonné sociální náklady | D51: =SUM(E51:H51) -> 327373 | E51: =SUM(E52:E55) -> 71000 | F51: =SUM(F52:F55) -> 0 | G51: =SUM(G52:G55) -> 0 | H51: =SUM(H52:H55) -> 256373
A52: 527 | C52: Zákonné sociální náklady (FKSP) | D52: =SUM(E52:H52) -> 236373 | H52: 236373
A53: 527 | B53: 400 | C53: Služby, školení a vzdělávání | D53: =SUM(E53:H53) -> 80000 | E53: 60000 | H53: 20000
A54: 527 | B54: 500 | C54: Zdravotní prohlídky | D54: =SUM(E54:H54) -> 8000 | E54: 8000
A55: 527 | B55: 600 | C55: Ochranné pomůcky | D55: =SUM(E55:H55) -> 3000 | E55: 3000
A56: 528 | B56: Jiné sociální náklady | D56: =SUM(E56:H56) -> 0 | E56: =SUM(E57:E57) -> 0 | F56: =SUM(F57:F57) -> 0 | G56: =SUM(G57:G57) -> 0 | H56: =SUM(H57:H57) -> 0
A57: 528 | C57: Jiné sociální náklady | D57: =SUM(E57:H57) -> 0
A58: 53 | B58: Daně a poplatky (538) | D58: =SUM(E58:H58) -> 0 | E58: =SUM(E59:E59) -> 0 | F58: =SUM(F59:F59) -> 0 | G58: =SUM(G59:G59) -> 0 | H58: =SUM(H59:H59) -> 0
A59: 538 | B59: Jiné daně a poplatky | D59: =SUM(E59:H59) -> 0 | E59: =SUM(E60:E60) -> 0 | F59: =SUM(F60:F60) -> 0 | G59: =SUM(G60:G60) -> 0 | H59: =SUM(H60:H60) -> 0
A60: 538 | C60: Jiné daně a poplatky | D60: =SUM(E60:H60) -> 0
A61: 54 | B61: Ostatní náklady (541+542+547+549) | D61: =SUM(E61:H61) -> 0 | E61: =SUM(E62+E64+E66+E68) -> 0 | F61: =SUM(F62+F64+F66+F68) -> 0 | G61: =SUM(G62+G64+G66+G68) -> 0 | H61: =SUM(H62+H64+H66+H68) -> 0
A62: 541 | B62: Smluvní pokuty a úroky z prodlení | D62: =SUM(E62:H62) -> 0 | E62: =SUM(E63:E63) -> 0 | F62: =SUM(F63:F63) -> 0 | G62: =SUM(G63:G63) -> 0 | H62: =SUM(H63:H63) -> 0
A63: 541 | C63: Smluvní pokuty a úroky z prodlení | D63: =SUM(E63:H63) -> 0
A64: 542 | B64: Ostatní pokuty a penále | D64: =SUM(E64:H64) -> 0 | E64: =SUM(E65:E65) -> 0 | F64: =SUM(F65:F65) -> 0 | G64: =SUM(G65:G65) -> 0 | H64: =SUM(H65:H65) -> 0
A65: 542 | C65: Ostatní pokuty a penále | D65: =SUM(E65:H65) -> 0
A66: 547 | B66: Manka a škody | D66: =SUM(E66:H66) -> 0 | E66: =SUM(E67:E67) -> 0 | F66: =SUM(F67:F67) -> 0 | G66: =SUM(G67:G67) -> 0 | H66: =SUM(H67:H67) -> 0
A67: 547 | C67: Manka a škody | D67: =SUM(E67:H67) -> 0
A68: 549 | B68: Ostatní náklady (ostatní pojištění, kapesné) | D68: =SUM(E68:H68) -> 0 | E68: =SUM(E69:E69) -> 0 | F68: =SUM(F69:F69) -> 0 | G68: =SUM(G69:G69) -> 0 | H68: =SUM(H69:H69) -> 0
A69: 549 | B69: 320 | C69: Ostatní náklady - pojištění | D69: =SUM(E69:H69) -> 0
A70: 55 | B70: Odpisy, rezervy a opravné položky (556+558) | D70: =SUM(E70:H70) -> 300000 | E70: =SUM(E71+E73+E75) -> 300000 | F70: =SUM(F71+F73+F75) -> 0 | G70: =SUM(G71+G73+G75) -> 0 | H70: =SUM(H71+H73+H75) -> 0
A71: 551 | B71: Odpisy dlouhodobého majetku | D71: =SUM(E71:H71) -> 0 | E71: =SUM(E72:E72) -> 0 | F71: =SUM(F72:F72) -> 0 | G71: =SUM(G72:G72) -> 0 | H71: =SUM(H72:H72) -> 0
A72: 551 | C72: Odpisy dlouhodobého majetku | D72: =SUM(E72:H72) -> 0
A73: 556 | B73: Tvorba a zúčtování opravných položek | D73: =SUM(E73:H73) -> 0 | E73: =SUM(E74:E74) -> 0 | F73: =SUM(F74:F74) -> 0 | G73: =SUM(G74:G74) -> 0 | H73: =SUM(H74:H74) -> 0
A74: 556 | C74: Tvorba a zúčtování opravných položek | D74: =SUM(E74:H74) -> 0
A75: 558 | B75: Náklady z DDM | D75: =SUM(E75:H75) -> 300000 | E75: =SUM(E76:E77) -> 300000 | F75: =SUM(F76:F77) -> 0 | G75: =SUM(G76:G77) -> 0 | H75: =SUM(H76:H77) -> 0
A76: 558 | B76: 300 | C76: DDHM (3.000-40.000 Kč) | D76: =SUM(E76:H76) -> 300000 | E76: 300000
A77: 558 | B77: 330 | C77: DDNM (7.000-60.000 Kč) | D77: =SUM(E77:H77) -> 0
A78: 56 | B78: Finanční náklady (569) | D78: =SUM(E78:H78) -> 0 | E78: =SUM(E79:E79) -> 0 | F78: =SUM(F79:F79) -> 0 | G78: =SUM(G79:G79) -> 0 | H78: =SUM(H79:H79) -> 0
A79: 569 | B79: Ostatní finanční náklady | D79: =SUM(E79:H79) -> 0 | E79: =SUM(E80:E80) -> 0 | F79: =SUM(F80:F80) -> 0 | G79: =SUM(G80:G80) -> 0 | H79: =SUM(H80:H80) -> 0
A80: 569 | C80: Ostatní finanční náklady | D80: =SUM(E80:H80) -> 0
A81: 59 | B81: Daň z příjmů (591+595) | D81: =SUM(E81:H81) -> 0 | E81: =SUM(E82:E84) -> 0 | F81: =SUM(F82:F84) -> 0 | G81: =SUM(G82:G84) -> 0 | H81: =SUM(H82:H84) -> 0
A82: 591 | B82: Daň z příjmů | D82: =SUM(E82:H82) -> 0 | E82: =SUM(E83:E83) -> 0 | F82: =SUM(F83:F83) -> 0 | G82: =SUM(G83:G83) -> 0 | H82: =SUM(H83:H83) -> 0
A83: 591 | B83: 300 | C83: Daň z příjmů | D83: =SUM(E83:H83) -> 0
A84: 595 | B84: Dodatečné odvody daně z příjmů | D84: =SUM(E84:H84) -> 0 | E84: =SUM(E85:E85) -> 0 | F84: =SUM(F85:F85) -> 0 | G84: =SUM(G85:G85) -> 0 | H84: =SUM(H85:H85) -> 0
A85: 595 | B85: 300 | C85: Dodatečné odvody daně z příjmů | D85: =SUM(E85:H85) -> 0
A89: sestavil: | C89: Mgr. Radoslava Žáková | D89: podpis: | F89: datum: | G89: 04.11.2024
A91: ředitel PO: | C91: Mgr. Radoslava Žáková | D91: podpis:
A93: poznámka: | C93: k vyplnění jsou určena žlutá pole

Sheet 3231-ZUŠ
C1: Návrh rozpočtu | F1: na rok | G1: =[3]P8!F1 -> 2025 | I1: Příloha č. 1, 6
B2: =[3]P8!B2 -> Základní umělecká škola, Nové Město pod Smrkem, okres Liberec, příspěvková organizace
I3: v Kč
B4: účet | C4: ukazatel | D4: =[3]P8!F1-1 -> 2024 | E4: návrh | F4: I. změna | G4: II. změna | H4: III. změna | I4: po změnách
A5: NÁKLADY CELKEM - účtová třída 5 | D5: =D6+D9+D14+D20+D22+D27+D31+D33 -> 5958592 | E5: =E6+E9+E14+E20+E22+E27+E31+E33 -> 5892592 | F5: =F6+F9+F14+F20+F22+F27+F31+F33 -> 0 | G5: =G6+G9+G14+G20+G22+G27+G31+G33 -> 0 | H5: =H6+H9+H14+H20+H22+H27+H31+H33 -> 0 | I5: =SUM(E5:H5) -> 5892592
A6: 50 | B6: Spotřebované nákupy | D6: =SUM(D7:D8) -> 368000 | E6: =SUM(E7:E8) -> 388000 | F6: =SUM(F7:F8) -> 0 | G6: =SUM(G7:G8) -> 0 | H6: =SUM(H7:H8) -> 0 | I6: =SUM(E6:H6) -> 388000
B7: 501 | C7: Spotřeba materiálu | D7: 90000 | E7: =[3]P8!D8 -> 90000 | I7: =SUM(E7:H7) -> 90000
B8: 502 | C8: Spotřeba energie (teplo, voda, plyn, el. energie) | D8: 278000 | E8: =[3]P8!D17 -> 298000 | I8: =SUM(E8:H8) -> 298000
A9: 51 | B9: Služby | D9: =SUM(D10:D13) -> 211500 | E9: =SUM(E10:E13) -> 192000 | F9: =SUM(F10:F13) -> 0 | G9: =SUM(G10:G13) -> 0 | H9: =SUM(H10:H13) -> 0 | I9: =SUM(E9:H9) -> 192000
B10: 511 | C10: Opravy a udržování | D10: 66000 | E10: =[3]P8!D23 -> 66000 | I10: =SUM(E10:H10) -> 66000
B11: 512 | C11: Cestovné | D11: 3000 | E11: =[3]P8!D26 -> 3000 | I11: =SUM(E11:H11) -> 3000
B12: 513 | C12: Náklady na reprezentaci | D12: 3000 | E12: =[3]P8!D28 -> 3000 | I12: =SUM(E12:H12) -> 3000
B13: 518 | C13: Ostatní služby | D13: 139500 | E13: =[3]P8!D30 -> 120000 | I13: =SUM(E13:H13) -> 120000
A14: 52 | B14: Osobní náklady | D14: =SUM(D15:D19) -> 5215592 | E14: =SUM(E15:E19) -> 5215592 | F14: =SUM(F15:F19) -> 0 | G14: =SUM(G15:G19) -> 0 | H14: =SUM(H15:H19) -> 0 | I14: =SUM(E14:H14) -> 5215592
B15: 521 | C15: Mzdové náklady | D15: 3832522 | E15: =[3]P8!D45 -> 3832522 | I15: =SUM(E15:H15) -> 3832522
B16: 524 | C16: Zákonné sociální pojištění (zdravotní, sociální) | D16: 1295392 | E16: =[3]P8!D47 -> 1295392 | I16: =SUM(E16:H16) -> 1295392
B17: 525 | C17: Jiné sociální pojištění (Kooperativa) | D17: 32353 | E17: =[3]P8!D49 -> 32353 | I17: =SUM(E17:H17) -> 32353
B18: 527 | C18: Zákonné sociální náklady | D18: 55325 | E18: =[3]P8!D51 -> 55325 | I18: =SUM(E18:H18) -> 55325
B19: 528 | C19: Jiné sociální náklady | E19: =[3]P8!D56 -> 0 | I19: =SUM(E19:H19) -> 0
A20: 53 | B20: Daně a poplatky | D20: =D21 -> 0 | E20: =E21 -> 0 | F20: =F21 -> 0 | G20: =G21 -> 0 | H20: =H21 -> 0 | I20: =SUM(E20:H20) -> 0
B21: 538 | C21: Jiné daně a poplatky | E21: =[3]P8!D59 -> 0 | I21: =SUM(E21:H21) -> 0
A22: 54 | B22: Ostatní náklady | D22: =SUM(D23:D26) -> 17500 | E22: =SUM(E23:E26) -> 17000 | F22: =SUM(F23:F26) -> 0 | G22: =SUM(G23:G26) -> 0 | H22: =SUM(H23:H26) -> 0 | I22: =SUM(E22:H22) -> 17000
B23: 541 | C23: Smluvní pokuty a úroky z prodlení | E23: =[3]P8!D62 -> 0 | I23: =SUM(E23:H23) -> 0
B24: 542 | C24: Jiné pokuty a penále | E24: =[3]P8!D64 -> 0 | I24: =SUM(E24:H24) -> 0
B25: 547 | C25: Manka a škody | E25: =[3]P8!D66 -> 0 | I25: =SUM(E25:H25) -> 0
B26: 549 | C26: Ostatní náklady (ostatní pojištění, kapesné) | D26: 17500 | E26: =[3]P8!D68 -> 17000 | I26: =SUM(E26:H26) -> 17000
A27: 55 | B27: Odpisy, rezervy a opravné položky | D27: =SUM(D28:D30) -> 146000 | E27: =SUM(E28:E30) -> 80000 | F27: =SUM(F28:F30) -> 0 | G27: =SUM(G28:G30) -> 0 | H27: =SUM(H28:H30) -> 0 | I27: =SUM(E27:H27) -> 80000
B28: 551 | C28: Odpisy dlouhodobého majetku | E28: =[3]P8!D71 -> 0 | I28: =SUM(E28:H28) -> 0
B29: 556 | C29: Tvorba a zúčtování opravných položek | E29: =[3]P8!D73 -> 0 | I29: =SUM(E29:H29) -> 0
B30: 558 | C30: Náklady z DDM | D30: 146000 | E30: =[3]P8!D75 -> 80000 | I30: =SUM(E30:H30) -> 80000
A31: 56 | B31: Finanční náklady | D31: =D32 -> 0 | E31: =E32 -> 0 | F31: =F32 -> 0 | G31: =G32 -> 0 | H31: =H32 -> 0 | I31: =SUM(E31:H31) -> 0
B32: 569 | C32: Ostatní finanční náklady | E32: =[3]P8!D79 -> 0 | I32: =SUM(E32:H32) -> 0
A33: 59 | B33: Daň z příjmů | D33: =SUM(D34:D35) -> 0 | E33: =SUM(E34:E35) -> 0 | F33: =SUM(F34:F35) -> 0 | G33: =SUM(G34:G35) -> 0 | H33: =SUM(H34:H35) -> 0 | I33: =SUM(E33:H33) -> 0
B34: 591 | C34: Daň z příjmů | E34: =[3]P8!D82 -> 0 | I34: =SUM(E34:H34) -> 0
B35: 595 | C35: Dodatečné odvody daně z příjmů | E35: =[3]P8!D84 -> 0 | I35: =SUM(E35:H35) -> 0
A36: VÝNOSY CELKEM - účtová třída 6 | D36: =D37+D41+D46+D48 -> 5958592 | E36: =E37+E41+E46+E48 -> 5892592 | F36: =F37+F41+F46+F48 -> 0 | G36: =G37+G41+G46+G48 -> 0 | H36: =H37+H41+H46+H48 -> 0 | I36: =SUM(E36:H36) -> 5892592
A37: 60 | B37: Výnosy z vlastních výkonů a zboží | D37: =SUM(D38:D40) -> 302000 | E37: =SUM(E38:E40) -> 260000 | F37: =SUM(F38:F40) -> 0 | G37: =SUM(G38:G40) -> 0 | H37: =SUM(H38:H40) -> 0 | I37: =SUM(E37:H37) -> 260000
B38: 602 | C38: Výnosy z prodeje služeb | D38: 300000 | E38: 260000 | I38: =SUM(E38:H38) -> 260000
B39: 603 | C39: Výnosy z pronájmu | D39: 2000 | I39: =SUM(E39:H39) -> 0
B40: 604 | C40: Výnosy z prodaného zboží | I40: =SUM(E40:H40) -> 0
A41: 64 | B41: Ostatní výnosy | D41: =SUM(D42:D45) -> 46000 | E41: =SUM(E42:E45) -> 0 | F41: =SUM(F42:F45) -> 0 | G41: =SUM(G42:G45) -> 0 | H41: =SUM(H42:H45) -> 0 | I41: =SUM(E41:H41) -> 0
B42: 641 | C42: Smluvní pokuty a úroky z prodlení | I42: =SUM(E42:H42) -> 0
B43: 643 | C43: Výnosy z vyřazených pohledávek | I43: =SUM(E43:H43) -> 0
B44: 648 | C44: Čerpání fondů | D44: 46000 | I44: =SUM(E44:H44) -> 0
B45: 649 | C45: Ostatní výnosy z činnosti | I45: =SUM(E45:H45) -> 0
A46: 66 | B46: Finanční výnosy | D46: =D47 -> 0 | E46: =E47 -> 0 | F46: =F47 -> 0 | G46: =G47 -> 0 | H46: =H47 -> 0 | I46: =SUM(E46:H46) -> 0
B47: 662 | C47: Úroky (BÚ apod.) | I47: =SUM(E47:H47) -> 0
A48: 67 | B48: Výnosy z transferů | D48: =SUM(D49:D53) -> 5610592 | E48: =SUM(E49:E53) -> 5632592 | F48: =SUM(F49:F53) -> 0 | G48: =SUM(G49:G53) -> 0 | H48: =SUM(H49:H53) -> 0 | I48: =SUM(E48:H48) -> 5632592
A49: 672… | B49: 500 | C49: Výnosy institucí z transferů - město | D49: 430000 | E49: 452000 | I49: =SUM(E49:H49) -> 452000
A50: 672… | B50: 510 | C50: Výnosy institucí z transferů - odpisy | I50: =SUM(E50:H50) -> 0
A51: 672… | B51: 600 | C51: Výnosy institucí z transferů - kraj | D51: 5180592 | E51: 5180592 | I51: =SUM(E51:H51) -> 5180592
A52: 672… | C52: Výnosy institucí z transferů (dotace) | I52: =SUM(E52:H52) -> 0
A53: 672… | C53: Výnosy institucí ostatní (ÚP) | I53: =SUM(E53:H53) -> 0
A54: Hospodářský výsledek po zdanění | D54: =D36-D5 -> 0 | E54: =E36-E5 -> 0 | F54: =F36-F5 -> 0 | G54: =G36-G5 -> 0 | H54: =H36-H5 -> 0 | I54: =SUM(E54:H54) -> 0
A55: DOPLŇKOVÉ ÚDAJE
A56: Závazky vůči rozpočtu zřizovatele | D56: =SUM(D57:D58) -> 0 | E56: =SUM(E57:E58) -> 0 | F56: =SUM(F57:F58) -> 0 | G56: =SUM(G57:G58) -> 0 | H56: =SUM(H57:H58) -> 0 | I56: =SUM(E56:H56) -> 0
A57: V tom | B57: odvod z provozu | I57: =SUM(E57:H57) -> 0
B58: ostatní odvody | I58: =SUM(E58:H58) -> 0
A59: Úč. příspěvky a dotace ze SR a zřizovatele (nad rozpočet) | D59: =SUM(D60:D62) -> 0 | E59: =SUM(E60:E62) -> 0 | F59: =SUM(F60:F62) -> 0 | G59: =SUM(G60:G62) -> 0 | H59: =SUM(H60:H62) -> 0 | I59: =SUM(E59:H59) -> 0
A60: Z toho | B60: investiční dotace zřizovatele do investičního fondu | I60: =SUM(E60:H60) -> 0
B61: účelové dotace státního rozpočtu a státních fondů | I61: =SUM(E61:H61) -> 0
B62: individuální dotace státního rozpočtu na investice | I62: =SUM(E62:H62) -> 0
A64: sestavil: | C64: =[3]P8!C89 -> Mgr. Martina Funtánová | D64: podpis: | G64: datum: | H64: 23.10.2024
A66: ředitel PO: | C66: =[3]P8!C91 -> Mgr. Martina Funtánová | D66: podpis:
A68: Pozn.: k vyplnění jsou určena žlutá pole.

Sheet 3231-ZUŠ-I
C1: Přehled nákladů | E1: na rok | F1: 2025 | H1: Příloha č. 8
B2: Základní umělecká škola, Nové Město pod Smrkem, okres Liberec, příspěvková organizace
C3: Hlavní činnost | H3: v Kč
B4: účet | C4: ukazatel | D4: celková potřeba | E4: příspěvek města | F4: další zdroje
F5: vlastní | G5: fondy | H5: od cizích
A6: NÁKLADY CELKEM | D6: =D7+D22+D44+D58+D61+D70+D78+D81 -> 5892592 | E6: =E7+E22+E44+E58+E61+E70+E78+E81 -> 452000 | F6: =F7+F22+F44+F58+F61+F70+F78+F81 -> 260000 | G6: =G7+G22+G44+G58+G61+G70+G78+G81 -> 0 | H6: =H7+H22+H44+H58+H61+H70+H78+H81 -> 5180592
A7: 50 | B7: Spotřebované nákupy (501+502) | D7: =SUM(E7:H7) -> 388000 | E7: =SUM(E8+E17) -> 298000 | F7: =SUM(F8+F17) -> 90000 | G7: =SUM(G8+G17) -> 0 | H7: =SUM(H8+H17) -> 0
A8: 501 | B8: Spotřeba materiálu | D8: =SUM(E8:H8) -> 90000 | E8: =SUM(E9:E16) -> 0 | F8: =SUM(F9:F16) -> 90000 | G8: =SUM(G9:G16) -> 0 | H8: =SUM(H9:H16) -> 0
A9: 501 | B9: 310 | C9: Ostatní materiál, DDHM do 3.000 Kč | D9: =SUM(E9:H9) -> 65000 | F9: 65000
A10: 501 | B10: 320 | C10: Učebnice a bezplatně poskytované školní potřeby | D10: =SUM(E10:H10) -> 15000 | F10: 15000
A11: 501 | B11: 330 | C11: Kancelářské potřeby | D11: =SUM(E11:H11) -> 7000 | F11: 7000
A12: 501 | B12: 340 | C12: Knihy, tisk, předplatné | D12: =SUM(E12:H12) -> 3000 | F12: 3000
A13: 501 | B13: 360 | C13: Pohonné hmoty | D13: =SUM(E13:H13) -> 0
A14: 501 | B14: 370 | C14: Potraviny | D14: =SUM(E14:H14) -> 0
A15: 501 | B15: 380 | C15: Čisticí prostředky | D15: =SUM(E15:H15) -> 0
A16: 501 | B16: 390 | C16: Chemikálie | D16: =SUM(E16:H16) -> 0
A17: 502 | B17: Spotřeba energie | D17: =SUM(E17:H17) -> 298000 | E17: =SUM(E18:E21) -> 298000 | F17: =SUM(F18:F21) -> 0 | G17: =SUM(G18:G21) -> 0 | H17: =SUM(H18:H21) -> 0
A18: 502 | B18: 310 | C18: Elektrická energie | D18: =SUM(E18:H18) -> 50000 | E18: 50000
A19: 502 | B19: 320 | C19: Teplo | D19: =SUM(E19:H19) -> 240000 | E19: 240000
A20: 502 | B20: 330 | C20: Plyn | D20: =SUM(E20:H20) -> 0
A21: 502 | B21: 340 | C21: Voda | D21: =SUM(E21:H21) -> 8000 | E21: 8000
A22: 51 | B22: Služby (511+512+513+518) | D22: =SUM(E22:H22) -> 192000 | E22: =SUM(E23+E26+E28+E30) -> 69000 | F22: =SUM(F23+F26+F28+F30) -> 123000 | G22: =SUM(G23+G26+G28+G30) -> 0 | H22: =SUM(H23+H26+H28+H30) -> 0
A23: 511 | B23: Opravy a udržování | D23: =SUM(E23:H23) -> 66000 | E23: =SUM(E24:E25) -> 66000 | F23: =SUM(F24:F25) -> 0 | G23: =SUM(G24:G25) -> 0 | H23: =SUM(H24:H25) -> 0
A24: 511 | B24: 300 | C24: Opravy a udržování (vč. revizí) | D24: =SUM(E24:H24) -> 66000 | E24: 66000
A25: 511 | B25: 310 | C25: Opravy počítačů | D25: =SUM(E25:H25) -> 0
A26: 512 | B26: Cestovné | D26: =SUM(E26:H26) -> 3000 | E26: =SUM(E27:E27) -> 0 | F26: =SUM(F27:F27) -> 3000 | G26: =SUM(G27:G27) -> 0 | H26: =SUM(H27:H27) -> 0
A27: 512 | B27: 300 | C27: Cestovné a cestovní náhrady | D27: =SUM(E27:H27) -> 3000 | F27: 3000
A28: 513 | B28: Náklady na reprezentaci | D28: =SUM(E28:H28) -> 3000 | E28: =SUM(E29:E29) -> 3000 | F28: =SUM(F29:F29) -> 0 | G28: =SUM(G29:G29) -> 0 | H28: =SUM(H29:H29) -> 0
A29: 513 | B29: 300 | C29: Náklady na reprezentaci (pohoštění) | D29: =SUM(E29:H29) -> 3000 | E29: 3000
A30: 518 | B30: Ostatní služby | D30: =SUM(E30:H30) -> 120000 | E30: =SUM(E31:E43) -> 0 | F30: =SUM(F31:F43) -> 120000 | G30: =SUM(G31:G43) -> 0 | H30: =SUM(H31:H43) -> 0
A31: 518 | B31: 310 | C31: Svoz odpadu | D31: =SUM(E31:H31) -> 5000 | F31: 5000
A32: 518 | B32: 320 | C32: Internet | D32: =SUM(E32:H32) -> 20000 | F32: 20000
A33: 518 | B33: 330 | C33: Služby pošt | D33: =SUM(E33:H33) -> 1000 | F33: 1000
A34: 518 | B34: 340 | C34: Telefonní poplatky | D34: =SUM(E34:H34) -> 10000 | F34: 10000
A35: 518 | B35: 350 | C35: Ostatní služby, DDNM do 7.000 Kč | D35: =SUM(E35:H35) -> 80000 | F35: 80000
A36: 518 | B36: 370 | C36: Přeprava dětí | D36: =SUM(E36:H36) -> 0
A37: 518 | B37: 400 | C37: Bankovní poplatky | D37: =SUM(E37:H37) -> 4000 | F37: 4000
A38: 518 | B38: 440 | C38: Nájemné tělocvičny | D38: =SUM(E38:H38) -> 0
A39: 518 | B39: 450 | C39: Nájemné leasing (např. kopírky) | D39: =SUM(E39:H39) -> 0
A40: 518 | B40: 460 | C40: Nájem sálu | D40: =SUM(E40:H40) -> 0
A41: 518 | B41: 470 | C41: Rozbory vody | D41: =SUM(E41:H41) -> 0
A42: 518 | B42: 480 | C42: Propagace, reklama | D42: =SUM(E42:H42) -> 0
A43: 518 | B43: 520 | C43: Plavání | D43: =SUM(E43:H43) -> 0
A44: 52 | B44: Osobní náklady (521+524+525+527+528) | D44: =SUM(E44:H44) -> 5215592 | E44: =SUM(E45+E47+E49+E51+E56) -> 0 | F44: =SUM(F45+F47+F49+F51+F56) -> 35000 | G44: =SUM(G45+G47+G49+G51+G56) -> 0 | H44: =SUM(H45+H47+H49+H51+H56) -> 5180592
A45: 521 | B45: Mzdové náklady | D45: =SUM(E45:H45) -> 3832522 | E45: =SUM(E46:E46) -> 0 | F45: =SUM(F46:F46) -> 0 | G45: =SUM(G46:G46) -> 0 | H45: =SUM(H46:H46) -> 3832522
A46: 521 | C46: Mzdové náklady | D46: =SUM(E46:H46) -> 3832522 | H46: 3832522
A47: 524 | B47: Zákonné sociální pojištění | D47: =SUM(E47:H47) -> 1295392 | E47: =SUM(E48:E48) -> 0 | F47: =SUM(F48:F48) -> 0 | G47: =SUM(G48:G48) -> 0 | H47: =SUM(H48:H48) -> 1295392
A48: 524 | C48: Zákonné sociální pojištění | D48: =SUM(E48:H48) -> 1295392 | H48: 1295392
A49: 525 | B49: Jiné sociální pojištění | D49: =SUM(E49:H49) -> 32353 | E49: =SUM(E50:E50) -> 0 | F49: =SUM(F50:F50) -> 18000 | G49: =SUM(G50:G50) -> 0 | H49: =SUM(H50:H50) -> 14353
A50: 525 | C50: Jiné sociální pojištění | D50: =SUM(E50:H50) -> 32353 | F50: 18000 | H50: 14353
A51: 527 | B51: Zákonné sociální náklady | D51: =SUM(E51:H51) -> 55325 | E51: =SUM(E52:E55) -> 0 | F51: =SUM(F52:F55) -> 17000 | G51: =SUM(G52:G55) -> 0 | H51: =SUM(H52:H55) -> 38325
A52: 527 | C52: Zákonné sociální náklady (FKSP) | D52: =SUM(E52:H52) -> 38325 | H52: 38325
A53: 527 | B53: 400 | C53: Služby, školení a vzdělávání | D53: =SUM(E53:H53) -> 15000 | F53: 15000
A54: 527 | B54: 500 | C54: Zdravotní prohlídky | D54: =SUM(E54:H54) -> 2000 | F54: 2000
A55: 527 | B55: 600 | C55: Ochranné pomůcky | D55: =SUM(E55:H55) -> 0
A56: 528 | B56: Jiné sociální náklady | D56: =SUM(E56:H56) -> 0 | E56: =SUM(E57:E57) -> 0 | F56: =SUM(F57:F57) -> 0 | G56: =SUM(G57:G57) -> 0 | H56: =SUM(H57:H57) -> 0
A57: 528 | C57: Jiné sociální náklady | D57: =SUM(E57:H57) -> 0
A58: 53 | B58: Daně a poplatky (538) | D58: =SUM(E58:H58) -> 0 | E58: =SUM(E59:E59) -> 0 | F58: =SUM(F59:F59) -> 0 | G58: =SUM(G59:G59) -> 0 | H58: =SUM(H59:H59) -> 0
A59: 538 | B59: Jiné daně a poplatky | D59: =SUM(E59:H59) -> 0 | E59: =SUM(E60:E60) -> 0 | F59: =SUM(F60:F60) -> 0 | G59: =SUM(G60:G60) -> 0 | H59: =SUM(H60:H60) -> 0
A60: 538 | C60: Jiné daně a poplatky | D60: =SUM(E60:H60) -> 0
A61: 54 | B61: Ostatní náklady (541+542+547+549) | D61: =SUM(E61:H61) -> 17000 | E61: =SUM(E62+E64+E66+E68) -> 5000 | F61: =SUM(F62+F64+F66+F68) -> 12000 | G61: =SUM(G62+G64+G66+G68) -> 0 | H61: =SUM(H62+H64+H66+H68) -> 0
A62: 541 | B62: Smluvní pokuty a úroky z prodlení | D62: =SUM(E62:H62) -> 0 | E62: =SUM(E63:E63) -> 0 | F62: =SUM(F63:F63) -> 0 | G62: =SUM(G63:G63) -> 0 | H62: =SUM(H63:H63) -> 0
A63: 541 | C63: Smluvní pokuty a úroky z prodlení | D63: =SUM(E63:H63) -> 0
A64: 542 | B64: Ostatní pokuty a penále | D64: =SUM(E64:H64) -> 0 | E64: =SUM(E65:E65) -> 0 | F64: =SUM(F65:F65) -> 0 | G64: =SUM(G65:G65) -> 0 | H64: =SUM(H65:H65) -> 0
A65: 542 | C65: Ostatní pokuty a penále | D65: =SUM(E65:H65) -> 0
A66: 547 | B66: Manka a škody | D66: =SUM(E66:H66) -> 0 | E66: =SUM(E67:E67) -> 0 | F66: =SUM(F67:F67) -> 0 | G66: =SUM(G67:G67) -> 0 | H66: =SUM(H67:H67) -> 0
A67: 547 | C67: Manka a škody | D67: =SUM(E67:H67) -> 0
A68: 549 | B68: Ostatní náklady (ostatní pojištění, kapesné) | D68: =SUM(E68:H68) -> 17000 | E68: =SUM(E69:E69) -> 5000 | F68: =SUM(F69:F69) -> 12000 | G68: =SUM(G69:G69) -> 0 | H68: =SUM(H69:H69) -> 0
A69: 549 | B69: 320 | C69: Ostatní náklady - pojištění | D69: =SUM(E69:H69) -> 17000 | E69: 5000 | F69: 12000
A70: 55 | B70: Odpisy, rezervy a opravné položky (556+558) | D70: =SUM(E70:H70) -> 80000 | E70: =SUM(E71+E73+E75) -> 80000 | F70: =SUM(F71+F73+F75) -> 0 | G70: =SUM(G71+G73+G75) -> 0 | H70: =SUM(H71+H73+H75) -> 0
A71: 551 | B71: Odpisy dlouhodobého majetku | D71: =SUM(E71:H71) -> 0 | E71: =SUM(E72:E72) -> 0 | F71: =SUM(F72:F72) -> 0 | G71: =SUM(G72:G72) -> 0 | H71: =SUM(H72:H72) -> 0
A72: 551 | C72: Odpisy dlouhodobého majetku | D72: =SUM(E72:H72) -> 0
A73: 556 | B73: Tvorba a zúčtování opravných položek | D73: =SUM(E73:H73) -> 0 | E73: =SUM(E74:E74) -> 0 | F73: =SUM(F74:F74) -> 0 | G73: =SUM(G74:G74) -> 0 | H73: =SUM(H74:H74) -> 0
A74: 556 | C74: Tvorba a zúčtování opravných položek | D74: =SUM(E74:H74) -> 0
A75: 558 | B75: Náklady z DDM | D75: =SUM(E75:H75) -> 80000 | E75: =SUM(E76:E77) -> 80000 | F75: =SUM(F76:F77) -> 0 | G75: =SUM(G76:G77) -> 0 | H75: =SUM(H76:H77) -> 0
A76: 558 | B76: 300 | C76: DDHM (3.000-40.000 Kč) | D76: =SUM(E76:H76) -> 0
A77: 558 | B77: 330 | C77: DDNM (7.000-60.000 Kč) | D77: =SUM(E77:H77) -> 80000 | E77: 80000
A78: 56 | B78: Finanční náklady (569) | D78: =SUM(E78:H78) -> 0 | E78: =SUM(E79:E79) -> 0 | F78: =SUM(F79:F79) -> 0 | G78: =SUM(G79:G79) -> 0 | H78: =SUM(H79:H79) -> 0
A79: 569 | B79: Ostatní finanční náklady | D79: =SUM(E79:H79) -> 0 | E79: =SUM(E80:E80) -> 0 | F79: =SUM(F80:F80) -> 0 | G79: =SUM(G80:G80) -> 0 | H79: =SUM(H80:H80) -> 0
A80: 569 | C80: Ostatní finanční náklady | D80: =SUM(E80:H80) -> 0
A81: 59 | B81: Daň z příjmů (591+595) | D81: =SUM(E81:H81) -> 0 | E81: =SUM(E82:E84) -> 0 | F81: =SUM(F82:F84) -> 0 | G81: =SUM(G82:G84) -> 0 | H81: =SUM(H82:H84) -> 0
A82: 591 | B82: Daň z příjmů | D82: =SUM(E82:H82) -> 0 | E82: =SUM(E83:E83) -> 0 | F82: =SUM(F83:F83) -> 0 | G82: =SUM(G83:G83) -> 0 | H82: =SUM(H83:H83) -> 0
A83: 591 | B83: 300 | C83: Daň z příjmů | D83: =SUM(E83:H83) -> 0
A84: 595 | B84: Dodatečné odvody daně z příjmů | D84: =SUM(E84:H84) -> 0 | E84: =SUM(E85:E85) -> 0 | F84: =SUM(F85:F85) -> 0 | G84: =SUM(G85:G85) -> 0 | H84: =SUM(H85:H85) -> 0
A85: 595 | B85: 300 | C85: Dodatečné odvody daně z příjmů | D85: =SUM(E85:H85) -> 0
A89: sestavil: | C89: Mgr. Martina Funtánová | D89: podpis: | F89: datum: | G89: 23.10.2024
A91: ředitel PO: | C91: Mgr. Martina Funtánová | D91: podpis:
A93: poznámka: | C93: k vyplnění jsou určena žlutá pole

Sheet 3314-knihovna
B1: Rozpočet knihovny (org 0325) na | F1: =IF('příjmy-paragraf'!F2=0," ",'příjmy-paragraf'!F2) -> rok 2025
A3: § 3314 | B3: Knihovnické činnosti
B4: příjmová část | E4: rozpočet v Kč
A5: položka | B5: text | C5: upravený | D5: skutečnost | E5: předpoklad | F5: návrh | G5: schválený
C6: =IF('příjmy-paragraf'!D2=0," ",'příjmy-paragraf'!D2) -> rok 2024 | D6: =IF('příjmy-paragraf'!E3=0," ",'příjmy-paragraf'!E3) -> k 30.09. | E6: =IF('1014-útulek'!E6=0," ",'1014-útulek'!E6) -> k 31.12.2024 | F6: =IF('příjmy-paragraf'!F2=0," ",'příjmy-paragraf'!F2) -> rok 2025 | G6: =IF('příjmy-paragraf'!F2=0," ",'příjmy-paragraf'!F2) -> rok 2025
A7: 2111 | B7: služby (poplatky, internet, kopírování,…) | C7: 15000 | D7: 7566 | E7: 8000 | F7: 10000 | G7: 10000
B10: součet | C10: =SUM(C7:C9) -> 15000 | D10: =SUM(D7:D9) -> 7566 | E10: =SUM(E7:E9) -> 8000 | F10: =SUM(F7:F9) -> 10000 | G10: =SUM(G7:G9) -> 10000
A13: § 3314 | B13: Knihovnické činnosti
B14: výdajová část | E14: rozpočet v Kč
A15: položka | B15: text | C15: upravený | D15: skutečnost | E15: předpoklad | F15: návrh | G15: schválený
C16: =IF('příjmy-paragraf'!D2=0," ",'příjmy-paragraf'!D2) -> rok 2024 | D16: =IF('příjmy-paragraf'!E3=0," ",'příjmy-paragraf'!E3) -> k 30.09. | E16: =IF('1014-útulek'!E16=0," ",'1014-útulek'!E16) -> k 31.12.2024 | F16: =IF('příjmy-paragraf'!F2=0," ",'příjmy-paragraf'!F2) -> rok 2025 | G16: =IF('příjmy-paragraf'!F2=0," ",'příjmy-paragraf'!F2) -> rok 2025
A17: 5041 | B17: užití duševního vlastnictví | C17: 1000 | D17: 931 | E17: 931 | F17: 1000 | G17: 1000
A18: 5136 | B18: knihy, tisk | C18: 110000 | D18: 34560 | E18: 100000 | F18: 120000 | G18: 120000
A19: 5137 | B19: DDHM | C19: 60000 | D19: 26140 | E19: 50000 | F19: 60000 | G19: 60000
A20: 5139 | B20: materiál | C20: 40000 | D20: 16797 | E20: 40000 | F20: 40000 | G20: 40000
A21: 5151 | B21: studená voda | C21: 15000 | D21: 16224 | E21: 20000 | F21: 20000 | G21: 20000
A22: 5152 | B22: teplo | C22: 220000 | D22: 112110 | E22: 220000 | F22: 220000 | G22: 220000 | H22: sloučeno s muzeem
A23: 5154 | B23: elektrická energie | C23: 60000 | D23: 38666 | E23: 60000 | F23: 60000 | G23: 60000
A24: 5162 | B24: internet | C24: 10000 | D24: 6664 | E24: 10000 | F24: 10000 | G24: 10000
A25: 5164 | B25: nájemné | C25: 21000 | D25: 346 | E25: 1000 | F25: 2000 | G25: 2000
A26: 5168 | B26: zpracování dat a služby IT | C26: 10000 | D26: 0 | E26: 10000 | F26: 10000 | G26: 10000
A27: 5169 | B27: nákup ostatních služeb | C27: 22000 | D27: 36018 | E27: 40000 | F27: 40000 | G27: 40000
A28: 5171 | B28: opravy a udržování | C28: 70000 | D28: 73866 | E28: 75000 | F28: 70000 | G28: 70000
A29: 5172 | B29: software (AKS) | C29: 35000 | D29: 36300 | E29: 36300 | F29: 0 | G29: 0
A30: 5179 | B30: členský příspěvek SK | C30: 1000 | D30: 1242 | E30: 1500 | F30: 2000 | G30: 2000
A31: 5194 | B31: věcné dary | C31: 6000 | D31: 6278 | E31: 6500 | F31: 8000 | G31: 8000
B32: součet | C32: =SUM(C17:C31) -> 681000 | D32: =SUM(D17:D31) -> 406142 | E32: =SUM(E17:E31) -> 671231 | F32: =SUM(F17:F31) -> 663000 | G32: =SUM(G17:G31) -> 663000
B35: Nové Město pod Smrkem dne: | C35: 45588 | E35: zpracoval: | F35: M. Vojáčková

Sheet 3315-muzeum
B1: Rozpočet muzea (org 0330) na | F1: =IF('příjmy-paragraf'!F2=0," ",'příjmy-paragraf'!F2) -> rok 2025
A3: § 3315 | B3: Činnosti muzeí
B4: příjmová část | E4: rozpočet v Kč
A5: položka | B5: text | C5: upravený | D5: skutečnost | E5: předpoklad | F5: návrh | G5: schválený
C6: =IF('příjmy-paragraf'!D2=0," ",'příjmy-paragraf'!D2) -> rok 2024 | D6: =IF('příjmy-paragraf'!E3=0," ",'příjmy-paragraf'!E3) -> k 30.09. | E6: =IF('1014-útulek'!E6=0," ",'1014-útulek'!E6) -> k 31.12.2024 | F6: =IF('příjmy-paragraf'!F2=0," ",'příjmy-paragraf'!F2) -> rok 2025 | G6: =IF('příjmy-paragraf'!F2=0," ",'příjmy-paragraf'!F2) -> rok 2025
A7: 2111 | B7: vstupné | C7: 0 | D7: 0 | E7: 0 | F7: 0 | G7: 0
B10: součet | C10: =SUM(C7:C9) -> 0 | D10: =SUM(D7:D9) -> 0 | E10: =SUM(E7:E9) -> 0 | F10: =SUM(F7:F9) -> 0 | G10: =SUM(G7:G9) -> 0
A13: § 3315 | B13: Činnosti muzeí
B14: výdajová část | E14: rozpočet v Kč
A15: položka | B15: text | C15: upravený | D15: skutečnost | E15: předpoklad | F15: návrh | G15: schválený
C16: =IF('příjmy-paragraf'!D2=0," ",'příjmy-paragraf'!D2) -> rok 2024 | D16: =IF('příjmy-paragraf'!E3=0," ",'příjmy-paragraf'!E3) -> k 30.09. | E16: =IF('1014-útulek'!E16=0," ",'1014-útulek'!E16) -> k 31.12.2024 | F16: =IF('příjmy-paragraf'!F2=0," ",'příjmy-paragraf'!F2) -> rok 2025 | G16: =IF('příjmy-paragraf'!F2=0," ",'příjmy-paragraf'!F2) -> rok 2025
A17: 5139 | B17: nákup materiálu | C17: 0 | D17: 0 | E17: 0 | F17: 0 | G17: 0
A18: 5152 | B18: teplo | C18: 0 | D18: 0 | E18: 0 | F18: 0 | G18: 0
A19: 5171 | B19: opravy a udržování | C19: 0 | D19: 0 | E19: 0 | F19: 0 | G19: 0
B20: součet | C20: =SUM(C17:C19) -> 0 | D20: =SUM(D17:D19) -> 0 | E20: =SUM(E17:E19) -> 0 | F20: =SUM(F17:F19) -> 0 | G20: =SUM(G17:G19) -> 0
B23: Nové Město pod Smrkem dne: | C23: 45588 | E23: zpracoval: | F23: M. Vojáčková

Sheet 3341-rozhlas
B1: Rozpočet veřejný rozhlas (org 0328) na | F1: =IF('příjmy-paragraf'!F2=0," ",'příjmy-paragraf'!F2) -> rok 2025
A3: § 3341 | B3: Rozhlas a televize
B4: příjmová část | E4: rozpočet v Kč
A5: položka | B5: text | C5: upravený | D5: skutečnost | E5: předpoklad | F5: návrh | G5: schválený
C6: =IF('příjmy-paragraf'!D2=0," ",'příjmy-paragraf'!D2) -> rok 2024 | D6: =IF('příjmy-paragraf'!E3=0," ",'příjmy-paragraf'!E3) -> k 30.09. | E6: =IF('1014-útulek'!E6=0," ",'1014-útulek'!E6) -> k 31.12.2024 | F6: =IF('příjmy-paragraf'!F2=0," ",'příjmy-paragraf'!F2) -> rok 2025 | G6: =IF('příjmy-paragraf'!F2=0," ",'příjmy-paragraf'!F2) -> rok 2025
B10: součet | C10: =SUM(C7:C9) -> 0 | D10: =SUM(D7:D9) -> 0 | E10: =SUM(E7:E9) -> 0 | F10: =SUM(F7:F9) -> 0 | G10: =SUM(G7:G9) -> 0
A13: § 3341 | B13: Rozhlas a televize
B14: výdajová část | E14: rozpočet v Kč
A15: položka | B15: text | C15: upravený | D15: skutečnost | E15: předpoklad | F15: návrh | G15: schválený
C16: =IF('příjmy-paragraf'!D2=0," ",'příjmy-paragraf'!D2) -> rok 2024 | D16: =IF('příjmy-paragraf'!E3=0," ",'příjmy-paragraf'!E3) -> k 30.09. | E16: =IF('1014-útulek'!E16=0," ",'1014-útulek'!E16) -> k 31.12.2024 | F16: =IF('příjmy-paragraf'!F2=0," ",'příjmy-paragraf'!F2) -> rok 2025 | G16: =IF('příjmy-paragraf'!F2=0," ",'příjmy-paragraf'!F2) -> rok 2025
A17: 5139 | B17: nákup materiálu | C17: 0 | D17: 0 | E17: 0 | F17: 0 | G17: 0
A18: 5162 | B18: elektronické komunikace | C18: 0 | D18: 0 | E18: 0 | F18: 0 | G18: 0
A19: 5171 | B19: opravy a udržování | C19: 51000 | D19: 4356 | E19: 5000 | F19: 50000 | G19: 50000
B20: součet | C20: =SUM(C17:C19) -> 51000 | D20: =SUM(D17:D19) -> 4356 | E20: 0 | F20: =SUM(F17:F19) -> 50000 | G20: =SUM(G17:G19) -> 50000
B23: Nové Město pod Smrkem dne: | C23: 45595 | E23: zpracoval: | F23: J. Pelant

Sheet 3399-Kultura-SPOZ
B1: Rozpočet kultura + SPOZ (org 0389) na | F1: =IF('příjmy-paragraf'!F2=0," ",'příjmy-paragraf'!F2) -> rok 2025
A3: § 3399 | B3: Ostatní záležitosti kultury
B4: příjmová část | E4: rozpočet v Kč
A5: položka | B5: text | C5: upravený | D5: skutečnost | E5: předpoklad | F5: návrh | G5: schválený | H5: schválený | I5: I. změna
C6: =IF('příjmy-paragraf'!D2=0," ",'příjmy-paragraf'!D2) -> rok 2024 | D6: =IF('příjmy-paragraf'!E3=0," ",'příjmy-paragraf'!E3) -> k 30.09. | E6: =IF('1014-útulek'!E6=0," ",'1014-útulek'!E6) -> k 31.12.2024 | F6: =IF('příjmy-paragraf'!F2=0," ",'příjmy-paragraf'!F2) -> rok 2025 | G6: =IF('příjmy-paragraf'!F2=0," ",'příjmy-paragraf'!F2) -> rok 2025
A7: 2111 | B7: vstupenky + dary | C7: 30000 | D7: 113700 | E7: 150000 | F7: 50000 | G7: 50000
A8: 2321 | B8: přijaté peněžité dary | C8: 300000 | D8: 311000 | E8: 311000 | F8: 0 | G8: =H8+I8 -> 25000 | H8: 0 | I8: 25000
B10: součet | C10: =SUM(C7:C9) -> 330000 | D10: =SUM(D7:D9) -> 424700 | E10: =SUM(E7:E9) -> 461000 | F10: =SUM(F7:F9) -> 50000 | G10: =SUM(G7:G9) -> 75000
A13: § 3399 | B13: Ostatní záležitosti kultury
B14: výdajová část | E14: rozpočet v Kč
A15: položka | B15: text | C15: upravený | D15: skutečnost | E15: předpoklad | F15: návrh | G15: schválený
C16: =IF('příjmy-paragraf'!D2=0," ",'příjmy-paragraf'!D2) -> rok 2024 | D16: =IF('příjmy-paragraf'!E3=0," ",'příjmy-paragraf'!E3) -> k 30.09. | E16: =IF('1014-útulek'!E16=0," ",'1014-útulek'!E16) -> k 31.12.2024 | F16: =IF('příjmy-paragraf'!F2=0," ",'příjmy-paragraf'!F2) -> rok 2025 | G16: =IF('příjmy-paragraf'!F2=0," ",'příjmy-paragraf'!F2) -> rok 2025
A17: 5041 | B17: odměny za užití duševního vlastnictví | C17: 0 | D17: 3277 | E17: 3500 | F17: 0 | G17: 0
A18: 5139 | B18: materiál | C18: 80000 | D18: 23706 | E18: 80000 | F18: 80000 | G18: 80000
A19: 5169 | B19: nákup ostatních služeb | C19: 400000 | D19: 288000 | E19: 500000 | F19: 700000 | G19: 700000
A20: 5169 | B20: nákup ostatních služeb | C20: 1500000 | D20: 1675977 | E20: 1675977 | F20: 0 | G20: 25000
A21: 5175 | B21: pohoštění | C21: 20000 | D21: 23706 | E21: 20000 | F21: 20000 | G21: 20000
A22: 5194 | B22: věcné dary | C22: 50000 | D22: 23454 | E22: 60000 | F22: 50000 | G22: 50000
B23: součet | C23: =SUM(C17:C22) -> 2050000 | D23: =SUM(D17:D22) -> 2038120 | E23: =SUM(E17:E22) -> 2339477 | F23: =SUM(F17:F22) -> 850000 | G23: =SUM(G17:G22) -> 875000
B26: Nové Město pod Smrkem dne: | C26: 45595 | E26: zpracoval: | F26: E. Čeledová a P. Černica
B28: SPOZ | C28: 150000
B29: KULTURA | C29: 700000

Sheet 3421-ROROŠ
C1: Návrh rozpočtu | F1: na rok | G1: =[4]P8!F1 -> 2025 | I1: Příloha č. 1, 6
B2: =[4]P8!B2 -> Středisko volného času "ROROŠ", Nové Město pod Smrkem, příspěvková organizace
I3: v Kč
B4: účet | C4: ukazatel | D4: =[4]P8!F1-1 -> 2024 | E4: návrh | F4: I. změna | G4: II. změna | H4: III. změna | I4: po změnách
A5: NÁKLADY CELKEM - účtová třída 5 | D5: =D6+D9+D14+D20+D22+D27+D31+D33 -> 4360944 | E5: =E6+E9+E14+E20+E22+E27+E31+E33 -> 3554274 | F5: =F6+F9+F14+F20+F22+F27+F31+F33 -> 0 | G5: =G6+G9+G14+G20+G22+G27+G31+G33 -> 0 | H5: =H6+H9+H14+H20+H22+H27+H31+H33 -> 0 | I5: =SUM(E5:H5) -> 3554274
A6: 50 | B6: Spotřebované nákupy | D6: =SUM(D7:D8) -> 490532 | E6: =SUM(E7:E8) -> 374862 | F6: =SUM(F7:F8) -> 0 | G6: =SUM(G7:G8) -> 0 | H6: =SUM(H7:H8) -> 0 | I6: =SUM(E6:H6) -> 374862
B7: 501 | C7: Spotřeba materiálu | D7: 299532 | E7: =[4]P8!D8 -> 233862 | I7: =SUM(E7:H7) -> 233862
B8: 502 | C8: Spotřeba energie (teplo, voda, plyn, el. energie) | D8: 191000 | E8: =[4]P8!D17 -> 141000 | I8: =SUM(E8:H8) -> 141000
A9: 51 | B9: Služby | D9: =SUM(D10:D13) -> 986000 | E9: =SUM(E10:E13) -> 536000 | F9: =SUM(F10:F13) -> 0 | G9: =SUM(G10:G13) -> 0 | H9: =SUM(H10:H13) -> 0 | I9: =SUM(E9:H9) -> 536000
B10: 511 | C10: Opravy a udržování | D10: 58000 | E10: =[4]P8!D23 -> 178000 | I10: =SUM(E10:H10) -> 178000
B11: 512 | C11: Cestovné | D11: 6000 | E11: =[4]P8!D26 -> 2000 | I11: =SUM(E11:H11) -> 2000
B12: 513 | C12: Náklady na reprezentaci | D12: 12000 | E12: =[4]P8!D28 -> 5000 | I12: =SUM(E12:H12) -> 5000
B13: 518 | C13: Ostatní služby | D13: 910000 | E13: =[4]P8!D30 -> 351000 | I13: =SUM(E13:H13) -> 351000
A14: 52 | B14: Osobní náklady | D14: =SUM(D15:D19) -> 2739412 | E14: =SUM(E15:E19) -> 2536412 | F14: =SUM(F15:F19) -> 0 | G14: =SUM(G15:G19) -> 0 | H14: =SUM(H15:H19) -> 0 | I14: =SUM(E14:H14) -> 2536412
B15: 521 | C15: Mzdové náklady | D15: 1983630 | E15: =[4]P8!D45 -> 1905130 | I15: =SUM(E15:H15) -> 1905130
B16: 524 | C16: Zákonné sociální pojištění (zdravotní, sociální) | D16: 570475 | E16: =[4]P8!D47 -> 512475 | I16: =SUM(E16:H16) -> 512475
B17: 525 | C17: Jiné sociální pojištění (Kooperativa) | D17: 9000 | E17: =[4]P8!D49 -> 9000 | I17: =SUM(E17:H17) -> 9000
B18: 527 | C18: Zákonné sociální náklady | D18: 112307 | E18: =[4]P8!D51 -> 43807 | I18: =SUM(E18:H18) -> 43807
B19: 528 | C19: Jiné sociální náklady | D19: 64000 | E19: =[4]P8!D56 -> 66000 | I19: =SUM(E19:H19) -> 66000
A20: 53 | B20: Daně a poplatky | D20: =D21 -> 2000 | E20: =E21 -> 2000 | F20: =F21 -> 0 | G20: =G21 -> 0 | H20: =H21 -> 0 | I20: =SUM(E20:H20) -> 2000
B21: 538 | C21: Jiné daně a poplatky | D21: 2000 | E21: =[4]P8!D59 -> 2000 | I21: =SUM(E21:H21) -> 2000
A22: 54 | B22: Ostatní náklady | D22: =SUM(D23:D26) -> 25000 | E22: =SUM(E23:E26) -> 25000 | F22: =SUM(F23:F26) -> 0 | G22: =SUM(G23:G26) -> 0 | H22: =SUM(H23:H26) -> 0 | I22: =SUM(E22:H22) -> 25000
B23: 541 | C23: Smluvní pokuty a úroky z prodlení | E23: =[4]P8!D62 -> 0 | I23: =SUM(E23:H23) -> 0
B24: 542 | C24: Jiné pokuty a penále | E24: =[4]P8!D64 -> 0 | I24: =SUM(E24:H24) -> 0
B25: 547 | C25: Manka a škody | E25: =[4]P8!D66 -> 0 | I25: =SUM(E25:H25) -> 0
B26: 549 | C26: Ostatní náklady (ostatní pojištění, kapesné) | D26: 25000 | E26: =[4]P8!D68 -> 25000 | I26: =SUM(E26:H26) -> 25000
A27: 55 | B27: Odpisy, rezervy a opravné položky | D27: =SUM(D28:D30) -> 118000 | E27: =SUM(E28:E30) -> 80000 | F27: =SUM(F28:F30) -> 0 | G27: =SUM(G28:G30) -> 0 | H27: =SUM(H28:H30) -> 0 | I27: =SUM(E27:H27) -> 80000
B28: 551 | C28: Odpisy dlouhodobého majetku | E28: =[4]P8!D71 -> 0 | I28: =SUM(E28:H28) -> 0
B29: 556 | C29: Tvorba a zúčtování opravných položek | E29: =[4]P8!D73 -> 0 | I29: =SUM(E29:H29) -> 0
B30: 558 | C30: Náklady z DDM | D30: 118000 | E30: =[4]P8!D75 -> 80000 | I30: =SUM(E30:H30) -> 80000
A31: 56 | B31: Finanční náklady | D31: =D32 -> 0 | E31: =E32 -> 0 | F31: =F32 -> 0 | G31: =G32 -> 0 | H31: =H32 -> 0 | I31: =SUM(E31:H31) -> 0
B32: 569 | C32: Ostatní finanční náklady | E32: =[4]P8!D79 -> 0 | I32: =SUM(E32:H32) -> 0
A33: 59 | B33: Daň z příjmů | D33: =SUM(D34:D35) -> 0 | E33: =SUM(E34:E35) -> 0 | F33: =SUM(F34:F35) -> 0 | G33: =SUM(G34:G35) -> 0 | H33: =SUM(H34:H35) -> 0 | I33: =SUM(E33:H33) -> 0
B34: 591 | C34: Daň z příjmů | E34: =[4]P8!D82 -> 0 | I34: =SUM(E34:H34) -> 0
B35: 595 | C35: Dodatečné odvody daně z příjmů | E35: =[4]P8!D84 -> 0 | I35: =SUM(E35:H35) -> 0
A36: VÝNOSY CELKEM - účtová třída 6 | D36: =D37+D41+D46+D48 -> 4360944 | E36: =E37+E41+E46+E48 -> 3554274 | F36: =F37+F41+F46+F48 -> 0 | G36: =G37+G41+G46+G48 -> 0 | H36: =H37+H41+H46+H48 -> 0 | I36: =SUM(E36:H36) -> 3554274
A37: 60 | B37: Výnosy z vlastních výkonů a zboží | D37: =SUM(D38:D40) -> 533000 | E37: =SUM(E38:E40) -> 200000 | F37: =SUM(F38:F40) -> 0 | G37: =SUM(G38:G40) -> 0 | H37: =SUM(H38:H40) -> 0 | I37: =SUM(E37:H37) -> 200000
B38: 602 | C38: Výnosy z prodeje služeb | D38: 533000 | E38: 200000 | I38: =SUM(E38:H38) -> 200000
B39: 603 | C39: Výnosy z pronájmu | I39: =SUM(E39:H39) -> 0
B40: 604 | C40: Výnosy z prodaného zboží | I40: =SUM(E40:H40) -> 0
A41: 64 | B41: Ostatní výnosy | D41: =SUM(D42:D45) -> 428500 | E41: =SUM(E42:E45) -> 0 | F41: =SUM(F42:F45) -> 0 | G41: =SUM(G42:G45) -> 0 | H41: =SUM(H42:H45) -> 0 | I41: =SUM(E41:H41) -> 0
B42: 641 | C42: Smluvní pokuty a úroky z prodlení | I42: =SUM(E42:H42) -> 0
B43: 643 | C43: Výnosy z vyřazených pohledávek | I43: =SUM(E43:H43) -> 0
B44: 648 | C44: Čerpání fondů | D44: 428500 | I44: =SUM(E44:H44) -> 0
B45: 649 | C45: Ostatní výnosy z činnosti | I45: =SUM(E45:H45) -> 0
A46: 66 | B46: Finanční výnosy | D46: =D47 -> 0 | E46: =E47 -> 0 | F46: =F47 -> 0 | G46: =G47 -> 0 | H46: =H47 -> 0 | I46: =SUM(E46:H46) -> 0
B47: 662 | C47: Úroky (BÚ apod.) | I47: =SUM(E47:H47) -> 0
A48: 67 | B48: Výnosy z transferů | D48: =SUM(D49:D53) -> 3399444 | E48: =SUM(E49:E53) -> 3354274 | F48: =SUM(F49:F53) -> 0 | G48: =SUM(G49:G53) -> 0 | H48: =SUM(H49:H53) -> 0 | I48: =SUM(E48:H48) -> 3354274
A49: 672… | B49: 500 | C49: Výnosy institucí z transferů - město | D49: 892000 | E49: 1284000 | I49: =SUM(E49:H49) -> 1284000
A50: 672… | B50: 510 | C50: Výnosy institucí z transferů - odpisy | I50: =SUM(E50:H50) -> 0
A51: 672… | B51: 600 | C51: Výnosy institucí z transferů - kraj | D51: 2070274 | E51: 2070274 | I51: =SUM(E51:H51) -> 2070274
A52: 672… | C52: Výnosy institucí z transferů (dotace) | D52: 437170 | I52: =SUM(E52:H52) -> 0
A53: 672… | C53: Výnosy institucí ostatní (ÚP) | I53: =SUM(E53:H53) -> 0
A54: Hospodářský výsledek po zdanění | D54: =D36-D5 -> 0 | E54: =E36-E5 -> 0 | F54: =F36-F5 -> 0 | G54: =G36-G5 -> 0 | H54: =H36-H5 -> 0 | I54: =SUM(E54:H54) -> 0
A55: DOPLŇKOVÉ ÚDAJE
A56: Závazky vůči rozpočtu zřizovatele | D56: =SUM(D57:D58) -> 0 | E56: =SUM(E57:E58) -> 0 | F56: =SUM(F57:F58) -> 0 | G56: =SUM(G57:G58) -> 0 | H56: =SUM(H57:H58) -> 0 | I56: =SUM(E56:H56) -> 0
A57: V tom | B57: odvod z provozu | I57: =SUM(E57:H57) -> 0
B58: ostatní odvody | I58: =SUM(E58:H58) -> 0
A59: Úč. příspěvky a dotace ze SR a zřizovatele (nad rozpočet) | D59: =SUM(D60:D62) -> 0 | E59: =SUM(E60:E62) -> 0 | F59: =SUM(F60:F62) -> 0 | G59: =SUM(G60:G62) -> 0 | H59: =SUM(H60:H62) -> 0 | I59: =SUM(E59:H59) -> 0
A60: Z toho | B60: investiční dotace zřizovatele do investičního fondu | I60: =SUM(E60:H60) -> 0
B61: účelové dotace státního rozpočtu a státních fondů | I61: =SUM(E61:H61) -> 0
B62: individuální dotace státního rozpočtu na investice | I62: =SUM(E62:H62) -> 0
A64: sestavil: | C64: =[4]P8!C89 -> Ing. Miroslav Tesař | D64: podpis: | G64: datum: | H64: 05.11.2024
A66: ředitel PO: | C66: =[4]P8!C91 -> Ing. Miroslav Tesař | D66: podpis:
A68: Pozn.: k vyplnění jsou určena žlutá pole.

Sheet 3421-ROROŠ-I
C1: Přehled nákladů | E1: na rok | F1: 2025 | H1: Příloha č. 8
B2: Středisko volného času "ROROŠ", Nové Město pod Smrkem, příspěvková organizace
C3: Hlavní činnost | H3: v Kč
B4: účet | C4: ukazatel | D4: celková potřeba | E4: příspěvek města | F4: další zdroje
F5: vlastní | G5: fondy | H5: od cizích
A6: NÁKLADY CELKEM | D6: =D7+D22+D44+D58+D61+D70+D78+D81 -> 3554274 | E6: =E7+E22+E44+E58+E61+E70+E78+E81 -> 1284000 | F6: =F7+F22+F44+F58+F61+F70+F78+F81 -> 200000 | G6: =G7+G22+G44+G58+G61+G70+G78+G81 -> 0 | H6: =H7+H22+H44+H58+H61+H70+H78+H81 -> 2070274
A7: 50 | B7: Spotřebované nákupy (501+502) | D7: =SUM(E7:H7) -> 374862 | E7: =SUM(E8+E17) -> 309000 | F7: =SUM(F8+F17) -> 64000 | G7: =SUM(G8+G17) -> 0 | H7: =SUM(H8+H17) -> 1862
A8: 501 | B8: Spotřeba materiálu | D8: =SUM(E8:H8) -> 233862 | E8: =SUM(E9:E16) -> 168000 | F8: =SUM(F9:F16) -> 64000 | G8: =SUM(G9:G16) -> 0 | H8: =SUM(H9:H16) -> 1862
A9: 501 | B9: 310 | C9: Ostatní materiál, DDHM do 3.000 Kč | D9: =SUM(E9:H9) -> 116000 | E9: 96000 | F9: 20000
A10: 501 | B10: 320 | C10: Učebnice a bezplatně poskytované školní potřeby | D10: =SUM(E10:H10) -> 75862 | E10: 30000 | F10: 44000 | H10: 1862
A11: 501 | B11: 330 | C11: Kancelářské potřeby | D11: =SUM(E11:H11) -> 5000 | E11: 5000
A12: 501 | B12: 340 | C12: Knihy, tisk, předplatné | D12: =SUM(E12:H12) -> 2000 | E12: 2000
A13: 501 | B13: 360 | C13: Pohonné hmoty | D13: =SUM(E13:H13) -> 25000 | E13: 25000
A14: 501 | B14: 370 | C14: Potraviny | D14: =SUM(E14:H14) -> 0
A15: 501 | B15: 380 | C15: Čisticí prostředky | D15: =SUM(E15:H15) -> 10000 | E15: 10000
A16: 501 | B16: 390 | C16: Chemikálie | D16: =SUM(E16:H16) -> 0
A17: 502 | B17: Spotřeba energie | D17: =SUM(E17:H17) -> 141000 | E17: =SUM(E18:E21) -> 141000 | F17: =SUM(F18:F21) -> 0 | G17: =SUM(G18:G21) -> 0 | H17: =SUM(H18:H21) -> 0
A18: 502 | B18: 310 | C18: Elektrická energie | D18: =SUM(E18:H18) -> 34000 | E18: 34000
A19: 502 | B19: 320 | C19: Teplo | D19: =SUM(E19:H19) -> 0
A20: 502 | B20: 330 | C20: Plyn | D20: =SUM(E20:H20) -> 100000 | E20: 100000
A21: 502 | B21: 340 | C21: Voda | D21: =SUM(E21:H21) -> 7000 | E21: 7000
A22: 51 | B22: Služby (511+512+513+518) | D22: =SUM(E22:H22) -> 536000 | E22: =SUM(E23+E26+E28+E30) -> 496000 | F22: =SUM(F23+F26+F28+F30) -> 40000 | G22: =SUM(G23+G26+G28+G30) -> 0 | H22: =SUM(H23+H26+H28+H30) -> 0
A23: 511 | B23: Opravy a udržování | D23: =SUM(E23:H23) -> 178000 | E23: =SUM(E24:E25) -> 178000 | F23: =SUM(F24:F25) -> 0 | G23: =SUM(G24:G25) -> 0 | H23: =SUM(H24:H25) -> 0
A24: 511 | B24: 300 | C24: Opravy a udržování (vč. revizí) | D24: =SUM(E24:H24) -> 170000 | E24: 170000
A25: 511 | B25: 310 | C25: Opravy počítačů | D25: =SUM(E25:H25) -> 8000 | E25: 8000
A26: 512 | B26: Cestovné | D26: =SUM(E26:H26) -> 2000 | E26: =SUM(E27:E27) -> 2000 | F26: =SUM(F27:F27) -> 0 | G26: =SUM(G27:G27) -> 0 | H26: =SUM(H27:H27) -> 0
A27: 512 | B27: 300 | C27: Cestovné a cestovní náhrady | D27: =SUM(E27:H27) -> 2000 | E27: 2000
A28: 513 | B28: Náklady na reprezentaci | D28: =SUM(E28:H28) -> 5000 | E28: =SUM(E29:E29) -> 5000 | F28: =SUM(F29:F29) -> 0 | G28: =SUM(G29:G29) -> 0 | H28: =SUM(H29:H29) -> 0
A29: 513 | B29: 300 | C29: Náklady na reprezentaci (pohoštění) | D29: =SUM(E29:H29) -> 5000 | E29: 5000
A30: 518 | B30: Ostatní služby | D30: =SUM(E30:H30) -> 351000 | E30: =SUM(E31:E43) -> 311000 | F30: =SUM(F31:F43) -> 40000 | G30: =SUM(G31:G43) -> 0 | H30: =SUM(H31:H43) -> 0
A31: 518 | B31: 310 | C31: Svoz odpadu | D31: =SUM(E31:H31) -> 2000 | E31: 2000
A32: 518 | B32: 320 | C32: Internet | D32: =SUM(E32:H32) -> 6000 | E32: 6000
A33: 518 | B33: 330 | C33: Služby pošt | D33: =SUM(E33:H33) -> 2000 | E33: 2000
A34: 518 | B34: 340 | C34: Telefonní poplatky | D34: =SUM(E34:H34) -> 35000 | E34: 35000
A35: 518 | B35: 350 | C35: Ostatní služby, DDNM do 7.000 Kč | D35: =SUM(E35:H35) -> 160000 | E35: 160000
A36: 518 | B36: 370 | C36: Přeprava dětí | D36: =SUM(E36:H36) -> 20000 | E36: 20000
A37: 518 | B37: 400 | C37: Bankovní poplatky | D37: =SUM(E37:H37) -> 3000 | E37: 3000
A38: 518 | B38: 440 | C38: Nájemné tělocvičny | D38: =SUM(E38:H38) -> 120000 | E38: 80000 | F38: 40000
A39: 518 | B39: 450 | C39: Nájemné leasing (např. kopírky) | D39: =SUM(E39:H39) -> 0
A40: 518 | B40: 460 | C40: Nájem sálu | D40: =SUM(E40:H40) -> 0
A41: 518 | B41: 470 | C41: Rozbory vody | D41: =SUM(E41:H41) -> 0
A42: 518 | B42: 480 | C42: Propagace, reklama | D42: =SUM(E42:H42) -> 3000 | E42: 3000
A43: 518 | B43: 520 | C43: Plavání | D43: =SUM(E43:H43) -> 0
A44: 52 | B44: Osobní náklady (521+524+525+527+528) | D44: =SUM(E44:H44) -> 2536412 | E44: =SUM(E45+E47+E49+E51+E56) -> 422000 | F44: =SUM(F45+F47+F49+F51+F56) -> 46000 | G44: =SUM(G45+G47+G49+G51+G56) -> 0 | H44: =SUM(H45+H47+H49+H51+H56) -> 2068412
A45: 521 | B45: Mzdové náklady | D45: =SUM(E45:H45) -> 1905130 | E45: =SUM(E46:E46) -> 350000 | F45: =SUM(F46:F46) -> 0 | G45: =SUM(G46:G46) -> 0 | H45: =SUM(H46:H46) -> 1555130
A46: 521 | C46: Mzdové náklady | D46: =SUM(E46:H46) -> 1905130 | E46: 350000 | H46: 1555130
A47: 524 | B47: Zákonné sociální pojištění | D47: =SUM(E47:H47) -> 512475 | E47: =SUM(E48:E48) -> 12000 | F47: =SUM(F48:F48) -> 0 | G47: =SUM(G48:G48) -> 0 | H47: =SUM(H48:H48) -> 500475
A48: 524 | C48: Zákonné sociální pojištění | D48: =SUM(E48:H48) -> 512475 | E48: 12000 | H48: 500475
A49: 525 | B49: Jiné sociální pojištění | D49: =SUM(E49:H49) -> 9000 | E49: =SUM(E50:E50) -> 9000 | F49: =SUM(F50:F50) -> 0 | G49: =SUM(G50:G50) -> 0 | H49: =SUM(H50:H50) -> 0
A50: 525 | C50: Jiné sociální pojištění | D50: =SUM(E50:H50) -> 9000 | E50: 9000
A51: 527 | B51: Zákonné sociální náklady | D51: =SUM(E51:H51) -> 43807 | E51: =SUM(E52:E55) -> 19000 | F51: =SUM(F52:F55) -> 12000 | G51: =SUM(G52:G55) -> 0 | H51: =SUM(H52:H55) -> 12807
A52: 527 | C52: Zákonné sociální náklady (FKSP) | D52: =SUM(E52:H52) -> 15807 | E52: 3000 | H52: 12807
A53: 527 | B53: 400 | C53: Služby, školení a vzdělávání | D53: =SUM(E53:H53) -> 3000 | E53: 3000
A54: 527 | B54: 500 | C54: Zdravotní prohlídky | D54: =SUM(E54:H54) -> 3000 | E54: 3000
A55: 527 | B55: 600 | C55: Ochranné pomůcky | D55: =SUM(E55:H55) -> 22000 | E55: 10000 | F55: 12000
A56: 528 | B56: Jiné sociální náklady | D56: =SUM(E56:H56) -> 66000 | E56: =SUM(E57:E57) -> 32000 | F56: =SUM(F57:F57) -> 34000 | G56: =SUM(G57:G57) -> 0 | H56: =SUM(H57:H57) -> 0
A57: 528 | C57: Jiné sociální náklady | D57: =SUM(E57:H57) -> 66000 | E57: 32000 | F57: 34000
A58: 53 | B58: Daně a poplatky (538) | D58: =SUM(E58:H58) -> 2000 | E58: =SUM(E59:E59) -> 2000 | F58: =SUM(F59:F59) -> 0 | G58: =SUM(G59:G59) -> 0 | H58: =SUM(H59:H59) -> 0
A59: 538 | B59: Jiné daně a poplatky | D59: =SUM(E59:H59) -> 2000 | E59: =SUM(E60:E60) -> 2000 | F59: =SUM(F60:F60) -> 0 | G59: =SUM(G60:G60) -> 0 | H59: =SUM(H60:H60) -> 0
A60: 538 | C60: Jiné daně a poplatky | D60: =SUM(E60:H60) -> 2000 | E60: 2000
A61: 54 | B61: Ostatní náklady (541+542+547+549) | D61: =SUM(E61:H61) -> 25000 | E61: =SUM(E62+E64+E66+E68) -> 25000 | F61: =SUM(F62+F64+F66+F68) -> 0 | G61: =SUM(G62+G64+G66+G68) -> 0 | H61: =SUM(H62+H64+H66+H68) -> 0
A62: 541 | B62: Smluvní pokuty a úroky z prodlení | D62: =SUM(E62:H62) -> 0 | E62: =SUM(E63:E63) -> 0 | F62: =SUM(F63:F63) -> 0 | G62: =SUM(G63:G63) -> 0 | H62: =SUM(H63:H63) -> 0
A63: 541 | C63: Smluvní pokuty a úroky z prodlení | D63: =SUM(E63:H63) -> 0
A64: 542 | B64: Ostatní pokuty a penále | D64: =SUM(E64:H64) -> 0 | E64: =SUM(E65:E65) -> 0 | F64: =SUM(F65:F65) -> 0 | G64: =SUM(G65:G65) -> 0 | H64: =SUM(H65:H65) -> 0
A65: 542 | C65: Ostatní pokuty a penále | D65: =SUM(E65:H65) -> 0
A66: 547 | B66: Manka a škody | D66: =SUM(E66:H66) -> 0 | E66: =SUM(E67:E67) -> 0 | F66: =SUM(F67:F67) -> 0 | G66: =SUM(G67:G67) -> 0 | H66: =SUM(H67:H67) -> 0
A67: 547 | C67: Manka a škody | D67: =SUM(E67:H67) -> 0
A68: 549 | B68: Ostatní náklady (ostatní pojištění, kapesné) | D68: =SUM(E68:H68) -> 25000 | E68: =SUM(E69:E69) -> 25000 | F68: =SUM(F69:F69) -> 0 | G68: =SUM(G69:G69) -> 0 | H68: =SUM(H69:H69) -> 0
A69: 549 | B69: 320 | C69: Ostatní náklady - pojištění | D69: =SUM(E69:H69) -> 25000 | E69: 25000
A70: 55 | B70: Odpisy, rezervy a opravné položky (556+558) | D70: =SUM(E70:H70) -> 80000 | E70: =SUM(E71+E73+E75) -> 30000 | F70: =SUM(F71+F73+F75) -> 50000 | G70: =SUM(G71+G73+G75) -> 0 | H70: =SUM(H71+H73+H75) -> 0
A71: 551 | B71: Odpisy dlouhodobého majetku | D71: =SUM(E71:H71) -> 0 | E71: =SUM(E72:E72) -> 0 | F71: =SUM(F72:F72) -> 0 | G71: =SUM(G72:G72) -> 0 | H71: =SUM(H72:H72) -> 0
A72: 551 | C72: Odpisy dlouhodobého majetku | D72: =SUM(E72:H72) -> 0
A73: 556 | B73: Tvorba a zúčtování opravných položek | D73: =SUM(E73:H73) -> 0 | E73: =SUM(E74:E74) -> 0 | F73: =SUM(F74:F74) -> 0 | G73: =SUM(G74:G74) -> 0 | H73: =SUM(H74:H74) -> 0
A74: 556 | C74: Tvorba a zúčtování opravných položek | D74: =SUM(E74:H74) -> 0
A75: 558 | B75: Náklady z DDM | D75: =SUM(E75:H75) -> 80000 | E75: =SUM(E76:E77) -> 30000 | F75: =SUM(F76:F77) -> 50000 | G75: =SUM(G76:G77) -> 0 | H75: =SUM(H76:H77) -> 0
A76: 558 | B76: 300 | C76: DDHM (3.000-40.000 Kč) | D76: =SUM(E76:H76) -> 65000 | E76: 15000 | F76: 50000
A77: 558 | B77: 330 | C77: DDNM (7.000-60.000 Kč) | D77: =SUM(E77:H77) -> 15000 | E77: 15000
A78: 56 | B78: Finanční náklady (569) | D78: =SUM(E78:H78) -> 0 | E78: =SUM(E79:E79) -> 0 | F78: =SUM(F79:F79) -> 0 | G78: =SUM(G79:G79) -> 0 | H78: =SUM(H79:H79) -> 0
A79: 569 | B79: Ostatní finanční náklady | D79: =SUM(E79:H79) -> 0 | E79: =SUM(E80:E80) -> 0 | F79: =SUM(F80:F80) -> 0 | G79: =SUM(G80:G80) -> 0 | H79: =SUM(H80:H80) -> 0
A80: 569 | C80: Ostatní finanční náklady | D80: =SUM(E80:H80) -> 0
A81: 59 | B81: Daň z příjmů (591+595) | D81: =SUM(E81:H81) -> 0 | E81: =SUM(E82:E84) -> 0 | F81: =SUM(F82:F84) -> 0 | G81: =SUM(G82:G84) -> 0 | H81: =SUM(H82:H84) -> 0
A82: 591 | B82: Daň z příjmů | D82: =SUM(E82:H82) -> 0 | E82: =SUM(E83:E83) -> 0 | F82: =SUM(F83:F83) -> 0 | G82: =SUM(G83:G83) -> 0 | H82: =SUM(H83:H83) -> 0
A83: 591 | B83: 300 | C83: Daň z příjmů | D83: =SUM(E83:H83) -> 0
A84: 595 | B84: Dodatečné odvody daně z příjmů | D84: =SUM(E84:H84) -> 0 | E84: =SUM(E85:E85) -> 0 | F84: =SUM(F85:F85) -> 0 | G84: =SUM(G85:G85) -> 0 | H84: =SUM(H85:H85) -> 0
A85: 595 | B85: 300 | C85: Dodatečné odvody daně z příjmů | D85: =SUM(E85:H85) -> 0
A89: sestavil: | C89: Ing. Miroslav Tesař | D89: podpis: | F89: datum: | G89: 05.11.2024
A91: ředitel PO: | C91: Ing. Miroslav Tesař | D91: podpis:
A93: poznámka: | C93: k vyplnění jsou určena žlutá pole

Sheet 3429-SRC
C1: Návrh rozpočtu | F1: na rok | G1: =[5]P8!F1 -> 2025 | I1: Příloha č. 1, 6
B2: =[5]P8!B2 -> Sportovní a relaxační centrum, příspěvková organizace
I3: v Kč
B4: účet | C4: ukazatel | D4: =[5]P8!F1-1 -> 2024 | E4: návrh | F4: I. změna | G4: II. změna | H4: III. změna | I4: po změnách
A5: NÁKLADY CELKEM - účtová třída 5 | D5: =D6+D10+D15+D21+D23+D28+D32+D34 -> 11064000 | E5: =E6+E10+E15+E21+E23+E28+E32+E34 -> 11513000 | F5: =F6+F10+F15+F21+F23+F28+F32+F34 -> 0 | G5: =G6+G10+G15+G21+G23+G28+G32+G34 -> 0 | H5: =H6+H10+H15+H21+H23+H28+H32+H34 -> 0 | I5: =SUM(E5:H5) -> 11513000
A6: 50 | B6: Spotřebované nákupy | D6: =SUM(D7:D9) -> 4468000 | E6: =SUM(E7:E9) -> 4523000 | F6: =SUM(F7:F9) -> 0 | G6: =SUM(G7:G9) -> 0 | H6: =SUM(H7:H9) -> 0 | I6: =SUM(E6:H6) -> 4523000
B7: 501 | C7: Spotřeba materiálu | D7: 332000 | E7: =[5]P8!D8 -> 287000 | I7: =SUM(E7:H7) -> 287000
B8: 502 | C8: Spotřeba energie (teplo, voda, plyn, el. energie) | D8: 4136000 | E8: =[5]P8!D17 -> 4136000 | I8: =SUM(E8:H8) -> 4136000
B9: 504 | C9: Prodané zboží | D9: 0 | E9: =[5]P8!D22 -> 100000 | I9: =SUM(E9:H9) -> 100000
A10: 51 | B10: Služby | D10: =SUM(D11:D14) -> 1351000 | E10: =SUM(E11:E14) -> 938000 | F10: =SUM(F11:F14) -> 0 | G10: =SUM(G11:G14) -> 0 | H10: =SUM(H11:H14) -> 0 | I10: =SUM(E10:H10) -> 938000
B11: 511 | C11: Opravy a udržování | D11: 605000 | E11: =[5]P8!D25 -> 510000 | I11: =SUM(E11:H11) -> 510000
B12: 512 | C12: Cestovné | D12: 5000 | E12: =[5]P8!D28 -> 0 | I12: =SUM(E12:H12) -> 0
B13: 513 | C13: Náklady na reprezentaci | D13: 3000 | E13: =[5]P8!D30 -> 3000 | I13: =SUM(E13:H13) -> 3000
B14: 518 | C14: Ostatní služby | D14: 738000 | E14: =[5]P8!D32 -> 425000 | I14: =SUM(E14:H14) -> 425000
A15: 52 | B15: Osobní náklady | D15: =SUM(D16:D20) -> 4968000 | E15: =SUM(E16:E20) -> 5938000 | F15: =SUM(F16:F20) -> 0 | G15: =SUM(G16:G20) -> 0 | H15: =SUM(H16:H20) -> 0 | I15: =SUM(E15:H15) -> 5938000
B16: 521 | C16: Mzdové náklady | D16: 3660000 | E16: =[5]P8!D47 -> 4550000 | I16: =SUM(E16:H16) -> 4550000
B17: 524 | C17: Zákonné sociální pojištění (zdravotní, sociální) | D17: 1170000 | E17: =[5]P8!D49 -> 1210000 | I17: =SUM(E17:H17) -> 1210000
B18: 525 | C18: Jiné sociální pojištění (Kooperativa) | D18: 30000 | E18: =[5]P8!D51 -> 30000 | I18: =SUM(E18:H18) -> 30000
B19: 527 | C19: Zákonné sociální náklady | D19: 108000 | E19: =[5]P8!D53 -> 148000 | I19: =SUM(E19:H19) -> 148000
B20: 528 | C20: Jiné sociální náklady | E20: =[5]P8!D58 -> 0 | I20: =SUM(E20:H20) -> 0
A21: 53 | B21: Daně a poplatky | D21: =D22 -> 2000 | E21: =E22 -> 2000 | F21: =F22 -> 0 | G21: =G22 -> 0 | H21: =H22 -> 0 | I21: =SUM(E21:H21) -> 2000
B22: 538 | C22: Jiné daně a poplatky | D22: 2000 | E22: =[5]P8!D61 -> 2000 | I22: =SUM(E22:H22) -> 2000
A23: 54 | B23: Ostatní náklady | D23: =SUM(D24:D27) -> 25000 | E23: =SUM(E24:E27) -> 12000 | F23: =SUM(F24:F27) -> 0 | G23: =SUM(G24:G27) -> 0 | H23: =SUM(H24:H27) -> 0 | I23: =SUM(E23:H23) -> 12000
B24: 541 | C24: Smluvní pokuty a úroky z prodlení | E24: =[5]P8!D64 -> 0 | I24: =SUM(E24:H24) -> 0
B25: 542 | C25: Jiné pokuty a penále | E25: =[5]P8!D66 -> 0 | I25: =SUM(E25:H25) -> 0
B26: 547 | C26: Manka a škody | E26: =[5]P8!D68 -> 0 | I26: =SUM(E26:H26) -> 0
B27: 549 | C27: Ostatní náklady (ostatní pojištění, kapesné) | D27: 25000 | E27: =[5]P8!D70 -> 12000 | I27: =SUM(E27:H27) -> 12000
A28: 55 | B28: Odpisy, rezervy a opravné položky | D28: =SUM(D29:D31) -> 250000 | E28: =SUM(E29:E31) -> 100000 | F28: =SUM(F29:F31) -> 0 | G28: =SUM(G29:G31) -> 0 | H28: =SUM(H29:H31) -> 0 | I28: =SUM(E28:H28) -> 100000
B29: 551 | C29: Odpisy dlouhodobého majetku | E29: =[5]P8!D73 -> 0 | I29: =SUM(E29:H29) -> 0
B30: 556 | C30: Tvorba a zúčtování opravných položek | E30: =[5]P8!D75 -> 0 | I30: =SUM(E30:H30) -> 0
B31: 558 | C31: Náklady z DDM | D31: 250000 | E31: =[5]P8!D77 -> 100000 | I31: =SUM(E31:H31) -> 100000
A32: 56 | B32: Finanční náklady | D32: =D33 -> 0 | E32: =E33 -> 0 | F32: =F33 -> 0 | G32: =G33 -> 0 | H32: =H33 -> 0 | I32: =SUM(E32:H32) -> 0
B33: 569 | C33: Ostatní finanční náklady | E33: =[5]P8!D81 -> 0 | I33: =SUM(E33:H33) -> 0
A34: 59 | B34: Daň z příjmů | D34: =SUM(D35:D36) -> 0 | E34: =SUM(E35:E36) -> 0 | F34: =SUM(F35:F36) -> 0 | G34: =SUM(G35:G36) -> 0 | H34: =SUM(H35:H36) -> 0 | I34: =SUM(E34:H34) -> 0
B35: 591 | C35: Daň z příjmů | E35: =[5]P8!D84 -> 0 | I35: =SUM(E35:H35) -> 0
B36: 595 | C36: Dodatečné odvody daně z příjmů | E36: =[5]P8!D86 -> 0 | I36: =SUM(E36:H36) -> 0
A37: VÝNOSY CELKEM - účtová třída 6 | D37: =D38+D42+D47+D49 -> 11064000 | E37: =E38+E42+E47+E49 -> 11513000 | F37: =F38+F42+F47+F49 -> 0 | G37: =G38+G42+G47+G49 -> 0 | H37: =H38+H42+H47+H49 -> 0 | I37: =SUM(E37:H37) -> 11513000
A38: 60 | B38: Výnosy z vlastních výkonů a zboží | D38: =SUM(D39:D41) -> 2661000 | E38: =SUM(E39:E41) -> 2960000 | F38: =SUM(F39:F41) -> 0 | G38: =SUM(G39:G41) -> 0 | H38: =SUM(H39:H41) -> 0 | I38: =SUM(E38:H38) -> 2960000
B39: 602 | C39: Výnosy z prodeje služeb | D39: 2576000 | E39: 2860000 | I39: =SUM(E39:H39) -> 2860000
B40: 603 | C40: Výnosy z pronájmu | I40: =SUM(E40:H40) -> 0
B41: 604 | C41: Výnosy z prodaného zboží | D41: 85000 | E41: 100000 | I41: =SUM(E41:H41) -> 100000
A42: 64 | B42: Ostatní výnosy | D42: =SUM(D43:D46) -> 1215000 | E42: =SUM(E43:E46) -> 370000 | F42: =SUM(F43:F46) -> 0 | G42: =SUM(G43:G46) -> 0 | H42: =SUM(H43:H46) -> 0 | I42: =SUM(E42:H42) -> 370000
B43: 641 | C43: Smluvní pokuty a úroky z prodlení | I43: =SUM(E43:H43) -> 0
B44: 643 | C44: Výnosy z vyřazených pohledávek | I44: =SUM(E44:H44) -> 0
B45: 648 | C45: Čerpání fondů | D45: 1050000 | E45: 350000 | I45: =SUM(E45:H45) -> 350000
B46: 649 | C46: Ostatní výnosy z činnosti | D46: 165000 | E46: 20000 | I46: =SUM(E46:H46) -> 20000
A47: 66 | B47: Finanční výnosy | D47: =D48 -> 0 | E47: =E48 -> 0 | F47: =F48 -> 0 | G47: =G48 -> 0 | H47: =H48 -> 0 | I47: =SUM(E47:H47) -> 0
B48: 662 | C48: Úroky (BÚ apod.) | I48: =SUM(E48:H48) -> 0
A49: 67 | B49: Výnosy z transferů | D49: =SUM(D50:D54) -> 7188000 | E49: =SUM(E50:E54) -> 8183000 | F49: =SUM(F50:F54) -> 0 | G49: =SUM(G50:G54) -> 0 | H49: =SUM(H50:H54) -> 0 | I49: =SUM(E49:H49) -> 8183000
A50: 672… | B50: 500 | C50: Výnosy institucí z transferů - město | D50: 7188000 | E50: 8183000 | I50: =SUM(E50:H50) -> 8183000
A51: 672… | B51: 510 | C51: Výnosy institucí z transferů - odpisy | I51: =SUM(E51:H51) -> 0
A52: 672… | B52: 600 | C52: Výnosy institucí z transferů - kraj | I52: =SUM(E52:H52) -> 0
A53: 672… | C53: Výnosy institucí z transferů (dotace) | I53: =SUM(E53:H53) -> 0
A54: 672… | C54: Výnosy institucí ostatní (ÚP) | I54: =SUM(E54:H54) -> 0
A55: Hospodářský výsledek po zdanění | D55: =D37-D5 -> 0 | E55: =E37-E5 -> 0 | F55: =F37-F5 -> 0 | G55: =G37-G5 -> 0 | H55: =H37-H5 -> 0 | I55: =SUM(E55:H55) -> 0
A56: DOPLŇKOVÉ ÚDAJE
A57: Závazky vůči rozpočtu zřizovatele | D57: =SUM(D58:D59) -> 0 | E57: =SUM(E58:E59) -> 0 | F57: =SUM(F58:F59) -> 0 | G57: =SUM(G58:G59) -> 0 | H57: =SUM(H58:H59) -> 0 | I57: =SUM(E57:H57) -> 0
A58: V tom | B58: odvod z provozu | I58: =SUM(E58:H58) -> 0
B59: ostatní odvody | I59: =SUM(E59:H59) -> 0
A60: Úč. příspěvky a dotace ze SR a zřizovatele (nad rozpočet) | D60: =SUM(D61:D63) -> 0 | E60: =SUM(E61:E63) -> 0 | F60: =SUM(F61:F63) -> 0 | G60: =SUM(G61:G63) -> 0 | H60: =SUM(H61:H63) -> 0 | I60: =SUM(E60:H60) -> 0
A61: Z toho | B61: investiční dotace zřizovatele do investičního fondu | I61: =SUM(E61:H61) -> 0
B62: účelové dotace státního rozpočtu a státních fondů | I62: =SUM(E62:H62) -> 0
B63: individuální dotace státního rozpočtu na investice | I63: =SUM(E63:H63) -> 0
A65: sestavil: | C65: =[5]P8!C91 -> Ing. Pavel Jakoubek | D65: podpis: | G65: datum: | H65: 21.10.2024
A67: ředitel PO: | C67: =[5]P8!C93 -> Ing. Pavel Jakoubek | D67: podpis:
A69: Pozn.: k vyplnění jsou určena žlutá pole.

Sheet 3429-SRC-I
C1: Přehled nákladů | E1: na rok | F1: 2025 | H1: Příloha č. 8
B2: Sportovní a relaxační centrum, příspěvková organizace
C3: Hlavní činnost | H3: v Kč
B4: účet | C4: ukazatel | D4: celková potřeba | E4: příspěvek města | F4: další zdroje
F5: vlastní | G5: fondy | H5: od cizích
A6: NÁKLADY CELKEM | D6: =D7+D24+D46+D60+D63+D72+D80+D83 -> 11513000 | E6: =E7+E24+E46+E60+E63+E72+E80+E83 -> 8183000 | F6: =F7+F24+F46+F60+F63+F72+F80+F83 -> 2980000 | G6: =G7+G24+G46+G60+G63+G72+G80+G83 -> 350000 | H6: =H7+H24+H46+H60+H63+H72+H80+H83 -> 0
A7: 50 | B7: Spotřebované nákupy (501+502) | D7: =SUM(E7:H7) -> 4523000 | E7: =SUM(E8+E17+E22) -> 3050000 | F7: =SUM(F8+F17+F22) -> 1473000 | G7: =SUM(G8+G17+G22) -> 0 | H7: =SUM(H8+H17+H22) -> 0
A8: 501 | B8: Spotřeba materiálu | D8: =SUM(E8:H8) -> 287000 | E8: =SUM(E9:E16) -> 0 | F8: =SUM(F9:F16) -> 287000 | G8: =SUM(G9:G16) -> 0 | H8: =SUM(H9:H16) -> 0
A9: 501 | B9: 310 | C9: Ostatní materiál, DDHM do 3.000 Kč | D9: =SUM(E9:H9) -> 150000 | F9: 150000
A10: 501 | B10: 320 | C10: Učebnice a bezplatně poskytované školní potřeby | D10: =SUM(E10:H10) -> 15000 | F10: 15000
A11: 501 | B11: 330 | C11: Kancelářské potřeby | D11: =SUM(E11:H11) -> 5000 | F11: 5000
A12: 501 | B12: 340 | C12: Knihy, tisk, předplatné | D12: =SUM(E12:H12) -> 2000 | F12: 2000
A13: 501 | B13: 360 | C13: Pohonné hmoty | D13: =SUM(E13:H13) -> 30000 | F13: 30000
A14: 501 | B14: 370 | C14: Potraviny | D14: =SUM(E14:H14) -> 0
A15: 501 | B15: 380 | C15: Čisticí prostředky | D15: =SUM(E15:H15) -> 30000 | F15: 30000
A16: 501 | B16: 390 | C16: Chemikálie | D16: =SUM(E16:H16) -> 55000 | F16: 55000
A17: 502 | B17: Spotřeba energie | D17: =SUM(E17:H17) -> 4136000 | E17: =SUM(E18:E21) -> 3050000 | F17: =SUM(F18:F21) -> 1086000 | G17: =SUM(G18:G21) -> 0 | H17: =SUM(H18:H21) -> 0
A18: 502 | B18: 310 | C18: Elektrická energie | D18: =SUM(E18:H18) -> 1300000 | E18: 850000 | F18: 450000
A19: 502 | B19: 320 | C19: Teplo | D19: =SUM(E19:H19) -> 2050000 | E19: 1700000 | F19: 350000
A20: 502 | B20: 330 | C20: Plyn | D20: =SUM(E20:H20) -> 306000 | E20: 200000 | F20: 106000
A21: 502 | B21: 340 | C21: Voda | D21: =SUM(E21:H21) -> 480000 | E21: 300000 | F21: 180000
A22: 504 | B22: Prodané zboží | D22: =SUM(E22:H22) -> 100000 | E22: =SUM(E23:E23) -> 0 | F22: =SUM(F23:F23) -> 100000 | G22: =SUM(G23:G23) -> 0 | H22: =SUM(H23:H23) -> 0
A23: 504 | B23: 300 | C23: Zboží | D23: =SUM(E23:H23) -> 100000 | F23: 100000
A24: 51 | B24: Služby (511+512+513+518) | D24: =SUM(E24:H24) -> 938000 | E24: =SUM(E25+E28+E30+E32) -> 400000 | F24: =SUM(F25+F28+F30+F32) -> 288000 | G24: =SUM(G25+G28+G30+G32) -> 250000 | H24: =SUM(H25+H28+H30+H32) -> 0
A25: 511 | B25: Opravy a udržování | D25: =SUM(E25:H25) -> 510000 | E25: =SUM(E26:E27) -> 400000 | F25: =SUM(F26:F27) -> 10000 | G25: =SUM(G26:G27) -> 100000 | H25: =SUM(H26:H27) -> 0
A26: 511 | B26: 300 | C26: Opravy a udržování (vč. revizí) | D26: =SUM(E26:H26) -> 500000 | E26: 400000 | G26: 100000
A27: 511 | B27: 310 | C27: Opravy počítačů | D27: =SUM(E27:H27) -> 10000 | F27: 10000
A28: 512 | B28: Cestovné | D28: =SUM(E28:H28) -> 0 | E28: =SUM(E29:E29) -> 0 | F28: =SUM(F29:F29) -> 0 | G28: =SUM(G29:G29) -> 0 | H28: =SUM(H29:H29) -> 0
A29: 512 | B29: 300 | C29: Cestovné a cestovní náhrady | D29: =SUM(E29:H29) -> 0
A30: 513 | B30: Náklady na reprezentaci | D30: =SUM(E30:H30) -> 3000 | E30: =SUM(E31:E31) -> 0 | F30: =SUM(F31:F31) -> 3000 | G30: =SUM(G31:G31) -> 0 | H30: =SUM(H31:H31) -> 0
A31: 513 | B31: 300 | C31: Náklady na reprezentaci (pohoštění) | D31: =SUM(E31:H31) -> 3000 | F31: 3000
A32: 518 | B32: Ostatní služby | D32: =SUM(E32:H32) -> 425000 | E32: =SUM(E33:E45) -> 0 | F32: =SUM(F33:F45) -> 275000 | G32: =SUM(G33:G45) -> 150000 | H32: =SUM(H33:H45) -> 0
A33: 518 | B33: 310 | C33: Svoz odpadu | D33: =SUM(E33:H33) -> 10000 | F33: 10000
A34: 518 | B34: 320 | C34: Internet | D34: =SUM(E34:H34) -> 10000 | F34: 10000
A35: 518 | B35: 330 | C35: Služby pošt | D35: =SUM(E35:H35) -> 0
A36: 518 | B36: 340 | C36: Telefonní poplatky | D36: =SUM(E36:H36) -> 45000 | F36: 45000
A37: 518 | B37: 350 | C37: Ostatní služby, DDNM do 7.000 Kč | D37: =SUM(E37:H37) -> 200000 | F37: 50000 | G37: 150000
A38: 518 | B38: 370 | C38: Přeprava dětí | D38: =SUM(E38:H38) -> 0
A39: 518 | B39: 400 | C39: Bankovní poplatky | D39: =SUM(E39:H39) -> 65000 | F39: 65000
A40: 518 | B40: 440 | C40: Nájemné tělocvičny | D40: =SUM(E40:H40) -> 0
A41: 518 | B41: 450 | C41: Nájemné leasing (např. kopírky) | D41: =SUM(E41:H41) -> 0
A42: 518 | B42: 460 | C42: Nájem sálu | D42: =SUM(E42:H42) -> 0
A43: 518 | B43: 470 | C43: Rozbory vody | D43: =SUM(E43:H43) -> 85000 | F43: 85000
A44: 518 | B44: 480 | C44: Propagace, reklama | D44: =SUM(E44:H44) -> 10000 | F44: 10000
A45: 518 | B45: 520 | C45: Plavání | D45: =SUM(E45:H45) -> 0
A46: 52 | B46: Osobní náklady (521+524+525+527+528) | D46: =SUM(E46:H46) -> 5938000 | E46: =SUM(E47+E49+E51+E53+E58) -> 4733000 | F46: =SUM(F47+F49+F51+F53+F58) -> 1205000 | G46: =SUM(G47+G49+G51+G53+G58) -> 0 | H46: =SUM(H47+H49+H51+H53+H58) -> 0
A47: 521 | B47: Mzdové náklady | D47: =SUM(E47:H47) -> 4550000 | E47: =SUM(E48:E48) -> 3700000 | F47: =SUM(F48:F48) -> 850000 | G47: =SUM(G48:G48) -> 0 | H47: =SUM(H48:H48) -> 0
A48: 521 | C48: Mzdové náklady | D48: =SUM(E48:H48) -> 4550000 | E48: 3700000 | F48: 850000
A49: 524 | B49: Zákonné sociální pojištění | D49: =SUM(E49:H49) -> 1210000 | E49: =SUM(E50:E50) -> 950000 | F49: =SUM(F50:F50) -> 260000 | G49: =SUM(G50:G50) -> 0 | H49: =SUM(H50:H50) -> 0
A50: 524 | C50: Zákonné sociální pojištění | D50: =SUM(E50:H50) -> 1210000 | E50: 950000 | F50: 260000
A51: 525 | B51: Jiné sociální pojištění | D51: =SUM(E51:H51) -> 30000 | E51: =SUM(E52:E52) -> 18000 | F51: =SUM(F52:F52) -> 12000 | G51: =SUM(G52:G52) -> 0 | H51: =SUM(H52:H52) -> 0
A52: 525 | C52: Jiné sociální pojištění | D52: =SUM(E52:H52) -> 30000 | E52: 18000 | F52: 12000
A53: 527 | B53: Zákonné sociální náklady | D53: =SUM(E53:H53) -> 148000 | E53: =SUM(E54:E57) -> 65000 | F53: =SUM(F54:F57) -> 83000 | G53: =SUM(G54:G57) -> 0 | H53: =SUM(H54:H57) -> 0
A54: 527 | C54: Zákonné sociální náklady (FKSP) | D54: =SUM(E54:H54) -> 115000 | E54: 65000 | F54: 50000
A55: 527 | B55: 400 | C55: Služby, školení a vzdělávání | D55: =SUM(E55:H55) -> 10000 | F55: 10000
A56: 527 | B56: 500 | C56: Zdravotní prohlídky | D56: =SUM(E56:H56) -> 3000 | F56: 3000
A57: 527 | B57: 600 | C57: Ochranné pomůcky | D57: =SUM(E57:H57) -> 20000 | F57: 20000
A58: 528 | B58: Jiné sociální náklady | D58: =SUM(E58:H58) -> 0 | E58: =SUM(E59:E59) -> 0 | F58: =SUM(F59:F59) -> 0 | G58: =SUM(G59:G59) -> 0 | H58: =SUM(H59:H59) -> 0
A59: 528 | C59: Jiné sociální náklady | D59: =SUM(E59:H59) -> 0
A60: 53 | B60: Daně a poplatky (538) | D60: =SUM(E60:H60) -> 2000 | E60: =SUM(E61:E61) -> 0 | F60: =SUM(F61:F61) -> 2000 | G60: =SUM(G61:G61) -> 0 | H60: =SUM(H61:H61) -> 0
A61: 538 | B61: Jiné daně a poplatky | D61: =SUM(E61:H61) -> 2000 | E61: =SUM(E62:E62) -> 0 | F61: =SUM(F62:F62) -> 2000 | G61: =SUM(G62:G62) -> 0 | H61: =SUM(H62:H62) -> 0
A62: 538 | C62: Jiné daně a poplatky | D62: =SUM(E62:H62) -> 2000 | F62: 2000
A63: 54 | B63: Ostatní náklady (541+542+547+549) | D63: =SUM(E63:H63) -> 12000 | E63: =SUM(E64+E66+E68+E70) -> 0 | F63: =SUM(F64+F66+F68+F70) -> 12000 | G63: =SUM(G64+G66+G68+G70) -> 0 | H63: =SUM(H64+H66+H68+H70) -> 0
A64: 541 | B64: Smluvní pokuty a úroky z prodlení | D64: =SUM(E64:H64) -> 0 | E64: =SUM(E65:E65) -> 0 | F64: =SUM(F65:F65) -> 0 | G64: =SUM(G65:G65) -> 0 | H64: =SUM(H65:H65) -> 0
A65: 541 | C65: Smluvní pokuty a úroky z prodlení | D65: =SUM(E65:H65) -> 0
A66: 542 | B66: Ostatní pokuty a penále | D66: =SUM(E66:H66) -> 0 | E66: =SUM(E67:E67) -> 0 | F66: =SUM(F67:F67) -> 0 | G66: =SUM(G67:G67) -> 0 | H66: =SUM(H67:H67) -> 0
A67: 542 | C67: Ostatní pokuty a penále | D67: =SUM(E67:H67) -> 0
A68: 547 | B68: Manka a škody | D68: =SUM(E68:H68) -> 0 | E68: =SUM(E69:E69) -> 0 | F68: =SUM(F69:F69) -> 0 | G68: =SUM(G69:G69) -> 0 | H68: =SUM(H69:H69) -> 0
A69: 547 | C69: Manka a škody | D69: =SUM(E69:H69) -> 0
A70: 549 | B70: Ostatní náklady (ostatní pojištění, kapesné) | D70: =SUM(E70:H70) -> 12000 | E70: =SUM(E71:E71) -> 0 | F70: =SUM(F71:F71) -> 12000 | G70: =SUM(G71:G71) -> 0 | H70: =SUM(H71:H71) -> 0
A71: 549 | B71: 320 | C71: Ostatní náklady - pojištění | D71: =SUM(E71:H71) -> 12000 | F71: 12000
A72: 55 | B72: Odpisy, rezervy a opravné položky (556+558) | D72: =SUM(E72:H72) -> 100000 | E72: =SUM(E73+E75+E77) -> 0 | F72: =SUM(F73+F75+F77) -> 0 | G72: =SUM(G73+G75+G77) -> 100000 | H72: =SUM(H73+H75+H77) -> 0
A73: 551 | B73: Odpisy dlouhodobého majetku | D73: =SUM(E73:H73) -> 0 | E73: =SUM(E74:E74) -> 0 | F73: =SUM(F74:F74) -> 0 | G73: =SUM(G74:G74) -> 0 | H73: =SUM(H74:H74) -> 0
A74: 551 | C74: Odpisy dlouhodobého majetku | D74: =SUM(E74:H74) -> 0
A75: 556 | B75: Tvorba a zúčtování opravných položek | D75: =SUM(E75:H75) -> 0 | E75: =SUM(E76:E76) -> 0 | F75: =SUM(F76:F76) -> 0 | G75: =SUM(G76:G76) -> 0 | H75: =SUM(H76:H76) -> 0
A76: 556 | C76: Tvorba a zúčtování opravných položek | D76: =SUM(E76:H76) -> 0
A77: 558 | B77: Náklady z DDM | D77: =SUM(E77:H77) -> 100000 | E77: =SUM(E78:E79) -> 0 | F77: =SUM(F78:F79) -> 0 | G77: =SUM(G78:G79) -> 100000 | H77: =SUM(H78:H79) -> 0
A78: 558 | B78: 300 | C78: DDHM (3.000-40.000 Kč) | D78: =SUM(E78:H78) -> 100000 | G78: 100000
A79: 558 | B79: 330 | C79: DDNM (7.000-60.000 Kč) | D79: =SUM(E79:H79) -> 0
A80: 56 | B80: Finanční náklady (569) | D80: =SUM(E80:H80) -> 0 | E80: =SUM(E81:E81) -> 0 | F80: =SUM(F81:F81) -> 0 | G80: =SUM(G81:G81) -> 0 | H80: =SUM(H81:H81) -> 0
A81: 569 | B81: Ostatní finanční náklady | D81: =SUM(E81:H81) -> 0 | E81: =SUM(E82:E82) -> 0 | F81: =SUM(F82:F82) -> 0 | G81: =SUM(G82:G82) -> 0 | H81: =SUM(H82:H82) -> 0
A82: 569 | C82: Ostatní finanční náklady | D82: =SUM(E82:H82) -> 0
A83: 59 | B83: Daň z příjmů (591+595) | D83: =SUM(E83:H83) -> 0 | E83: =SUM(E84:E86) -> 0 | F83: =SUM(F84:F86) -> 0 | G83: =SUM(G84:G86) -> 0 | H83: =SUM(H84:H86) -> 0
A84: 591 | B84: Daň z příjmů | D84: =SUM(E84:H84) -> 0 | E84: =SUM(E85:E85) -> 0 | F84: =SUM(F85:F85) -> 0 | G84: =SUM(G85:G85) -> 0 | H84: =SUM(H85:H85) -> 0
A85: 591 | B85: 300 | C85: Daň z příjmů | D85: =SUM(E85:H85) -> 0
A86: 595 | B86: Dodatečné odvody daně z příjmů | D86: =SUM(E86:H86) -> 0 | E86: =SUM(E87:E87) -> 0 | F86: =SUM(F87:F87) -> 0 | G86: =SUM(G87:G87) -> 0 | H86: =SUM(H87:H87) -> 0
A87: 595 | B87: 300 | C87: Dodatečné odvody daně z příjmů | D87: =SUM(E87:H87) -> 0
A91: sestavil: | C91: Ing. Pavel Jakoubek | D91: podpis: | F91: datum: | G91: 21.10.2024
A93: ředitel PO: | C93: Ing. Pavel Jakoubek | D93: podpis: | J93: urad
A95: poznámka: | C95: k vyplnění jsou určena žlutá pole

Sheet 3612-BS
B1: Rozpočet bytová správa (org 0350) na | F1: =IF('příjmy-paragraf'!F2=0," ",'příjmy-paragraf'!F2) -> rok 2025
A3: § 3612 | B3: Bytová správa
B4: příjmová část | E4: rozpočet v Kč
A5: položka | B5: text | C5: upravený | D5: skutečnost | E5: předpoklad | F5: návrh | G5: schválený
C6: =IF('příjmy-paragraf'!D2=0," ",'příjmy-paragraf'!D2) -> rok 2024 | D6: =IF('příjmy-paragraf'!E3=0," ",'příjmy-paragraf'!E3) -> k 30.09. | E6: =IF('1014-útulek'!E6=0," ",'1014-útulek'!E6) -> k 31.12.2024 | F6: =IF('příjmy-paragraf'!F2=0," ",'příjmy-paragraf'!F2) -> rok 2025 | G6: =IF('příjmy-paragraf'!F2=0," ",'příjmy-paragraf'!F2) -> rok 2025
A7: 2111 | B7: služby | C7: 15045000 | D7: 13097384 | E7: 16980000 | F7: 15517000 | G7: 15517000
A8: 2132 | B8: nájem | C8: 13045000 | D8: 8689303 | E8: 12150000 | F8: 13730000 | G8: 13730000
A9: 2322 | B9: pojistná plnění | C9: 0 | D9: 0 | E9: 0 | F9: 0 | G9: 0
A10: 2324 | B10: přeplatky za služby | C10: 100000 | D10: 911711 | E10: 911711 | F10: 800000 | G10: 800000
B11: součet | C11: =SUM(C7:C10) -> 28190000 | D11: =SUM(D7:D10) -> 22698398 | E11: =SUM(E7:E10) -> 30041711 | F11: =SUM(F7:F10) -> 30047000 | G11: =SUM(G7:G10) -> 30047000
A14: § 3612 | B14: Bytová správa
B15: výdajová část | E15: rozpočet v Kč
A16: položka | B16: text | C16: upravený | D16: skutečnost | E16: předpoklad | F16: návrh | G16: schválený
C17: =IF('příjmy-paragraf'!D2=0," ",'příjmy-paragraf'!D2) -> rok 2024 | D17: =IF('příjmy-paragraf'!E3=0," ",'příjmy-paragraf'!E3) -> k 30.09. | E17: =IF('1014-útulek'!E16=0," ",'1014-útulek'!E16) -> k 31.12.2024 | F17: =IF('příjmy-paragraf'!F2=0," ",'příjmy-paragraf'!F2) -> rok 2025 | G17: =IF('příjmy-paragraf'!F2=0," ",'příjmy-paragraf'!F2) -> rok 2025
A18: 5011 | B18: mzdy | C18: 1615000 | D18: 1092440 | E18: 1615000 | F18: 1680000 | G18: 1680000
A19: 5021 | B19: ostatní osobní výdaje | C19: 50000 | D19: 46594 | E19: 65000 | F19: 65000 | G19: 65000
A20: 5031 | B20: sociální zabezpečení | C20: 397000 | D20: 270509 | E20: 397000 | F20: 417000 | G20: 417000
A21: 5032 | B21: zdravotní pojištění | C21: 144000 | D21: 101551 | E21: 144000 | F21: 151000 | G21: 151000
A22: 5038 | B22: úrazové pojištění | C22: 7000 | D22: 4619 | E22: 7000 | F22: 7000 | G22: 7000
A23: 5132 | B23: ochranné pomůcky | C23: 1000 | D23: 248 | E23: 500 | F23: 1000 | G23: 1000
A24: 5134 | B24: prádlo, oděv, obuv | C24: 1000 | D24: 0 | E24: 0 | F24: 1000 | G24: 1000
A25: 5136 | B25: knihy, tisk | C25: 1000 | D25: 0 | E25: 0 | F25: 1000 | G25: 1000
A26: 5137 | B26: DDHM | C26: 15000 | D26: 20990 | E26: 20990 | F26: 60000 | G26: 60000
A27: 5139 | B27: materiál | C27: 1500000 | D27: 1456086 | E27: 1600000 | F27: 1600000 | G27: 1600000
A28: 5141 | B28: úroky (z kaucí) | C28: 1000 | D28: 58 | E28: 100 | F28: 1000 | G28: 1000
A29: 5151 | B29: voda | C29: 3000000 | D29: 2257704 | E29: 3000000 | F29: 3100000 | G29: 3100000
... A48: 6121 | B48: investice | C48: 0 | D48: 0 | E48: 0 | F48: 0 | G48: 0
B49: součet | C49: =SUM(C18:C48) -> 28190000 | D49: =SUM(D18:D48) -> 20703783 | E49: =SUM(E18:E48) -> 28983303 | F49: =SUM(F18:F48) -> 30047000 | G49: =SUM(G18:G48) -> 30047000
B52: Nové Město pod Smrkem dne: | C52: 45595 | E52: zpracoval: | F52: Edita Čeledová

Sheet 3613-budovy
B1: Rozpočet nebytové hospodářství (org 0348) na | F1: =IF('příjmy-paragraf'!F2=0," ",'příjmy-paragraf'!F2) -> rok 2025
A3: § 3613 | B3: Nebytové hospodářství
B4: příjmová část | E4: rozpočet v Kč
A5: položka | B5: text | C5: upravený | D5: skutečnost | E5: předpoklad | F5: návrh | G5: schválený
C6: =IF('příjmy-paragraf'!D2=0," ",'příjmy-paragraf'!D2) -> rok 2024 | D6: =IF('příjmy-paragraf'!E3=0," ",'příjmy-paragraf'!E3) -> k 30.09. | E6: =IF('1014-útulek'!E6=0," ",'1014-útulek'!E6) -> k 31.12.2024 | F6: =IF('příjmy-paragraf'!F2=0," ",'příjmy-paragraf'!F2) -> rok 2025 | G6: =IF('příjmy-paragraf'!F2=0," ",'příjmy-paragraf'!F2) -> rok 2025
A7: 2111 | B7: služby | C7: 1200000 | D7: 1178613 | E7: 1200000 | F7: 1200000 | G7: 1200000
A8: 2132 | B8: nájem | C8: 500000 | D8: 410898 | E8: 500000 | F8: 550000 | G8: 550000
A9: 2324 | B9: pojistné plnění | C9: 0 | D9: 260176 | E9: 260176 | F9: 0 | G9: 0
B10: součet | C10: =SUM(C7:C9) -> 1700000 | D10: =SUM(D7:D9) -> 1849687 | E10: =SUM(E7:E9) -> 1960176 | F10: =SUM(F7:F9) -> 1750000 | G10: =SUM(G7:G9) -> 1750000
A13: § 3613 | B13: Nebytové hospodářství
B14: výdajová část | E14: rozpočet v Kč
A15: položka | B15: text | C15: upravený | D15: skutečnost | E15: předpoklad | F15: návrh | G15: schválený
C16: =IF('příjmy-paragraf'!D2=0," ",'příjmy-paragraf'!D2) -> rok 2024 | D16: =IF('příjmy-paragraf'!E3=0," ",'příjmy-paragraf'!E3) -> k 30.09. | E16: =IF('1014-útulek'!E16=0," ",'1014-útulek'!E16) -> k 31.12.2024 | F16: =IF('příjmy-paragraf'!F2=0," ",'příjmy-paragraf'!F2) -> rok 2025 | G16: =IF('příjmy-paragraf'!F2=0," ",'příjmy-paragraf'!F2) -> rok 2025
A17: 5133 | B17: zdravotnický materiál | C17: 0 | D17: 0 | E17: 0 | F17: 0 | G17: 0
A18: 5134 | B18: prádlo, oděv, obuv | C18: 15000 | D18: 13771 | E18: 15000 | F18: 15000 | G18: 15000
A19: 5137 | B19: DDHM | C19: 30000 | D19: 10980 | E19: 20000 | F19: 35000 | G19: 35000
A20: 5139 | B20: materiál | C20: 90000 | D20: 99100 | E20: 100000 | F20: 100000 | G20: 100000
A21: 5151 | B21: voda | C21: 300000 | D21: 100789 | E21: 120000 | F21: 300000 | G21: 300000
A22: 5152 | B22: teplo | C22: 550000 | D22: 387985 | E22: 500000 | F22: 600000 | G22: 600000
A23: 5153 | B23: plyn | C23: 50000 | D23: 36060 | E23: 50000 | F23: 55000 | G23: 55000
A24: 5154 | B24: elektrická energie | C24: 600000 | D24: 438486 | E24: 500000 | F24: 600000 | G24: 600000
A25: 5156 | B25: pohonné hmoty | C25: 15000 | D25: 0 | E25: 0 | F25: 15000 | G25: 15000
A26: 5169 | B26: ostatní služby | C26: 280000 | D26: 198697 | E26: 220000 | F26: 300000 | G26: 300000
A27: 5171 | B27: opravy a udržování | C27: 650000 | D27: 338968 | E27: 350000 | F27: 400000 | G27: 400000
A28: 5909 | B28: ostatní výdaje (přeplatky) | C28: 0 | D28: 0 | E28: 0 | F28: 0 | G28: 0
B29: součet | C29: =SUM(C17:C28) -> 2580000 | D29: =SUM(D17:D28) -> 1624836 | E29: =SUM(E17:E28) -> 1875000 | F29: =SUM(F17:F28) -> 2420000 | G29: =SUM(G17:G28) -> 2420000
B32: Nové Město pod Smrkem dne: | C32: 45595 | E32: zpracoval: | F32: Jalovičár

Sheet 3631-osvětlení
B1: Rozpočet veřejné osvětlení (org 0352) na | F1: =IF('příjmy-paragraf'!F2=0," ",'příjmy-paragraf'!F2) -> rok 2025
A3: § 3631 | B3: Veřejné osvětlení
B4: příjmová část | E4: rozpočet v Kč
A5: položka | B5: text | C5: upravený | D5: skutečnost | E5: předpoklad | F5: návrh | G5: schválený | H5: schválený | I5: I. změna
C6: =IF('příjmy-paragraf'!D2=0," ",'příjmy-paragraf'!D2) -> rok 2024 | D6: =IF('příjmy-paragraf'!E3=0," ",'příjmy-paragraf'!E3) -> k 30.09. | E6: =IF('1014-útulek'!E6=0," ",'1014-útulek'!E6) -> k 31.12.2024 | F6: =IF('příjmy-paragraf'!F2=0," ",'příjmy-paragraf'!F2) -> rok 2025 | G6: =IF('příjmy-paragraf'!F2=0," ",'příjmy-paragraf'!F2) -> rok 2025
A7: 2111 | B7: služby (plošina) | C7: 10000 | D7: 6657 | E7: 10000 | F7: 10000 | G7: 10000
A8: 2322 | B8: pojistná plnění | C8: 0 | D8: 19026 | E8: 19026 | F8: 0 | G8: 0
A9: 2324 | B9: přeplatek elektřiny | C9: 0 | D9: 105249 | E9: 105249 | F9: 0 | G9: =H9+I9 -> 250000 | H9: 0 | I9: 250000
B11: součet | C11: =SUM(C7:C10) -> 10000 | D11: =SUM(D7:D10) -> 130932 | E11: =SUM(E7:E10) -> 134275 | F11: =SUM(F7:F10) -> 10000 | G11: =SUM(G7:G10) -> 260000
A14: § 3631 | B14: Veřejné osvětlení
B15: výdajová část | E15: rozpočet v Kč
A16: položka | B16: text | C16: upravený | D16: skutečnost | E16: předpoklad | F16: návrh | G16: schválený
C17: =IF('příjmy-paragraf'!D2=0," ",'příjmy-paragraf'!D2) -> rok 2024 | D17: =IF('příjmy-paragraf'!E3=0," ",'příjmy-paragraf'!E3) -> k 30.09. | E17: =IF('1014-útulek'!E16=0," ",'1014-útulek'!E16) -> k 31.12.2024 | F17: =IF('příjmy-paragraf'!F2=0," ",'příjmy-paragraf'!F2) -> rok 2025 | G17: =IF('příjmy-paragraf'!F2=0," ",'příjmy-paragraf'!F2) -> rok 2025
A18: 5139 | B18: materiál | C18: 100000 | D18: 2861 | E18: 5000 | F18: 70000 | G18: 70000
A19: 5154 | B19: elektrická energie | C19: 800000 | D19: 457432 | E19: 600000 | F19: 400000 | G19: 400000
A20: 5156 | B20: pohonné hmoty | C20: 5000 | D20: 0 | E20: 0 | F20: 0 | G20: 0
A21: 5163 | B21: pojistné - plošina | C21: 31000 | D21: 0 | E21: 0 | F21: 0 | G21: 0
A22: 5164 | B22: nájemné | C22: 40000 | D22: 39924 | E22: 39924 | F22: 40000 | G22: 40000
A23: 5167 | B23: školení a vzdělávání | C23: 12000 | D23: 13380 | E23: 13380 | F23: 14000 | G23: 14000
A24: 5169 | B24: ostatní služby | C24: 6000 | D24: 69750 | E24: 69750 | F24: 70000 | G24: 70000
A25: 5171 | B25: opravy a udržování | C25: 300000 | D25: 74516 | E25: 74516 | F25: 300000 | G25: 300000
C26: =C18+C19+C20+C21+C22+C23+C24+C25 -> 1294000 | D26: =SUM(D18:D25) -> 657863 | E26: =SUM(E18:E25) -> 802570 | F26: =SUM(F18:F25) -> 894000 | G26: =SUM(G18:G25) -> 894000
B29: Nové Město pod Smrkem dne: | C29: 45595 | E29: zpracoval: | F29: J. Pelant

Sheet 3632-pohřebnictví
B1: Rozpočet pohřebnictví (org 0353) na | F1: =IF('příjmy-paragraf'!F2=0," ",'příjmy-paragraf'!F2) -> rok 2025
A3: § 3632 | B3: Pohřebnictví
B4: příjmová část | E4: rozpočet v Kč
A5: položka | B5: text | C5: upravený | D5: skutečnost | E5: předpoklad | F5: návrh | G5: schválený
C6: =IF('příjmy-paragraf'!D2=0," ",'příjmy-paragraf'!D2) -> rok 2024 | D6: =IF('příjmy-paragraf'!E3=0," ",'příjmy-paragraf'!E3) -> k 30.09. | E6: =IF('1014-útulek'!E6=0," ",'1014-útulek'!E6) -> k 31.12.2024 | F6: =IF('příjmy-paragraf'!F2=0," ",'příjmy-paragraf'!F2) -> rok 2025 | G6: =IF('příjmy-paragraf'!F2=0," ",'příjmy-paragraf'!F2) -> rok 2025
A7: 2111 | B7: za hrobová místa | C7: 50000 | D7: 51724 | E7: 52000 | F7: 50000 | G7: 50000
A8: 2324 | B8: náhrady (vymožená pohledávka) | C8: 0 | D8: 0 | E8: 0 | F8: 0 | G8: 0
B9: součet | C9: =SUM(C7:C8) -> 50000 | D9: =SUM(D7:D8) -> 51724 | E9: =SUM(E7:E8) -> 52000 | F9: =SUM(F7:F8) -> 50000 | G9: =SUM(G7:G8) -> 50000
A12: § 3632 | B12: Pohřebnictví
B13: výdajová část | E13: rozpočet v Kč
A14: položka | B14: text | C14: upravený | D14: skutečnost | E14: předpoklad | F14: návrh | G14: schválený
C15: =IF('příjmy-paragraf'!D2=0," ",'příjmy-paragraf'!D2) -> rok 2024 | D15: =IF('příjmy-paragraf'!E3=0," ",'příjmy-paragraf'!E3) -> k 30.09. | E15: =IF('1014-útulek'!E16=0," ",'1014-útulek'!E16) -> k 31.12.2024 | F15: =IF('příjmy-paragraf'!F2=0," ",'příjmy-paragraf'!F2) -> rok 2025 | G15: =IF('příjmy-paragraf'!F2=0," ",'příjmy-paragraf'!F2) -> rok 2025
A16: 5132 | B16: ochranné pomůcky | C16: 1000 | D16: 0 | E16: 0 | F16: 1000 | G16: 1000
A17: 5134 | B17: prádlo, oděv, obuv | C17: 4000 | D17: 4000 | E17: 4000 | F17: 4000 | G17: 4000
A18: 5139 | B18: nákup materiálu | C18: 20000 | D18: 6064 | E18: 8000 | F18: 20000 | G18: 20000
A19: 5154 | B19: elektrická energie | C19: 15000 | D19: 5800 | E19: 7000 | F19: 15000 | G19: 15000
A20: 5156 | B20: pohonné hmoty | C20: 20000 | D20: 0 | E20: 0 | F20: 20000 | G20: 20000
A21: 5169 | B21: ostatní služby | C21: 30000 | D21: 11848 | E21: 15000 | F21: 30000 | G21: 30000
A22: 5171 | B22: opravy a udržování | C22: 30000 | D22: 4840 | E22: 8000 | F22: 30000 | G22: 30000
A23: 5811 | B23: výdaje za nezpůsobenou újmu | C23: 0 | D23: 13098
A24: 6111 | B24: programové vybavení | C24: 10000 | D24: 0 | E24: 0 | F24: 0 | G24: 1e-16
A25: 6121 | B25: budovy, stavby | C25: 0 | D25: 0 | E25: 0 | F25: 0 | G25: 0
B26: součet | C26: =SUM(C16:C25) -> 130000 | D26: =SUM(D16:D25) -> 45650 | E26: =SUM(E16:E25) -> 42000 | F26: =SUM(F16:F25) -> 120000 | G26: =SUM(G16:G25) -> 120000
B29: Nové Město pod Smrkem dne: | C29: 45595 | E29: zpracoval: | F29: Jalovičár

Sheet 3722-odpady
B1: Rozpočet odpadové hospodářství (org 0347 a 0356) na | F1: =IF('příjmy-paragraf'!F2=0," ",'příjmy-paragraf'!F2) -> rok 2025
B3: Sběr a svoz komunálních odpadů
B4: příjmová část | E4: rozpočet v Kč
A5: paragraf | B5: text | C5: upravený | D5: skutečnost | E5: předpoklad | F5: návrh | G5: schválený
C6: =IF('příjmy-paragraf'!D2=0," ",'příjmy-paragraf'!D2) -> rok 2024 | D6: =IF('příjmy-paragraf'!E3=0," ",'příjmy-paragraf'!E3) -> k 30.09. | E6: =IF('1014-útulek'!E6=0," ",'1014-útulek'!E6) -> k 31.12.2024 | F6: =IF('příjmy-paragraf'!F2=0," ",'příjmy-paragraf'!F2) -> rok 2025 | G6: =IF('příjmy-paragraf'!F2=0," ",'příjmy-paragraf'!F2) -> rok 2025
A7: 1345 | B7: poplatek za komunální odpad | C7: 1900000 | D7: 1778643 | E7: 1900000 | F7: 1900000 | G7: 1900000
B8: součet | C8: =SUM(C7) -> 1900000 | D8: =SUM(D7) -> 1778643 | E8: =SUM(E7) -> 1900000 | F8: =SUM(F7) -> 1900000 | G8: =SUM(G7) -> 1900000
A9: 2111 | B9: FCC ( prodej PET), kauce, podnikatelé | C9: 7000 | D9: 6050 | E9: 6050 | F9: 7000 | G9: 7000
A10: 2111 | B10: SD – suť (poplatek od FO) | C10: 35000 | D10: 35306 | E10: 40000 | F10: 40000 | G10: 40000
A11: 2111 | B11: KOVOŠROT (prodej - železo, papír) | C11: 10000 | D11: 8028 | E11: 9500 | F11: 10000 | G11: 10000
A12: 3723 | B12: součet | C12: =SUM(C9:C11) -> 52000 | D12: =SUM(D9:D11) -> 49384 | E12: =SUM(E9:E11) -> 55550 | F12: =SUM(F9:F11) -> 57000 | G12: =SUM(G9:G11) -> 57000
A13: 2324 | B13: EKO-KOM (odměna na podporu separace) | C13: 600000 | D13: 571457 | E13: 760000 | F13: 760000 | G13: 760000
A14: 2111 | B14: prodej PET | C14: 90000 | D14: 117851 | E14: 117851 | F14: 117000 | G14: 117000
A15: 2324 | B15: ELEKTROWIN (odměna za zpětný odběr) | C15: 110000 | D15: 70364 | E15: 87726 | F15: 88000 | G15: 88000
A16: 3725 | B16: součet | C16: =SUM(C13:C15) -> 800000 | D16: =SUM(D13:D15) -> 759672 | E16: =SUM(E13:E15) -> 965577 | F16: =SUM(F13:F15) -> 965000 | G16: =SUM(G13:G15) -> 965000
A17: 3722 | B17: FCC kompenzace | C17: 0 | D17: 37728 | E17: 65236 | F17: 0 | G17: 0
B18: součet | C18: =SUM(C17) -> 0 | D18: =SUM(D17) -> 37728 | E18: =SUM(E17) -> 65236 | F18: =SUM(F17) -> 0 | G18: 0
B19: součet | C19: =SUM(C8+C12+C16+C18) -> 2752000 | D19: =SUM(D16+D12+D8+D18) -> 2625427 | E19: =SUM(E8+E12+E16+E18) -> 2986363 | F19: =SUM(F8+F12+F16+F18) -> 2922000 | G19: =SUM(G8+G12+G16+G18) -> 2922000
A22: § 3722 | B22: Sběr a svoz komunálních odpadů
B23: výdajová část | E23: rozpočet v Kč
A24: položka | B24: text | C24: upravený | D24: skutečnost | E24: předpoklad | F24: návrh | G24: schválený
C25: =IF('příjmy-paragraf'!D2=0," ",'příjmy-paragraf'!D2) -> rok 2024 | D25: =IF('příjmy-paragraf'!E3=0," ",'příjmy-paragraf'!E3) -> k 30.09. | E25: =IF('1014-útulek'!E16=0," ",'1014-útulek'!E16) -> k 31.12.2024 | F25: =IF('příjmy-paragraf'!F2=0," ",'příjmy-paragraf'!F2) -> rok 2025 | G25: =IF('příjmy-paragraf'!F2=0," ",'příjmy-paragraf'!F2) -> rok 2025
A26: 5134 | B26: prádlo, oděv, obuv | C26: 0 | D26: 0 | E26: 0 | F26: 0 | G26: 0
A27: 5137 | B27: DDHM | C27: 0 | D27: 0 | E27: 0 | F27: 0 | G27: 0
A28: 5139 | B28: nákup materiálu | C28: 1000 | D28: 73205 | E28: 73205 | F28: 1000 | G28: 1000
A29: 5151 | B29: voda | C29: 5000 | D29: 838 | E29: 1200 | F29: 2000 | G29: 2000
A30: 5154 | B30: elektrická energie | C30: 25000 | D30: 19113 | E30: 28100 | F30: 30000 | G30: 30000
A31: 5169 | B31: služby (nádoby + sběrný dvůr+ monitoring) | C31: 7200000 | D31: 5242859 | E31: 7200000 | F31: 7450000 | G31: 7450000
A32: 5171 | B32: opravy a udržování | C32: 5000 | D32: 0 | E32: 0 | F32: 5000 | G32: 5000
A33: 6121 | B33: stavby (oplocení SD+stání kontejnerová) | C33: 1000000 | D33: 85915 | E33: 85915 | F33: 1000000 | G33: 1000000
B34: součet | C34: =SUM(C26:C33) -> 8236000 | D34: =SUM(D26:D33) -> 5421930 | E34: =SUM(E26:E33) -> 7388420 | F34: =SUM(F26:F33) -> 8488000 | G34: =SUM(G26:G33) -> 8488000
B37: Nové Město pod Smrkem dne: 30.10.2024 | E37: zpracoval: | F37: Václavková Marie
B40: Navýšení rozpočtu o 3% inflace.
B41: Položka 6121 stavby: Zastřešení stanovišť na kontejnerové stání: ul. Uhelná 932-934, ul. Vaňkova 924, Mírové náměstí 209-212.

Sheet 3745-zeleň
B1: Rozpočet čištění města a veřejná zeleň (org 0355) na | F1: =IF('příjmy-paragraf'!F2=0," ",'příjmy-paragraf'!F2) -> rok 2025
A3: § 3745 | B3: Čištění města a veřejná zeleň
B4: příjmová část | E4: rozpočet v Kč
A5: položka | B5: text | C5: upravený | D5: skutečnost | E5: předpoklad | F5: návrh | G5: schválený | H5: schválený | I5: I. změna
C6: =IF('příjmy-paragraf'!D2=0," ",'příjmy-paragraf'!D2) -> rok 2024 | D6: =IF('příjmy-paragraf'!E3=0," ",'příjmy-paragraf'!E3) -> k 30.09. | E6: =IF('1014-útulek'!E6=0," ",'1014-útulek'!E6) -> k 31.12.2024 | F6: =IF('příjmy-paragraf'!F2=0," ",'příjmy-paragraf'!F2) -> rok 2025 | G6: =IF('příjmy-paragraf'!F2=0," ",'příjmy-paragraf'!F2) -> rok 2025
A7: 2111 | B7: služby | C7: 50000 | D7: 48763 | E7: 50000 | F7: 50000 | G7: =H7+I7 -> 145000 | H7: 50000 | I7: 95000
B8: součet | C8: =SUM(C7:C7) -> 50000 | D8: =SUM(D7:D7) -> 48763 | E8: =SUM(E7:E7) -> 50000 | F8: =SUM(F7:F7) -> 50000 | G8: =SUM(G7) -> 145000
A11: § 3745 | B11: Čištění města a veřejná zeleň
B12: výdajová část | E12: rozpočet v Kč
A13: položka | B13: text | C13: upravený | D13: skutečnost | E13: předpoklad | F13: návrh | G13: schválený
C14: =IF('příjmy-paragraf'!D2=0," ",'příjmy-paragraf'!D2) -> rok 2024 | D14: =IF('příjmy-paragraf'!E3=0," ",'příjmy-paragraf'!E3) -> k 30.09. | E14: =IF('1014-útulek'!E16=0," ",'1014-útulek'!E16) -> k 31.12.2024 | F14: =IF('příjmy-paragraf'!F2=0," ",'příjmy-paragraf'!F2) -> rok 2025 | G14: =IF('příjmy-paragraf'!F2=0," ",'příjmy-paragraf'!F2) -> rok 2025
A15: 5011 | B15: platy VPP | C15: 1488000 | D15: 851567 | E15: 1488000 | F15: 1500000 | G15: 1500000
A16: 5031 | B16: sociální zabezpečení VPP | C16: 406000 | D16: 205433 | E16: 406000 | F16: 380000 | G16: 380000
A17: 5032 | B17: zdravotní pojištění VPP | C17: 139000 | D17: 74553 | E17: 139000 | F17: 140000 | G17: 140000
A18: 5424 | B18: náhrady v nemoci | C18: 0 | D18: 0 | E18: 0
B19: součet VPP | C19: =SUM(C15:C18) -> 2033000 | D19: =SUM(D15:D18) -> 1131553 | E19: =SUM(E15:E18) -> 2033000 | F19: =SUM(F15:F18) -> 2020000 | G19: =SUM(G15:G18) -> 2020000
A20: 5132 | B20: ochranné pomůcky | C20: 10000 | D20: 11872 | E20: 13000 | F20: 15000 | G20: 15000
A21: 5133 | B21: léky a zdravotnický materiál | C21: 1000 | D21: 0 | E21: 0 | F21: 1000 | G21: 1000
A22: 5134 | B22: prádlo, oděv, obuv | C22: 55000 | D22: 4559 | E22: 10000 | F22: 50000 | G22: 50000
A23: 5137 | B23: DDHM | C23: 80000 | D23: 88205 | E23: 90000 | F23: 380000 | G23: 380000 | H23: 30 ks odpadkových košů á 10.000,00 Kč
A24: 5139 | B24: nákup materiálu | C24: 220000 | D24: 239760 | E24: 250000 | F24: 230000 | G24: 230000
A25: 5156 | B25: pohonné hmoty | C25: 260000 | D25: 210688 | E25: 250000 | F25: 280000 | G25: 280000
A26: 5162 | B26: telefon | C26: 12000 | D26: 6838 | E26: 8000 | F26: 12000 | G26: 12000
A27: 5163 | B27: služby peněžních ústavů | C27: 30000 | D27: 0 | E27: 0 | F27: 0 | G27: 0
A28: 5167 | B28: školení a vzdělávání | C28: 5000 | D28: 0 | E28: 0 | F28: 5000 | G28: 5000
A29: 5169 | B29: ostatní služby | C29: 300000 | D29: 31996 | E29: 50000 | F29: 350000 | G29: 350000
A30: 5171 | B30: opravy a udržování | C30: 400000 | D30: 322425 | E30: 400000 | F30: 600000 | G30: 600000 | H30: firma na udržování náměstí
A31: 6122 | B31: stroje, přístroje, zařízení | C31: 400000 | D31: 513899 | E31: 550000 | F31: 400000 | G31: 400000 | H31: příslušenství k traktoru Kioti
A32: 6123 | B32: dopravní prostředky | C32: 1100000 | D32: 1039390 | E32: 1040000 | F32: 900000 | G32: 900000 | H32: starší auto na kontejnery do 3,5t
B33: součet čištění a zeleň | C33: =SUM(C20:C32) -> 2873000 | D33: =SUM(D20:D32) -> 2469632 | E33: =SUM(E20:E32) -> 2661000 | F33: =SUM(F20:F32) -> 3223000 | G33: =SUM(G20:G32) -> 3223000
B34: součet | C34: =SUM(C19+C33) -> 4906000 | D34: =SUM(D19+D33) -> 3601185 | E34: =SUM(E19+E33) -> 4694000 | F34: =SUM(F19+F33) -> 5243000 | G34: =SUM(G19+G33) -> 5243000
B37: Nové Město pod Smrkem dne: | C37: 45595 | E37: zpracoval: | F37: Jalovičár

Sheet 4351-DPS
B1: Rozpočet pečovatelské služby (org 0341) na | F1: =IF('příjmy-paragraf'!F2=0," ",'příjmy-paragraf'!F2) -> rok 2025
A3: § 4351 | B3: Pečovatelská služba
B4: příjmová část | E4: rozpočet v Kč
A5: položka | B5: text | C5: upravený | D5: skutečnost | E5: předpoklad | F5: návrh | G5: schválený
C6: =IF('příjmy-paragraf'!D2=0," ",'příjmy-paragraf'!D2) -> rok 2024 | D6: =IF('příjmy-paragraf'!E3=0," ",'příjmy-paragraf'!E3) -> k 30.09. | E6: =IF('1014-útulek'!E6=0," ",'1014-útulek'!E6) -> k 31.12.2024 | F6: =IF('příjmy-paragraf'!F2=0," ",'příjmy-paragraf'!F2) -> rok 2025 | G6: =IF('příjmy-paragraf'!F2=0," ",'příjmy-paragraf'!F2) -> rok 2025
A7: 2111 | B7: poskytování služeb | C7: 330000 | D7: 357784 | E7: 400000 | F7: 340000 | G7: 340000
A8: 2324 | B8: příspěvky a náhrady | C8: 0 | D8: 0 | E8: 0 | F8: 0 | G8: 0
B9: součet | C9: =SUM(C7:C8) -> 330000 | D9: =SUM(D7:D8) -> 357784 | E9: =SUM(E7:E8) -> 400000 | F9: =SUM(F7:F8) -> 340000 | G9: =SUM(G7:G8) -> 340000
A12: § 4351 | B12: Pečovatelská služba
B13: výdajová část | E13: rozpočet v Kč
A14: položka | B14: text | C14: upravený | D14: skutečnost | E14: předpoklad | F14: návrh | G14: schválený
C15: =IF('příjmy-paragraf'!D2=0," ",'příjmy-paragraf'!D2) -> rok 2024 | D15: =IF('příjmy-paragraf'!E3=0," ",'příjmy-paragraf'!E3) -> k 30.09. | E15: =IF('1014-útulek'!E16=0," ",'1014-útulek'!E16) -> k 31.12.2024 | F15: =IF('příjmy-paragraf'!F2=0," ",'příjmy-paragraf'!F2) -> rok 2025 | G15: =IF('příjmy-paragraf'!F2=0," ",'příjmy-paragraf'!F2) -> rok 2025
A16: 5011 | B16: platy | C16: 1700000 | D16: 1229925 | E16: 1700000 | F16: 1700000 | G16: 1700000
A17: 5031 | B17: sociální zabezpečení | C17: 421000 | D17: 303768 | E17: 421000 | F17: 421000 | G17: 421000
A18: 5032 | B18: zdravotní pojištění | C18: 153000 | D18: 110241 | E18: 153000 | F18: 153000 | G18: 153000
A19: 5132 | B19: ochranné pomůcky | C19: 0 | D19: 0 | E19: 0 | F19: 0 | G19: 0
A20: 5133 | B20: léky, zdravotnický materiál | C20: 0 | D20: 0 | E20: 0 | F20: 0 | G20: 0
A21: 5134 | B21: prádlo, oděv, obuv | C21: 12000 | D21: 4015 | E21: 12000 | F21: 12000 | G21: 12000
A22: 5137 | B22: DDHM | C22: 16000 | D22: 0 | E22: 16000 | F22: 6000 | G22: 6000 | H22: vysavač
A23: 5139 | B23: materiál | C23: 40000 | D23: 10861 | E23: 35000 | F23: 35000 | G23: 35000
A24: 5151 | B24: vodné | C24: 22000 | D24: 10528 | E24: 18000 | F24: 20000 | G24: 20000
A25: 5152 | B25: teplo | C25: 70000 | D25: 63832 | E25: 85000 | F25: 85000 | G25: 85000
A26: 5154 | B26: elektrická energie | C26: 25000 | D26: 11988 | E26: 18000 | F26: 20000 | G26: 20000
A27: 5156 | B27: pohonné hmoty | C27: 20000 | D27: 15668 | E27: 20000 | F27: 22000 | G27: 22000
A28: 5162 | B28: elektronická komunikace | C28: 14000 | D28: 8994 | E28: 14000 | F28: 14000 | G28: 14000
A29: 5163 | B29: služby peněž. ústavů | C29: 7000 | D29: 0 | E29: 7000 | F29: 7000 | G29: 7000
A30: 5167 | B30: školení a vzdělávání | C30: 23000 | D30: 9730 | E30: 15290 | F30: 30000 | G30: 30000
A31: 5168 | B31: zpracování dat, informatika | C31: 10000 | D31: 0 | E31: 10000 | F31: 10000 | G31: 10000
A32: 5169 | B32: ostatní služby | C32: 5000 | D32: 15013 | E32: 15013 | F32: 6000 | G32: 6000
A33: 5171 | B33: opravy a udržování | C33: 20000 | D33: 2530 | E33: 10000 | F33: 15000 | G33: 15000 | H33: pneumatiky
A34: 5173 | B34: cestovné | C34: 1000 | D34: 0 | E34: 300 | F34: 1000 | G34: 1000
A35: 5175 | B35: pohoštění | C35: 5000 | D35: 509 | E35: 5000 | F35: 6000 | G35: 6000
A36: 5424 | B36: náhrady mezd v nemoci | C36: 0 | D36: 0 | E36: 0 | F36: 0 | G36: 0
A37: 6123 | B37: dopravní prostředky | C37: 0 | D37: 0 | E37: 0 | F37: 550000 | G37: 550000 | H37: auto
B38: součet | C38: =SUM(C16:C37) -> 2564000 | D38: =SUM(D16:D37) -> 1797602 | E38: =SUM(E16:E37) -> 2554603 | F38: =SUM(F16:F37) -> 3113000 | G38: =SUM(G16:G37) -> 3113000
B41: Nové Město pod Smrkem dne: | C41: 45595 | E41: zpracoval: | F41: Plíšková M.

Sheet 5512-hasiči
B1: Rozpočet hasiči (org 0331 a 0332) na | F1: =IF('příjmy-paragraf'!F2=0," ",'příjmy-paragraf'!F2) -> rok 2025
A3: § 5512 | B3: Požární ochrana
B4: příjmová část | E4: rozpočet v Kč
A5: položka | B5: text | C5: upravený | D5: skutečnost | E5: předpoklad | F5: návrh | G5: schválený | H5: schválený | I5: I. změna
C6: =IF('příjmy-paragraf'!D2=0," ",'příjmy-paragraf'!D2) -> rok 2024 | D6: =IF('příjmy-paragraf'!E3=0," ",'příjmy-paragraf'!E3) -> k 30.09. | E6: =IF('1014-útulek'!E6=0," ",'1014-útulek'!E6) -> k 31.12.2024 | F6: =IF('příjmy-paragraf'!F2=0," ",'příjmy-paragraf'!F2) -> rok 2025 | G6: =IF('příjmy-paragraf'!F2=0," ",'příjmy-paragraf'!F2) -> rok 2025
A7: 2322 | B7: příjem z pojistných plnění | C7: 0 | D7: 108224 | E7: 108224 | F7: 0 | G7: 0
B8: příspěvek nadace Agrofert | G8: =H8+I8 -> 60000 | H8: 0 | I8: 60000
B9: součet | C9: =SUM(C7:C8) -> 0 | D9: =SUM(D7:D8) -> 108224 | E9: =SUM(E7:E8) -> 108224 | F9: =SUM(F7:F8) -> 0 | G9: =SUM(G7:G8) -> 60000
A12: § 5512 | B12: Požární ochrana
B13: výdajová část | E13: rozpočet v Kč
A14: položka | B14: text | C14: upravený | D14: skutečnost | E14: předpoklad | F14: návrh | G14: schválený | H14: schválený | I14: I. změna
C15: =IF('příjmy-paragraf'!D2=0," ",'příjmy-paragraf'!D2) -> rok 2024 | D15: =IF('příjmy-paragraf'!E3=0," ",'příjmy-paragraf'!E3) -> k 30.09. | E15: =IF('1014-útulek'!E16=0," ",'1014-útulek'!E16) -> k 31.12.2024 | F15: =IF('příjmy-paragraf'!F2=0," ",'příjmy-paragraf'!F2) -> rok 2025 | G15: =IF('příjmy-paragraf'!F2=0," ",'příjmy-paragraf'!F2) -> rok 2025
A16: 5019 | B16: ostatní platy | C16: 10000 | D16: 10879 | E16: 11000 | F16: 10000 | G16: 10000
A17: 5021 | B17: ostatní osobní výdaje | C17: 160000 | D17: 2856 | E17: 160000 | F17: 160000 | G17: 160000
A18: 5039 | B18: ostatní povinné pojistné | C18: 20000 | D18: 3064 | E18: 20000 | F18: 20000 | G18: 20000
A19: 5132 | B19: ochranné pomůcky | C19: 3000 | D19: 225 | E19: 3000 | F19: 3000 | G19: 3000
A20: 5133 | B20: léky a zdravotnický materiál | C20: 3000 | D20: 0 | E20: 3000 | F20: 3000 | G20: 3000
A21: 5134 | B21: prádlo, oděv, obuv | C21: 5000 | D21: 0 | E21: 5000 | F21: 5000 | G21: 5000
A22: 5136 | B22: knihy, tisk | C22: 0 | D22: 0 | E22: 0 | F22: 0 | G22: 0
A23: 5137 | B23: DDHM | C23: 160000 | D23: 128400 | E23: 140000 | F23: 220000 | G23: =H23+I23 -> 280000 | H23: 220000 | I23: 60000
A24: 5139 | B24: materiál | C24: 423000 | D24: 203798 | E24: 250000 | F24: 150000 | G24: 150000
A25: 5151 | B25: voda | C25: 8000 | D25: 24531 | E25: 27000 | F25: 8000 | G25: 8000
A26: 5153 | B26: plyn | C26: 40000 | D26: 51660 | E26: 60000 | F26: 40000 | G26: 40000
A27: 5154 | B27: elektrická energie | C27: 80000 | D27: 134499 | E27: 150000 | F27: 80000 | G27: 80000
A28: 5156 | B28: pohonné hmoty | C28: 140000 | D28: 114569 | E28: 130000 | F28: 140000 | G28: 140000
A29: 5161 | B29: poštovní služby | C29: 0 | D29: 0 | E29: 0 | F29: 0 | G29: 0
A30: 5162 | B30: elektronická komunikace | C30: 40000 | D30: 46014 | E30: 50000 | F30: 40000 | G30: 40000
A31: 5163 | B31: služby peněž. ústavů | C31: 90000 | D31: 76374 | E31: 80000 | F31: 90000 | G31: 90000
A32: 5167 | B32: školení a vzdělávání | C32: 60000 | D32: 4800 | E32: 5000 | F32: 60000 | G32: 60000
A33: 5168 | B33: zpracování dat, informatika | C33: 0 | D33: 0 | E33: 0 | F33: 0 | G33: 0
A34: 5169 | B34: ostatní služby | C34: 45000 | D34: 61019 | E34: 70000 | F34: 45000 | G34: 45000
A35: 5171 | B35: opravy a udržování | C35: 180000 | D35: 185472 | E35: 200000 | F35: 180000 | G35: 180000
... A40: 6123 | B40: dopravní prostředky | C40: 0 | D40: 0 | E40: 0 | F40: 1900000 | G40: 1900000
B41: součet | C41: =SUM(C16:C40) -> 1607000 | D41: =SUM(D16:D40) -> 1178820 | E41: =SUM(E16:E40) -> 1496678 | F41: =SUM(F16:F40) -> 3166000 | G41: =SUM(G16:G40) -> 3226000
B44: Nové Město pod Smrkem dne: | C44: 45595 | E44: zpracoval: | F44: J. Pelant

Sheet 6112-ZM
B1: Rozpočet města (org 0337) na | F1: =IF('příjmy-paragraf'!F2=0," ",'příjmy-paragraf'!F2) -> rok 2025
A3: § 6112 | B3: Zastupitelstvo města
B4: příjmová část | E4: rozpočet v Kč
A5: položka | B5: text | C5: upravený | D5: skutečnost | E5: předpoklad | F5: návrh | G5: schválený
C6: =IF('příjmy-paragraf'!D2=0," ",'příjmy-paragraf'!D2) -> rok 2024 | D6: =IF('příjmy-paragraf'!E3=0," ",'příjmy-paragraf'!E3) -> k 30.09. | E6: =IF('1014-útulek'!E6=0," ",'1014-útulek'!E6) -> k 31.12.2024 | F6: =IF('příjmy-paragraf'!F2=0," ",'příjmy-paragraf'!F2) -> rok 2025 | G6: =IF('příjmy-paragraf'!F2=0," ",'příjmy-paragraf'!F2) -> rok 2025
B9: součet | C9: =SUM(C7:C8) -> 0 | D9: =SUM(D7:D8) -> 0 | E9: =SUM(E7:E8) -> 0 | F9: =SUM(F7:F8) -> 0 | G9: =SUM(G7:G8) -> 0
A12: § 6112 | B12: Zastupitelstvo města
B13: výdajová část | E13: rozpočet v Kč
A14: položka | B14: text | C14: upravený | D14: skutečnost | E14: předpoklad | F14: návrh | G14: schválený
C15: =IF('příjmy-paragraf'!D2=0," ",'příjmy-paragraf'!D2) -> rok 2024 | D15: =IF('příjmy-paragraf'!E3=0," ",'příjmy-paragraf'!E3) -> k 30.09. | E15: =IF('1014-útulek'!E16=0," ",'1014-útulek'!E16) -> k 31.12.2024 | F15: =IF('příjmy-paragraf'!F2=0," ",'příjmy-paragraf'!F2) -> rok 2025 | G15: =IF('příjmy-paragraf'!F2=0," ",'příjmy-paragraf'!F2) -> rok 2025
A16: 5023 | B16: odměny zastupitelů | C16: 2574000 | D16: 1910912 | E16: 2574000 | F16: 2738508 | G16: 2740000
A17: 5023 | B17: odchodné při ukončení funkce | C17: 0 | D17: 0 | E17: 0 | F17: 0
A18: 5031 | B18: sociální zabezpečení | C18: 442000 | D18: 333516 | E18: 442000 | F18: 469735 | G18: 470000
A19: 5032 | B19: zdravotní pojištění | C19: 232000 | D19: 172964 | E19: 232000 | F19: 246466 | G19: 250000
B20: součet | C20: =SUM(C16:C19) -> 3248000 | D20: =SUM(D16:D19) -> 2417392 | E20: =SUM(E16:E19) -> 3248000 | F20: =SUM(F16:F19) -> 3454709 | G20: =SUM(G16:G19) -> 3460000
B23: Nové Město pod Smrkem dne: | C23: 45595 | E23: zpracoval: | F23: V. Petrovič

Sheet 6171-MěÚ
B1: Rozpočet městského úřadu (org 0336) na | F1: =IF('příjmy-paragraf'!F2=0," ",'příjmy-paragraf'!F2) -> rok 2025
A3: § 6171 | B3: Činnost místní správy
B4: příjmová část | E4: rozpočet v Kč
A5: položka | B5: text | C5: upravený | D5: skutečnost | E5: předpoklad | F5: návrh | G5: schválený
C6: =IF('příjmy-paragraf'!D2=0," ",'příjmy-paragraf'!D2) -> rok 2024 | D6: =IF('příjmy-paragraf'!E3=0," ",'příjmy-paragraf'!E3) -> k 30.09. | E6: =IF('1014-útulek'!E6=0," ",'1014-útulek'!E6) -> k 31.12.2024 | F6: =IF('příjmy-paragraf'!F2=0," ",'příjmy-paragraf'!F2) -> rok 2025 | G6: =IF('příjmy-paragraf'!F2=0," ",'příjmy-paragraf'!F2) -> rok 2025
A7: 2111 | B7: služby (obědy) | C7: 450000 | D7: 413146 | E7: 450000 | F7: 500000 | G7: 500000
A8: 2111 | B8: ostatní nerozpočtované příjmy | C8: 0 | D8: 56714 | E8: 60000 | F8: 50000 | G8: 50000
C9: 0
B10: součet | C10: =SUM(C7:C9) -> 450000 | D10: =SUM(D7:D9) -> 469860 | E10: =SUM(E7:E9) -> 510000 | F10: =SUM(F7:F9) -> 550000 | G10: =SUM(G7:G9) -> 550000
B13: Činnost místní správy
B14: výdajová část | E14: rozpočet v Kč
A15: položka | B15: text | C15: upravený | D15: skutečnost | E15: předpoklad | F15: návrh | G15: schválený
C16: =IF('příjmy-paragraf'!D2=0," ",'příjmy-paragraf'!D2) -> rok 2024 | D16: =IF('příjmy-paragraf'!E3=0," ",'příjmy-paragraf'!E3) -> k 30.09. | E16: =IF('1014-útulek'!E16=0," ",'1014-útulek'!E16) -> k 31.12.2024 | F16: =IF('příjmy-paragraf'!F2=0," ",'příjmy-paragraf'!F2) -> rok 2025 | G16: =IF('příjmy-paragraf'!F2=0," ",'příjmy-paragraf'!F2) -> rok 2025
A17: 5011 | B17: platy zaměstnanců | C17: 16000000 | D17: 11605319 | E17: 16000000 | F17: 17000000 | G17: 17000000
A18: 5021 | B18: dohody, refundace | C18: 150000 | D18: 164496 | E18: 200000 | F18: 200000 | G18: 200000 | H18: hasiči, atd.
A19: 5031 | B19: sociální zabezpečení | C19: 3940000 | D19: 2902019 | E19: 3940000 | F19: 4216000 | G19: 4216000
A20: 5032 | B20: zdravotní pojištění | C20: 1430000 | D20: 1055017 | E20: 1430000 | F20: 1530000 | G20: 1530000
A21: 5038 | B21: zákonné (úrazové) pojištění | C21: 75000 | D21: 59334 | E21: 75000 | F21: 75000 | G21: 75000 | H21: zákonná úhrada pracovních úrazů | J21: 0.0042 | K21: =J21*F17 -> 71400
A22: 5133 | B22: zdravotnický materiál (roušky, dezinfekce,.. | C22: 10000 | D22: 0 | E22: 0 | F22: 0 | G22: 0
A23: 5134 | B23: prádlo, oděv, obuv | C23: 3000 | D23: 3413 | E23: 4000 | F23: 0 | G23: 0
A24: 5136 | B24: knihy, tisk | C24: 15000 | D24: 6602 | E24: 7000 | F24: 7000 | G24: 7000
A25: 5137 | B25: DDHM | C25: 276000 | D25: 91846 | E25: 150000 | F25: 250000 | G25: 250000 | H25: majetek od 1-40 tis. Kč
A26: 5139 | B26: materiál | C26: 300000 | D26: 549630 | E26: 600000 | F26: 300000 | G26: 300000
A27: 5151 | B27: voda | C27: 30000 | D27: 21390 | E27: 25000 | F27: 25000 | G27: 25000
A28: 5152 | B28: teplo | C28: 500000 | D28: 213933 | E28: 300000 | F28: 300000 | G28: 300000
A29: 5154 | B29: elektrická energie | C29: 150000 | D29: 121466 | E29: 150000 | F29: 150000 | G29: 150000
A30: 5156 | B30: pohonné hmoty | C30: 50000 | D30: 29788 | E30: 40000 | F30: 40000 | G30: 40000
A31: 5161 | B31: poštovní služba | C31: 50000 | D31: 44511 | E31: 50000 | F31: 50000 | G31: 50000
A32: 5162 | B32: elektronická komunikace | C32: 140000 | D32: 109740 | E32: 140000 | F32: 140000 | G32: 140000 | H32: telefony, internet
A33: 5163 | B33: služby peněžních ústavů | C33: 150000 | D33: 225632 | E33: 250000 | F33: 130000 | G33: 130000 | H33: bank. poplatky | I33: cca 7.600 Kč/měsíc | J33: DAS 30.000 Kč/rok
A34: 5164 | B34: nájemné | C34: 280000 | D34: 109067 | E34: 200000 | F34: 280000 | G34: 280000 | H34: osobní auta | I34: 250.000 Kč/rok | J34: frankovačka | K34: 26.000 Kč/rok
A35: 5166 | B35: poradenské a právní služby | C35: 180000 | D35: 96800 | E35: 120000 | F35: 180000 | G35: 180000 | H35: Mgr. Vymazal | I35: 24.000 Kč/měsíc
A36: 5167 | B36: školení, vzdělávání | C36: 180000 | D36: 113929 | E36: 150000 | F36: 150000 | G36: 150000
A37: 5168 | B37: zpracování dat, IT | C37: 250000 | D37: 188511 | E37: 200000 | F37: 250000 | G37: 250000 | H37: Gordic, licence | K37: codexis 3 roky | L37: 150.000 Kč | M37: (2023-2025)
A38: 5169 | B38: ostatní služby | C38: 250000 | D38: 279150 | E38: 300000 | F38: 300000 | G38: 300000 | H38: kopírky | I38: 200.000 Kč
A39: 5171 | B39: opravy a udržování | C39: 250000 | D39: 69827 | E39: 100000 | F39: 250000 | G39: 250000
A40: 5172 | B40: programové vybavení | C40: 50000 | D40: 0 | E40: 0 | F40: 50000 | G40: 50000
A41: 5173 | B41: cestovné | C41: 30000 | D41: 19982 | E41: 30000 | F41: 30000 | G41: 30000
