Workbook
Name Org: [1]Organizace!$B$2:$B$6
Name Org: [1]Organizace!$B$2:$B$6
Name Org: [2]Organizace!$B$2:$B$6
Name Org: [2]Organizace!$B$2:$B$6
Name Org: [3]Organizace!$B$2:$B$6
Name Org: [3]Organizace!$B$2:$B$6
Name Org: [4]Organizace!$B$2:$B$6
Name Org: [4]Organizace!$B$2:$B$6
Name Org: [5]Organizace!$B$2:$B$6
Name Org: [5]Organizace!$B$2:$B$6
Name Org: [6]Organizace!$B$2:$B$6
Name Organizace: #REF!
Name Organizace: #REF!
Name Organizace: #REF!
Name Organizace: #REF!
Name Organizace: #REF!
Name Organizace: #REF!
Name Organizace: #REF!
Name Organizace: #REF!
Name Organizace: #REF!
Name Organizace: #REF!
Name Organizace: #REF!
Name Ředitelé: [1]Organizace!$B$8:$B$12
Name Ředitelé: [1]Organizace!$B$8:$B$12
Name Ředitelé: [2]Organizace!$B$8:$B$12
Name Ředitelé: [2]Organizace!$B$8:$B$12
Name Ředitelé: [3]Organizace!$B$8:$B$12
Name Ředitelé: [3]Organizace!$B$8:$B$12
Name Ředitelé: [4]Organizace!$B$8:$B$12
Name Ředitelé: [4]Organizace!$B$8:$B$12
Name Ředitelé: [5]Organizace!$B$8:$B$12
Name Ředitelé: [5]Organizace!$B$8:$B$12
Name Ředitelé: [6]Organizace!$B$8:$B$12

Sheet rozpočet
B1: =IF('příjmy-paragraf'!A1=0," ",'příjmy-paragraf'!A1) -> Rozpočet města Nové Město pod Smrkem na rok 2025
B2: po I. změně rozpočtu
B3: Příjmy v Kč | C3: rozpočet | E3: schváleno | F3: rozdíl
B4: Příjmy daňové | C4: =IF('příjmy-paragraf'!F67=0," ",'příjmy-paragraf'!F67) -> 89825000 | E4: 86391000 | F4: =C4-E4 -> 3434000
B5: Příjmy nedaňové | C5: =IF('příjmy-paragraf'!F68=0," ",'příjmy-paragraf'!F68) -> 36589300 | E5: 36053000 | F5: =C5-E5 -> 536300
B6: Příjmy kapitálové | C6: =IF('příjmy-paragraf'!F69=0," ",'příjmy-paragraf'!F69) -> 3000000 | E6: 1000000 | F6: =C6-E6 -> 2000000
B7: Dotace - transfery | C7: =IF('příjmy-paragraf'!F70=0," ",'příjmy-paragraf'!F70) -> 18223346 | E7: 15716000 | F7: =C7-E7 -> 2507346
B8: Přijatý úvěr | C8: 0 | E8: 0 | F8: 0
B9: Příjmy celkem | C9: =SUM(C4:C8) -> 147637646 | E9: 139160000 | F9: =SUM(F4:F8) -> 8477646
B11: Výdaje v Kč | C11: rozpočet
B12: Běžné výdaje | C12: =IF('výdaje-paragraf'!F61=0," ",'výdaje-paragraf'!F61) -> 129905956 | E12: 123737000 | F12: =C12-E12 -> 6168956
B13: Kapitálové výdaje | C13: =IF('výdaje-paragraf'!F57=0," ",'výdaje-paragraf'!F57) -> 30168000 | E13: 30168000 | F13: =C13-E13 -> 0
B14: Výdaje celkem | C14: =SUM(C10:C13) -> 160073956 | E14: 153905000 | F14: =SUM(F12:F13) -> 6168956
B15: Financování (splátky jistin úvěrů) | C15: =IF('příjmy a výdaje'!D70=0," ",'příjmy a výdaje'!D70) -> 1500000 | E15: 1500000 | F15: 0
B16: součet (výdaje + úvěr) | C16: =SUM(C14:C15) -> 161573956 | E16: 155405000 | F16: =SUM(C16-E16) -> 6168956
B18: Financování | C18: =IF('příjmy a výdaje'!D72=0," ",'příjmy a výdaje'!D72) -> 13936310 | E18: 16245000 | F18: =E18-C18 -> 2308690
B20: Usnesení č. 7/13Z/2024
B21: Rozpočet města na rok 2025 po I. rozpočtové změně je schodkový a skládá se ve výši:
B22: dle předložených podkladů jako schodkový ve výši příjmů: | C22: =IF('příjmy-paragraf'!F64=0," ",'příjmy-paragraf'!F64) -> 147637646
B23: výdajů: | C23: =IF('výdaje-paragraf'!F47=0," ",'výdaje-paragraf'!F47) -> 160073956
B24: splátek jistin bankovního úvěru ve výši: | C24: 1500000
B25: Schodek rozpočtu bude kryt ze zůstatků finančních prostředků
B26: na bankovních účtech k 31.12.2024 ve výši: | C26: =C23+C24-C22 -> 13936310

Sheet příjmy a výdaje
A1: =IF('příjmy-paragraf'!A1=0," ",'příjmy-paragraf'!A1) -> Rozpočet města Nové Město pod Smrkem na rok 2025 | G1: =IF('výdaje-paragraf'!A1=0," ",'výdaje-paragraf'!A1) -> Rozpočet města Nové Město pod Smrkem na rok 2025
A2: příjmy | B2: (v Kč) | D2: =IF('příjmy-paragraf'!F2=0," ",'příjmy-paragraf'!F2) -> rok 2025 | E2: =IF('příjmy-paragraf'!F2=0," ",'příjmy-paragraf'!F2) -> rok 2025 | G2: výdaje | H2: (v Kč) | J2: =IF('výdaje-paragraf'!F2=0," ",'výdaje-paragraf'!F2) -> rok 2025 | K2: =IF('výdaje-paragraf'!F2=0," ",'výdaje-paragraf'!F2) -> rok 2025
A3: paragraf | B3: popis | C3: popis (původní) | D3: návrh | E3: dílčí návrhy | G3: paragraf | H3: popis | I3: popis (původní) | J3: návrh | K3: dílčí návrhy
A4: =IF('příjmy-paragraf'!A4=0," ",'příjmy-paragraf'!A4) -> 111x | B4: =IF('příjmy-paragraf'!B4=0," ",'příjmy-paragraf'!B4) -> daň z příjmů fyzických osob | C4: =IF('příjmy-paragraf'!C4=0," ",'příjmy-paragraf'!C4) | D4: =IF('příjmy-paragraf'!F4=0," ",'příjmy-paragraf'!F4) -> 18000000 | G4: =IF('výdaje-paragraf'!A4=0," ",'výdaje-paragraf'!A4) -> 1014 | H4: =IF('výdaje-paragraf'!B4=0," ",'výdaje-paragraf'!B4) -> ozdrav. hosp. zvířat | I4: =IF('výdaje-paragraf'!C4=0," ",'výdaje-paragraf'!C4) -> útulek | J4: =IF('výdaje-paragraf'!F4=0," ",'výdaje-paragraf'!F4) -> 100000
A5: =IF('příjmy-paragraf'!A5=0," ",'příjmy-paragraf'!A5) -> 112x | B5: =IF('příjmy-paragraf'!B5=0," ",'příjmy-paragraf'!B5) -> daň z příjmů právnických osob | C5: =IF('příjmy-paragraf'!C5=0," ",'příjmy-paragraf'!C5) | D5: =IF('příjmy-paragraf'!F5=0," ",'příjmy-paragraf'!F5) -> 27434000 | G5: =IF('výdaje-paragraf'!A5=0," ",'výdaje-paragraf'!A5) -> 1031 | H5: =IF('výdaje-paragraf'!B5=0," ",'výdaje-paragraf'!B5) -> pěstební činnost | I5: =IF('výdaje-paragraf'!C5=0," ",'výdaje-paragraf'!C5) -> les | J5: =IF('výdaje-paragraf'!F5=0," ",'výdaje-paragraf'!F5) -> 380000 | K5: =IF('výdaje-paragraf'!G5=0," ",'výdaje-paragraf'!G5)
A6: =IF('příjmy-paragraf'!A6=0," ",'příjmy-paragraf'!A6) -> 121x | B6: =IF('příjmy-paragraf'!B6=0," ",'příjmy-paragraf'!B6) -> daň z přidané hodnoty | C6: =IF('příjmy-paragraf'!C6=0," ",'příjmy-paragraf'!C6) | D6: =IF('příjmy-paragraf'!F6=0," ",'příjmy-paragraf'!F6) -> 38000000 | G6: =IF('výdaje-paragraf'!A6=0," ",'výdaje-paragraf'!A6) -> 2212 | H6: =IF('výdaje-paragraf'!B6=0," ",'výdaje-paragraf'!B6) -> silnice | I6: =IF('výdaje-paragraf'!C6=0," ",'výdaje-paragraf'!C6) -> komunikace | J6: =IF('výdaje-paragraf'!F6=0," ",'výdaje-paragraf'!F6) -> 710000 | K6: =IF('výdaje-paragraf'!G6=0," ",'výdaje-paragraf'!G6)
A7: =IF('příjmy-paragraf'!A7=0," ",'příjmy-paragraf'!A7) -> 1511 | B7: =IF('příjmy-paragraf'!B7=0," ",'příjmy-paragraf'!B7) -> daň z nemovitých věcí | C7: =IF('příjmy-paragraf'!C7=0," ",'příjmy-paragraf'!C7) | D7: =IF('příjmy-paragraf'!F7=0," ",'příjmy-paragraf'!F7) -> 2000000 | G7: =IF('výdaje-paragraf'!A7=0," ",'výdaje-paragraf'!A7) -> 2292 | H7: =IF('výdaje-paragraf'!B7=0," ",'výdaje-paragraf'!B7) -> dopravní obslužnost | I7: =IF('výdaje-paragraf'!C7=0," ",'výdaje-paragraf'!C7) -> dopravní obslužnost | J7: =IF('výdaje-paragraf'!F7=0," ",'výdaje-paragraf'!F7) -> 751000 | K7: =IF('výdaje-paragraf'!G7=0," ",'výdaje-paragraf'!G7)
A8: =IF('příjmy-paragraf'!A8=0," ",'příjmy-paragraf'!A8) | B8: =IF('příjmy-paragraf'!B8=0," ",'příjmy-paragraf'!B8) -> Daně sdílené ze SR | C8: =IF('příjmy-paragraf'!C8=0," ",'příjmy-paragraf'!C8) | D8: =IF('příjmy-paragraf'!F8=0," ",'příjmy-paragraf'!F8) | E8: =SUM(D4:D7) -> 85434000 | G8: =IF('výdaje-paragraf'!A8=0," ",'výdaje-paragraf'!A8) -> 3111 | H8: =IF('výdaje-paragraf'!B8=0," ",'výdaje-paragraf'!B8) -> mateřské školy | I8: =IF('výdaje-paragraf'!C8=0," ",'výdaje-paragraf'!C8) -> Mateřská škola | J8: =IF('výdaje-paragraf'!F8=0," ",'výdaje-paragraf'!F8) -> 1373000 | K8: =IF('výdaje-paragraf'!G8=0," ",'výdaje-paragraf'!G8)
A9: =IF('příjmy-paragraf'!A9=0," ",'příjmy-paragraf'!A9) -> 134x | B9: =IF('příjmy-paragraf'!B9=0," ",'příjmy-paragraf'!B9) -> místní poplatky z vybraných činností a služeb | C9: =IF('příjmy-paragraf'!C9=0," ",'příjmy-paragraf'!C9) -> poplatek za psy | D9: =SUM(E9:E13) -> 2141000 | E9: =IF('příjmy-paragraf'!G9=0," ",'příjmy-paragraf'!G9) -> 70000 | G9: =IF('výdaje-paragraf'!A9=0," ",'výdaje-paragraf'!A9) -> 3113 | H9: =IF('výdaje-paragraf'!B9=0," ",'výdaje-paragraf'!B9) -> základní školy | I9: =IF('výdaje-paragraf'!C9=0," ",'výdaje-paragraf'!C9) -> Základní škola | J9: =IF('výdaje-paragraf'!F9=0," ",'výdaje-paragraf'!F9) -> 6685370 | K9: =IF('výdaje-paragraf'!G9=0," ",'výdaje-paragraf'!G9)
C10: =IF('příjmy-paragraf'!C10=0," ",'příjmy-paragraf'!C10) -> poplatek z veřejného pros. | E10: =IF('příjmy-paragraf'!G10=0," ",'příjmy-paragraf'!G10) -> 20000 | G10: =IF('výdaje-paragraf'!A10=0," ",'výdaje-paragraf'!A10) -> 3231 | H10: =IF('výdaje-paragraf'!B10=0," ",'výdaje-paragraf'!B10) -> základní umělecké školy | I10: =IF('výdaje-paragraf'!C10=0," ",'výdaje-paragraf'!C10) -> Základní umělecká škola | J10: =IF('výdaje-paragraf'!F10=0," ",'výdaje-paragraf'!F10) -> 762476 | K10: =IF('výdaje-paragraf'!G10=0," ",'výdaje-paragraf'!G10)
C11: =IF('příjmy-paragraf'!C11=0," ",'příjmy-paragraf'!C11) -> poplatek z pobytu | E11: =IF('příjmy-paragraf'!G11=0," ",'příjmy-paragraf'!G11) -> 150000 | G11: =IF('výdaje-paragraf'!A11=0," ",'výdaje-paragraf'!A11) -> 3314 | H11: =IF('výdaje-paragraf'!B11=0," ",'výdaje-paragraf'!B11) -> činnosti knihovnické | I11: =IF('výdaje-paragraf'!C11=0," ",'výdaje-paragraf'!C11) -> knihovna | J11: =IF('výdaje-paragraf'!F11=0," ",'výdaje-paragraf'!F11) -> 663000 | K11: =IF('výdaje-paragraf'!G11=0," ",'výdaje-paragraf'!G11)
C12: =IF('příjmy-paragraf'!C12=0," ",'příjmy-paragraf'!C12) -> poplatek ze vstupného | E12: =IF('příjmy-paragraf'!G12=0," ",'příjmy-paragraf'!G12) -> 1000 | G12: =IF('výdaje-paragraf'!A12=0," ",'výdaje-paragraf'!A12) -> 3341 | H12: =IF('výdaje-paragraf'!B12=0," ",'výdaje-paragraf'!B12) -> rozhlas a televize | I12: =IF('výdaje-paragraf'!C12=0," ",'výdaje-paragraf'!C12) -> rozhlas | J12: =IF('výdaje-paragraf'!F12=0," ",'výdaje-paragraf'!F12) -> 50000 | K12: =IF('výdaje-paragraf'!G12=0," ",'výdaje-paragraf'!G12)
C13: =IF('příjmy-paragraf'!C13=0," ",'příjmy-paragraf'!C13) -> poplatek za odpad | E13: =IF('příjmy-paragraf'!G13=0," ",'příjmy-paragraf'!G13) -> 1900000 | G13: =IF('výdaje-paragraf'!A13=0," ",'výdaje-paragraf'!A13) -> 3349 | H13: =IF('výdaje-paragraf'!B13=0," ",'výdaje-paragraf'!B13) -> ostatní záležitosti sdělovacích prostředků | I13: =IF('výdaje-paragraf'!C13=0," ",'výdaje-paragraf'!C13) -> Novoměstské noviny | J13: =IF('výdaje-paragraf'!F13=0," ",'výdaje-paragraf'!F13) -> 100000 | K13: =IF('výdaje-paragraf'!G13=0," ",'výdaje-paragraf'!G13)
A14: =IF('příjmy-paragraf'!A14=0," ",'příjmy-paragraf'!A14) -> 1361 | B14: =IF('příjmy-paragraf'!B14=0," ",'příjmy-paragraf'!B14) -> správní poplatky | C14: =IF('příjmy-paragraf'!C14=0," ",'příjmy-paragraf'!C14) | D14: =IF('příjmy-paragraf'!F14=0," ",'příjmy-paragraf'!F14) -> 150000 | G14: =IF('výdaje-paragraf'!A14=0," ",'výdaje-paragraf'!A14) -> 3399 | H14: =IF('výdaje-paragraf'!B14=0," ",'výdaje-paragraf'!B14) -> ostatní záležitosti kultury | I14: =IF('výdaje-paragraf'!C14=0," ",'výdaje-paragraf'!C14) -> SPOZ, kultura, ples | J14: =IF('výdaje-paragraf'!F14=0," ",'výdaje-paragraf'!F14) -> 875000 | K14: =IF('výdaje-paragraf'!G14=0," ",'výdaje-paragraf'!G14)
A15: =IF('příjmy-paragraf'!A15=0," ",'příjmy-paragraf'!A15) -> 1381 | B15: =IF('příjmy-paragraf'!B15=0," ",'příjmy-paragraf'!B15) -> daně, poplatky z hazardních her | C15: =IF('příjmy-paragraf'!C15=0," ",'příjmy-paragraf'!C15) | D15: =IF('příjmy-paragraf'!F15=0," ",'příjmy-paragraf'!F15) -> 100000 | G15: =IF('výdaje-paragraf'!A15=0," ",'výdaje-paragraf'!A15) -> 3419 | H15: =IF('výdaje-paragraf'!B15=0," ",'výdaje-paragraf'!B15) -> ostatní sportovní činnost | I15: =IF('výdaje-paragraf'!C15=0," ",'výdaje-paragraf'!C15) -> AFK | J15: =IF('výdaje-paragraf'!F15=0," ",'výdaje-paragraf'!F15) -> 500000 | K15: =IF('výdaje-paragraf'!G15=0," ",'výdaje-paragraf'!G15)
A16: =IF('příjmy-paragraf'!A16=0," ",'příjmy-paragraf'!A16) -> 1385 | B16: =IF('příjmy-paragraf'!B16=0," ",'příjmy-paragraf'!B16) -> příjem z daně z technických her | C16: =IF('příjmy-paragraf'!C16=0," ",'příjmy-paragraf'!C16) | D16: =IF('příjmy-paragraf'!F16=0," ",'příjmy-paragraf'!F16) -> 2000000 | G16: =IF('výdaje-paragraf'!A16=0," ",'výdaje-paragraf'!A16) -> 3421 | H16: =IF('výdaje-paragraf'!B16=0," ",'výdaje-paragraf'!B16) -> využití volného času dětí a mládeže | I16: =IF('výdaje-paragraf'!C16=0," ",'výdaje-paragraf'!C16) -> ROROŠ | J16: =IF('výdaje-paragraf'!F16=0," ",'výdaje-paragraf'!F16) -> 1456800 | K16: =IF('výdaje-paragraf'!G16=0," ",'výdaje-paragraf'!G16)
B17: =IF('příjmy-paragraf'!B17=0," ",'příjmy-paragraf'!B17) -> Místní daně | C17: =IF('příjmy-paragraf'!C17=0," ",'příjmy-paragraf'!C17) | D17: =IF('příjmy-paragraf'!F17=0," ",'příjmy-paragraf'!F17) | E17: =SUM(D9:D16) -> 4391000 | G17: =IF('výdaje-paragraf'!A17=0," ",'výdaje-paragraf'!A17) -> 3429 | H17: =IF('výdaje-paragraf'!B17=0," ",'výdaje-paragraf'!B17) -> ostatní zájmová činnost a rekreace | I17: =IF('výdaje-paragraf'!C17=0," ",'výdaje-paragraf'!C17) -> SRC | J17: =SUM(K17:K20) -> 8642000 | K17: =IF('výdaje-paragraf'!G17=0," ",'výdaje-paragraf'!G17) -> 8183000
A18: =IF('příjmy-paragraf'!A18=0," ",'příjmy-paragraf'!A18) -> 2412 | B18: =IF('příjmy-paragraf'!B18=0," ",'příjmy-paragraf'!B18) -> splátky půjček (UNITAS) | C18: =IF('příjmy-paragraf'!C18=0," ",'příjmy-paragraf'!C18) | D18: =IF('příjmy-paragraf'!F18=0," ",'příjmy-paragraf'!F18) -> 220000 | I18: =IF('výdaje-paragraf'!C18=0," ",'výdaje-paragraf'!C18) -> dotace Město | K18: =IF('výdaje-paragraf'!G18=0," ",'výdaje-paragraf'!G18) -> 300000
B19: =IF('příjmy-paragraf'!B19=0," ",'příjmy-paragraf'!B19) -> Splátky půjček | C19: =IF('příjmy-paragraf'!C19=0," ",'příjmy-paragraf'!C19) | D19: =IF('příjmy-paragraf'!F19=0," ",'příjmy-paragraf'!F19) | E19: =SUM(D18) -> 220000 | I19: =IF('výdaje-paragraf'!C19=0," ",'výdaje-paragraf'!C19) -> 3d-3z-3p | K19: =IF('výdaje-paragraf'!G19=0," ",'výdaje-paragraf'!G19) -> 60000
A20: =IF('příjmy-paragraf'!A20=0," ",'příjmy-paragraf'!A20) -> 4112 | B20: =IF('příjmy-paragraf'!B20=0," ",'příjmy-paragraf'!B20) -> neinvestiční přijaté transfery ze SR | C20: =IF('příjmy-paragraf'!C20=0," ",'příjmy-paragraf'!C20) -> výkon státní správy | D20: =IF('příjmy-paragraf'!F20=0," ",'příjmy-paragraf'!F20) -> 2226000 | I20: =IF('výdaje-paragraf'!C20=0," ",'výdaje-paragraf'!C20) -> členské příspěvky | K20: =IF('výdaje-paragraf'!G20=0," ",'výdaje-paragraf'!G20) -> 99000
A21: =IF('příjmy-paragraf'!A21=0," ",'příjmy-paragraf'!A21) -> 4116 | B21: =IF('příjmy-paragraf'!B21=0," ",'příjmy-paragraf'!B21) -> ostatní neinvestiční přijaté dotace ze SR | C21: =IF('příjmy-paragraf'!C21=0," ",'příjmy-paragraf'!C21) -> soc. terénní pracovník | D21: =SUM(E21:E27) -> 5135846 | E21: =IF('příjmy-paragraf'!G21=0," ",'příjmy-paragraf'!G21) -> 400000 | G21: =IF('výdaje-paragraf'!A21=0," ",'výdaje-paragraf'!A21) -> 3612 | H21: =IF('výdaje-paragraf'!B21=0," ",'výdaje-paragraf'!B21) -> bytové hospodářství | I21: =IF('výdaje-paragraf'!C21=0," ",'výdaje-paragraf'!C21) -> bytová správa | J21: =IF('výdaje-paragraf'!F21=0," ",'výdaje-paragraf'!F21) -> 30047000 | K21: =IF('výdaje-paragraf'!G21=0," ",'výdaje-paragraf'!G21)
C22: =IF('příjmy-paragraf'!C22=0," ",'příjmy-paragraf'!C22) -> APK | E22: =IF('příjmy-paragraf'!G22=0," ",'příjmy-paragraf'!G22) -> 500000 | G22: =IF('výdaje-paragraf'!A22=0," ",'výdaje-paragraf'!A22) -> 3613 | H22: =IF('výdaje-paragraf'!B22=0," ",'výdaje-paragraf'!B22) -> nebytové hospodářství | I22: =IF('výdaje-paragraf'!C22=0," ",'výdaje-paragraf'!C22) -> budovy | J22: =IF('výdaje-paragraf'!F22=0," ",'výdaje-paragraf'!F22) -> 2420000 | K22: =IF('výdaje-paragraf'!G22=0," ",'výdaje-paragraf'!G22)
C23: =IF('příjmy-paragraf'!C23=0," ",'příjmy-paragraf'!C23) -> sociální práce | E23: =IF('příjmy-paragraf'!G23=0," ",'příjmy-paragraf'!G23) -> 400000 | G23: =IF('výdaje-paragraf'!A23=0," ",'výdaje-paragraf'!A23) -> 3631 | H23: =IF('výdaje-paragraf'!B23=0," ",'výdaje-paragraf'!B23) -> veřejné osvětlení | I23: =IF('výdaje-paragraf'!C23=0," ",'výdaje-paragraf'!C23) -> veřejné osvětlení | J23: =IF('výdaje-paragraf'!F23=0," ",'výdaje-paragraf'!F23) -> 894000 | K23: =IF('výdaje-paragraf'!G23=0," ",'výdaje-paragraf'!G23)
C24: =IF('příjmy-paragraf'!C24=0," ",'příjmy-paragraf'!C24) -> terénní pracovník | E24: =IF('příjmy-paragraf'!G24=0," ",'příjmy-paragraf'!G24) -> 400000 | G24: =IF('výdaje-paragraf'!A24=0," ",'výdaje-paragraf'!A24) -> 3632 | H24: =IF('výdaje-paragraf'!B24=0," ",'výdaje-paragraf'!B24) -> pohřebnictví | I24: =IF('výdaje-paragraf'!C24=0," ",'výdaje-paragraf'!C24) -> pohřebnictví | J24: =IF('výdaje-paragraf'!F24=0," ",'výdaje-paragraf'!F24) -> 120000 | K24: =IF('výdaje-paragraf'!G24=0," ",'výdaje-paragraf'!G24)
C25: =IF('příjmy-paragraf'!C25=0," ",'příjmy-paragraf'!C25) -> UP VPP | E25: =IF('příjmy-paragraf'!G25=0," ",'příjmy-paragraf'!G25) -> 1000000 | G25: =IF('výdaje-paragraf'!A25=0," ",'výdaje-paragraf'!A25) -> 3639 | H25: =IF('výdaje-paragraf'!B25=0," ",'výdaje-paragraf'!B25) -> komunální služby a územní rozvoj | I25: =IF('výdaje-paragraf'!C25=0," ",'výdaje-paragraf'!C25) -> opravy a investice | J25: =SUM(K25:K29) -> 31230000 | K25: =IF('výdaje-paragraf'!G25=0," ",'výdaje-paragraf'!G25) -> 31000000
C26: =IF('příjmy-paragraf'!C26=0," ",'příjmy-paragraf'!C26) -> dotace pro ZŠ z KÚLK | E26: =IF('příjmy-paragraf'!G26=0," ",'příjmy-paragraf'!G26) -> 2125370
C27: =IF('příjmy-paragraf'!C27=0," ",'příjmy-paragraf'!C27) -> dotace pro ZUŠ z KÚLK | E27: =IF('příjmy-paragraf'!G27=0," ",'příjmy-paragraf'!G27) -> 310476
A28: =IF('příjmy-paragraf'!A28=0," ",'příjmy-paragraf'!A28) -> 4121 | B28: =IF('příjmy-paragraf'!B28=0," ",'příjmy-paragraf'!B28) -> neinvestiční přijaté transfery od obcí | C28: =IF('příjmy-paragraf'!C28=0," ",'příjmy-paragraf'!C28) -> od obcí za přestupky | D28: =IF('příjmy-paragraf'!F28=0," ",'příjmy-paragraf'!F28) -> 5000 | E28: =IF('příjmy-paragraf'!G28=0," ",'příjmy-paragraf'!G28) -> 5000 | I28: =IF('výdaje-paragraf'!C26=0," ",'výdaje-paragraf'!C26) -> platby dani a poplatků | K28: =IF('výdaje-paragraf'!G26=0," ",'výdaje-paragraf'!G26) -> 30000
A29: =IF('příjmy-paragraf'!A29=0," ",'příjmy-paragraf'!A29) -> 4122 | B29: =IF('příjmy-paragraf'!B29=0," ",'příjmy-paragraf'!B29) -> neinvestiční přijaté dotace od krajů | C29: =IF('příjmy-paragraf'!C29=0," ",'příjmy-paragraf'!C29) -> DPS služby klientům | D29: =IF('příjmy-paragraf'!F29=0," ",'příjmy-paragraf'!F29) -> 1566500 | E29: =IF('příjmy-paragraf'!G29=0," ",'příjmy-paragraf'!G29) -> 1500000 | I29: =IF('výdaje-paragraf'!C27=0," ",'výdaje-paragraf'!C27) -> pořízení nemovitého majetku | K29: =IF('výdaje-paragraf'!G27=0," ",'výdaje-paragraf'!G27) -> 200000
C30: =IF('příjmy-paragraf'!C30=0," ",'příjmy-paragraf'!C30) -> SVČ ROROŠ | E30: =IF('příjmy-paragraf'!G30=0," ",'příjmy-paragraf'!G30) -> 66500
A31: =IF('příjmy-paragraf'!A31=0," ",'příjmy-paragraf'!A31) -> 4213 | B31: =IF('příjmy-paragraf'!B31=0," ",'příjmy-paragraf'!B31) -> investiční přijaté dotace ze SF | C31: =IF('příjmy-paragraf'!C31=0," ",'příjmy-paragraf'!C31) | D31: =IF('příjmy-paragraf'!F31=0," ",'příjmy-paragraf'!F31) | E31: =IF('příjmy-paragraf'!G31=0," ",'příjmy-paragraf'!G31) | G31: =IF('výdaje-paragraf'!A28=0," ",'výdaje-paragraf'!A28) -> 3713 | H31: =IF('výdaje-paragraf'!B28=0," ",'výdaje-paragraf'!B28) -> změny technologíí vytápění | I31: =IF('výdaje-paragraf'!C28=0," ",'výdaje-paragraf'!C28) -> Teplárenská novoměstská | J31: =IF('výdaje-paragraf'!F28=0," ",'výdaje-paragraf'!F28) -> 3000000 | K31: =IF('výdaje-paragraf'!G28=0," ",'výdaje-paragraf'!G28)
A32: =IF('příjmy-paragraf'!A32=0," ",'příjmy-paragraf'!A32) -> 4216 | B32: =IF('příjmy-paragraf'!B32=0," ",'příjmy-paragraf'!B32) -> investiční dotace ze SR | C32: =IF('příjmy-paragraf'!C32=0," ",'příjmy-paragraf'!C32) -> MMR rekonstrukce učebny ZŠ | D32: =SUM(E32:E33) -> 8690000 | E32: =IF('příjmy-paragraf'!G32=0," ",'příjmy-paragraf'!G32) -> 5690000 | G32: =IF('výdaje-paragraf'!A29=0," ",'výdaje-paragraf'!A29) -> 3722 | H32: =IF('výdaje-paragraf'!B29=0," ",'výdaje-paragraf'!B29) -> sběr a svoz komunálních odpadů | I32: =IF('výdaje-paragraf'!C29=0," ",'výdaje-paragraf'!C29) -> odpadové hospodářství | J32: =IF('výdaje-paragraf'!F29=0," ",'výdaje-paragraf'!F29) -> 8488000 | K32: =IF('výdaje-paragraf'!G29=0," ",'výdaje-paragraf'!G29)
C33: =IF('příjmy-paragraf'!C33=0," ",'příjmy-paragraf'!C33) -> MMR revitalizace Mírového náměstí | E33: =IF('příjmy-paragraf'!G33=0," ",'příjmy-paragraf'!G33) -> 3000000 | G33: =IF('výdaje-paragraf'!A30=0," ",'výdaje-paragraf'!A30) -> 3745 | H33: =IF('výdaje-paragraf'!B30=0," ",'výdaje-paragraf'!B30) -> péče o vzhled obci a veřejnou zeleň | I33: =IF('výdaje-paragraf'!C30=0," ",'výdaje-paragraf'!C30) -> zeleň a čištění města | J33: =SUM(K33:K36) -> 5243000 | K33: =IF('výdaje-paragraf'!G30=0," ",'výdaje-paragraf'!G30) -> 3223000
A34: =IF('příjmy-paragraf'!A34=0," ",'příjmy-paragraf'!A34) -> 4222 | B34: =IF('příjmy-paragraf'!B34=0," ",'příjmy-paragraf'!B34) -> investiční dotace kraj | C34: =IF('příjmy-paragraf'!C34=0," ",'příjmy-paragraf'!C34) | D34: =SUM(E34:E36) -> 600000 | E34: =IF('příjmy-paragraf'!G34=0," ",'příjmy-paragraf'!G34) | I34: =IF('výdaje-paragraf'!C31=0," ",'výdaje-paragraf'!C31) -> VPP | K34: =IF('výdaje-paragraf'!G31=0," ",'výdaje-paragraf'!G31) -> 2020000
C35: =IF('příjmy-paragraf'!C35=0," ",'příjmy-paragraf'!C35) -> Dotace auto JSDH | E35: =IF('příjmy-paragraf'!G35=0," ",'příjmy-paragraf'!G35) -> 600000
C36: =IF('příjmy-paragraf'!C36=0," ",'příjmy-paragraf'!C36) | E36: =IF('příjmy-paragraf'!G36=0," ",'příjmy-paragraf'!G36)
A37: =IF('příjmy-paragraf'!A37=0," ",'příjmy-paragraf'!A37) | B37: =IF('příjmy-paragraf'!B37=0," ",'příjmy-paragraf'!B37) -> Dotace | C37: =IF('příjmy-paragraf'!C37=0," ",'příjmy-paragraf'!C37) | D37: =IF('příjmy-paragraf'!F37=0," ",'příjmy-paragraf'!F37) | E37: =SUM(D20:D36) -> 18223346 | G37: =IF('výdaje-paragraf'!A32=0," ",'výdaje-paragraf'!A32) -> 4351 | H37: =IF('výdaje-paragraf'!B32=0," ",'výdaje-paragraf'!B32) -> osobní asist., peč. služba … | I37: =IF('výdaje-paragraf'!C32=0," ",'výdaje-paragraf'!C32) -> DPS | J37: =IF('výdaje-paragraf'!F32=0," ",'výdaje-paragraf'!F32) -> 3113000 | K37: =IF('výdaje-paragraf'!G32=0," ",'výdaje-paragraf'!G32)
A38: =IF('příjmy-paragraf'!A38=0," ",'příjmy-paragraf'!A38) -> 1031 | B38: =IF('příjmy-paragraf'!B38=0," ",'příjmy-paragraf'!B38) -> pěstební činnost | C38: =IF('příjmy-paragraf'!C38=0," ",'příjmy-paragraf'!C38) -> les | D38: =IF('příjmy-paragraf'!F38=0," ",'příjmy-paragraf'!F38) -> 500000 | E38: =IF('příjmy-paragraf'!G38=0," ",'příjmy-paragraf'!G38) | G38: =IF('výdaje-paragraf'!A33=0," ",'výdaje-paragraf'!A33) -> 5213 | H38: =IF('výdaje-paragraf'!B33=0," ",'výdaje-paragraf'!B33) -> krizová opatření | I38: =IF('výdaje-paragraf'!C33=0," ",'výdaje-paragraf'!C33) -> krizová rezerva | J38: =IF('výdaje-paragraf'!F33=0," ",'výdaje-paragraf'!F33) -> 500000 | K38: =IF('výdaje-paragraf'!G33=0," ",'výdaje-paragraf'!G33)
A39: =IF('příjmy-paragraf'!A39=0," ",'příjmy-paragraf'!A39) -> 2321 | B39: =IF('příjmy-paragraf'!B39=0," ",'příjmy-paragraf'!B39) -> odvádění a čištění odpadních vod | C39: =IF('příjmy-paragraf'!C39=0," ",'příjmy-paragraf'!C39) -> nájemné FVS | D39: =IF('příjmy-paragraf'!F39=0," ",'příjmy-paragraf'!F39) -> 494000 | E39: =IF('příjmy-paragraf'!G39=0," ",'příjmy-paragraf'!G39) | G39: =IF('výdaje-paragraf'!A34=0," ",'výdaje-paragraf'!A34) -> 5512 | H39: =IF('výdaje-paragraf'!B34=0," ",'výdaje-paragraf'!B34) -> požární ochrana - dobrovolná část | I39: =IF('výdaje-paragraf'!C34=0," ",'výdaje-paragraf'!C34) -> JSDH | J39: =IF('výdaje-paragraf'!F34=0," ",'výdaje-paragraf'!F34) -> 3226000 | K39: =IF('výdaje-paragraf'!G34=0," ",'výdaje-paragraf'!G34)
A40: =IF('příjmy-paragraf'!A40=0," ",'příjmy-paragraf'!A40) -> 3314 | B40: =IF('příjmy-paragraf'!B40=0," ",'příjmy-paragraf'!B40) -> činnosti knihovnické | C40: =IF('příjmy-paragraf'!C40=0," ",'příjmy-paragraf'!C40) -> knihovna | D40: =IF('příjmy-paragraf'!F40=0," ",'příjmy-paragraf'!F40) -> 10000 | E40: =IF('příjmy-paragraf'!G40=0," ",'příjmy-paragraf'!G40) | G40: =IF('výdaje-paragraf'!A35=0," ",'výdaje-paragraf'!A35) -> 6112 | H40: =IF('výdaje-paragraf'!B35=0," ",'výdaje-paragraf'!B35) -> zastupitelstva obcí | I40: =IF('výdaje-paragraf'!C35=0," ",'výdaje-paragraf'!C35) -> Město | J40: =IF('výdaje-paragraf'!F35=0," ",'výdaje-paragraf'!F35) -> 3460000 | K40: =IF('výdaje-paragraf'!G35=0," ",'výdaje-paragraf'!G35)
...

Sheet příjmy-paragraf
A1: Rozpočet města Nové Město pod Smrkem na rok 2025
A2: příjmy | B2: (v Kč) | D2: rok 2024 | F2: rok 2025 | G2: rok 2025
A3: paragraf | B3: popis | C3: popis (původní) | D3: plán | E3: k 30.09. | F3: návrh | G3: dílčí návrhy | H3: poznámka
A4: 111x | B4: daň z příjmů fyzických osob | D4: 15200000 | E4: 12237206 | F4: 18000000
A5: 112x | B5: daň z příjmů právnických osob | D5: 26916000 | E5: 23055940 | F5: =I5+J5 -> 27434000 | I5: 24000000 | J5: 3434000
A6: 121x | B6: daň z přidané hodnoty | D6: 41200000 | E6: 26726627 | F6: 38000000
A7: 1511 | B7: daň z nemovitých věcí | D7: 1200000 | E7: 2076634 | F7: 2000000
B8: Daně sdílené ze SR | D8: =SUM(D4:D7) -> 84516000 | E8: =SUM(E4:E7) -> 64096407 | G8: =SUM(F4:F7) -> 85434000
A9: 134x | B9: místní poplatky z vybraných činností a služeb | C9: poplatek za psy | D9: 71000 | E9: 66870 | F9: =SUM(G9:G13) -> 2141000 | G9: 70000
C10: poplatek z veřejného pros. | D10: 15000 | E10: 35808 | G10: 20000
C11: poplatek z pobytu | D11: 150000 | E11: 135700 | G11: 150000
C12: poplatek ze vstupného | D12: 1000 | E12: 1690 | G12: 1000
C13: poplatek za odpad | D13: 1900000 | E13: 1757347 | G13: =IF('3722-odpady'!G8=0," ",'3722-odpady'!G8) -> 1900000
A14: 1361 | B14: správní poplatky | D14: 100000 | E14: 174394 | F14: 150000
A15: 1381 | B15: daně, poplatky z hazardních her | D15: 100000 | E15: 154031 | F15: 100000
A16: 1385 | B16: příjem z daně z technických her | D16: 1500000 | E16: 1189129 | F16: 2000000
B17: Místní daně | D17: =SUM(D9:D16) -> 3837000 | E17: =SUM(E9:E16) -> 3514969 | G17: =SUM(F9:F16) -> 4391000
A18: 2412 | B18: splátky půjček (UNITAS) | D18: 220000 | E18: 183490 | F18: 220000
B19: Splátky půjček | D19: =SUM(D18) -> 220000 | E19: =SUM(E18) -> 183490 | G19: =SUM(F18) -> 220000
A20: 4112 | B20: neinvestiční přijaté transfery ze SR | C20: výkon státní správy | D20: 2598900 | E20: 1949175 | F20: 2226000
A21: 4116 | B21: ostatní neinvestiční přijaté dotace ze SR | C21: soc. terénní pracovník | D21: 300000 | E21: 300000 | F21: =SUM(G21:G27) -> 5135846 | G21: 400000
C22: APK | D22: 582000 | E22: 582000 | G22: 500000
C23: sociální práce | D23: 402430 | E23: 402430 | G23: 400000
C24: terénní pracovník | D24: 0 | E24: 0 | G24: 400000
C25: UP VPP | D25: 1072680 | E25: 620000 | G25: 1000000
C26: dotace pro ZŠ z KÚLK | D26: 0 | E26: 0 | G26: =I26+J26 -> 2125370 | I26: 0 | J26: 2125370
C27: dotace pro ZUŠ z KÚLK | D27: 0 | E27: 0 | G27: =I27+J27 -> 310476 | I27: 0 | J27: 310476
A28: 4121 | B28: neinvestiční přijaté transfery od obcí | C28: od obcí za přestupky | D28: 0 | E28: 0 | F28: =G28 -> 5000 | G28: =I28+J28 -> 5000 | I28: 0 | J28: 5000
A29: 4122 | B29: neinvestiční přijaté dotace od krajů | C29: DPS služby klientům | D29: 1831520 | E29: 1831524 | F29: =SUM(G29:G30) -> 1566500 | G29: 1500000
C30: SVČ ROROŠ | D30: 0 | E30: 0 | G30: =I30+J30 -> 66500 | I30: 0 | J30: 66500
A31: 4213 | B31: investiční přijaté dotace ze SF | D31: 0 | E31: 0 | F31: 0
A32: 4216 | B32: investiční dotace ze SR | C32: MMR rekonstrukce učebny ZŠ | D32: 0 | E32: 0 | F32: =SUM(G32:G33) -> 8690000 | G32: 5690000
C33: MMR revitalizace Mírového náměstí | D33: 0 | E33: 0 | G33: 3000000
A34: 4222 | B34: investiční dotace kraj | D34: 0 | E34: 0 | F34: =SUM(G34:G36) -> 600000 | G34: 0
C35: Dotace auto JSDH | D35: 0 | E35: 0 | G35: 600000
D36: 0 | E36: 0 | G36: 0
B37: Dotace | D37: =SUM(D20:D36) -> 6787530 | E37: =SUM(E20:E36) -> 5685129 | G37: =SUM(F20:F36) -> 18223346
A38: 1031 | B38: pěstební činnost | C38: les | D38: =IF('1031-les'!C10=0," ",'1031-les'!C10) -> 400000 | E38: =IF('1031-les'!D10=0," ",'1031-les'!D10) -> 283051 | F38: =IF('1031-les'!G10=0," ",'1031-les'!G10) -> 500000
A39: 2321 | B39: odvádění a čištění odpadních vod | C39: nájemné FVS | D39: 363000 | E39: 364600 | F39: 494000
A40: 3314 | B40: činnosti knihovnické | C40: knihovna | D40: =IF('3314-knihovna'!C7=0," ",'3314-knihovna'!C7) -> 15000 | E40: =IF('3314-knihovna'!D7=0," ",'3314-knihovna'!D7) -> 7566 | F40: =IF('3314-knihovna'!G10=0," ",'3314-knihovna'!G10) -> 10000
...

Sheet HV PO
D2: ='HV PO pr.'!D3 -> Použití hospodářských výsledků
D3: ='HV PO pr.'!D4 -> příspěvkových organizací za rok 2020
B5: ='HV PO pr.'!B6 -> HV | C5: ='HV PO pr.'!C6 -> odvod 19 | E5: ='HV PO pr.'!E6 -> rezervní fond | H5: ='HV PO pr.'!H6 -> fond odměn | K5: ='HV PO pr.'!K6 -> fond reprodukce majetku | M5: ='HV PO pr.'!M6 -> FKSP
B6: ='HV PO pr.'!B7 -> [Kč] | C6: ='HV PO pr.'!C7 -> [Kč] | D6: ='HV PO pr.'!D7 -> stav 2019 | E6: ='HV PO pr.'!E7 -> příděl z HV | F6: ='HV PO pr.'!F7 -> nově | G6: ='HV PO pr.'!G7 -> stav 2019 | H6: ='HV PO pr.'!H7 -> příděl z HV | I6: ='HV PO pr.'!I7 -> nově | ... M6: ='HV PO pr.'!M7 -> stav 2019
A7: ='HV PO pr.'!A8 -> ZŠ | B7: ='HV PO pr.'!B8 -> -36028 | C7: ='HV PO pr.'!C8 -> #REF! | D7: ='HV PO pr.'!D8 -> 979169 | E7: ='HV PO pr.'!E8 -> 0 | F7: ='HV PO pr.'!F8 -> 979169 | G7: ='HV PO pr.'!G8 -> 2000 | H7: ='HV PO pr.'!H8 -> 0 | ... M7: ='HV PO pr.'!M8 -> 286574
A8: ='HV PO pr.'!A9 -> MŠ | B8: ='HV PO pr.'!B9 -> 125975 | C8: ='HV PO pr.'!C9 -> #REF! | D8: ='HV PO pr.'!D9 -> 333468 | E8: ='HV PO pr.'!E9 -> 0 | F8: ='HV PO pr.'!F9 -> 333468 | G8: ='HV PO pr.'!G9 -> 39383 | H8: ='HV PO pr.'!H9 -> 0 | ... M8: ='HV PO pr.'!M9 -> 22820
A9: ='HV PO pr.'!A10 -> ZUŠ | B9: ='HV PO pr.'!B10 -> 2600 | C9: ='HV PO pr.'!C10 -> #REF! | D9: ='HV PO pr.'!D10 -> 360130 | E9: ='HV PO pr.'!E10 -> 0 | F9: ='HV PO pr.'!F10 -> 360130 | G9: ='HV PO pr.'!G10 -> 45340 | H9: ='HV PO pr.'!H10 -> 0 | ... M9: ='HV PO pr.'!M10 -> 108572
A10: ='HV PO pr.'!A11 -> ROROŠ | B10: ='HV PO pr.'!B11 -> 218622 | C10: ='HV PO pr.'!C11 -> #REF! | D10: ='HV PO pr.'!D11 -> 149837 | E10: ='HV PO pr.'!E11 -> 0 | F10: ='HV PO pr.'!F11 -> 149837 | G10: ='HV PO pr.'!G11 -> 80550 | H10: ='HV PO pr.'!H11 -> 0 | ... M10: ='HV PO pr.'!M11 -> 9485
A11: ='HV PO pr.'!A12 -> SRC | B11: ='HV PO pr.'!B12 -> 251328 | C11: ='HV PO pr.'!C12 -> #REF! | D11: ='HV PO pr.'!D12 -> 18311 | E11: ='HV PO pr.'!E12 -> 0 | F11: ='HV PO pr.'!F12 -> 18311 | G11: ='HV PO pr.'!G12 -> 37400 | H11: ='HV PO pr.'!H12 -> 0 | ... M11: ='HV PO pr.'!M12 -> 70906

Sheet HV PO pr.
D3: Použití hospodářských výsledků
D4: příspěvkových organizací za rok 2020
B6: HV | C6: odvod 19 | E6: rezervní fond | H6: fond odměn | K6: fond reprodukce majetku | M6: FKSP
A7: název PO | B7: [Kč] | C7: [Kč] | D7: stav 2019 | E7: příděl z HV | F7: nově | G7: stav 2019 | H7: příděl z HV | I7: nově | J7: stav 2019 | K7: příděl z HV | L7: nově | M7: stav 2019
A8: ZŠ | B8: -36028 | C8: =#REF! -> #REF! | D8: 979169 | F8: =D8+E8 -> 979169 | G8: 2000 | I8: =G8+H8 -> 2000 | J8: 0 | L8: =J8+K8 -> 0 | M8: 286574
A9: MŠ | B9: 125975 | C9: =#REF! -> #REF! | D9: 333468 | F9: =D9+E9 -> 333468 | G9: 39383 | I9: =G9+H9 -> 39383 | J9: 706 | L9: =J9+K9 -> 706 | M9: 22820
A10: ZUŠ | B10: 2600 | C10: =#REF! -> #REF! | D10: 360130 | F10: =D10+E10 -> 360130 | G10: 45340 | I10: =G10+H10 -> 45340 | J10: 0 | L10: =J10+K10 -> 0 | M10: 108572
A11: ROROŠ | B11: 218622 | C11: =#REF! -> #REF! | D11: 149837 | F11: =D11+E11 -> 149837 | G11: 80550 | I11: =G11+H11 -> 80550 | J11: 0 | L11: =J11+K11 -> 0 | M11: 9485
A12: SRC | B12: 251328 | C12: =#REF! -> #REF! | D12: 18311 | F12: =D12+E12 -> 18311 | G12: 37400 | I12: =G12+H12 -> 37400 | J12: 14497 | L12: =J12+K12 -> 14497 | M12: 70906
B13: =SUM(B8:B12) -> 562497 | C13: =SUM(C8:C12) -> #REF!

Sheet výdaje-paragraf
A1: Rozpočet města Nové Město pod Smrkem na rok 2025
A2: výdaje | B2: (v Kč) | D2: rok 2024 | F2: rok 2025 | G2: rok 2025
A3: paragraf | B3: popis | C3: popis (původní) | D3: plán | E3: k 30.09. | F3: návrh | G3: dílčí návrhy | H3: poznámka
A4: 1014 | B4: ozdrav. hosp. zvířat | C4: útulek | D4: =IF('1014-útulek'!C19=0," ",'1014-útulek'!C19) -> 120000 | E4: =IF('1014-útulek'!D19=0," ",'1014-útulek'!D19) -> 68273 | F4: =IF('1014-útulek'!G19=0," ",'1014-útulek'!G19) -> 100000
A5: 1031 | B5: pěstební činnost | C5: les | D5: =IF('1031-les'!C19=0," ",'1031-les'!C19) -> 300000 | E5: =IF('1031-les'!D19=0," ",'1031-les'!D19) -> 201467 | F5: =IF('1031-les'!G19=0," ",'1031-les'!G19) -> 380000
A6: 2212 | B6: silnice | C6: komunikace | D6: =IF('2212-komunikace'!C21=0," ",'2212-komunikace'!C21) -> 700000 | E6: =IF('2212-komunikace'!D21=0," ",'2212-komunikace'!D21) -> 481816 | F6: =IF('2212-komunikace'!G21=0," ",'2212-komunikace'!G21) -> 710000
A7: 2292 | B7: dopravní obslužnost | C7: dopravní obslužnost | D7: 751000 | E7: 750800 | F7: 751000
A8: 3111 | B8: mateřské školy | C8: Mateřská škola | D8: 1470224 | E8: 1470224 | F8: =IF('3111-MŠ-I'!E6=0," ",'3111-MŠ-I'!E6) -> 1373000
A9: 3113 | B9: základní školy | C9: Základní škola | D9: 6966024 | E9: 7079592 | F9: =I9+J9 -> 6685370 | I9: =IF('3113-ZŠ-I'!E6=0," ",'3113-ZŠ-I'!E6) -> 4560000 | J9: 2125370
A10: 3231 | B10: základní umělecké školy | C10: Základní umělecká škola | D10: 430000 | E10: 430000 | F10: =I10+J10 -> 762476 | I10: =IF('3231-ZUŠ-I'!E6=0," ",'3231-ZUŠ-I'!E6) -> 452000 | J10: 310476
A11: 3314 | B11: činnosti knihovnické | C11: knihovna | D11: =IF('3314-knihovna'!C32=0," ",'3314-knihovna'!C32) -> 681000 | E11: =IF('3314-knihovna'!D32=0," ",'3314-knihovna'!D32) -> 406142 | F11: =IF('3314-knihovna'!G32=0," ",'3314-knihovna'!G32) -> 663000
A12: 3341 | B12: rozhlas a televize | C12: rozhlas | D12: =IF('3341-rozhlas'!C20=0," ",'3341-rozhlas'!C20) -> 51000 | E12: =IF('3341-rozhlas'!D20=0," ",'3341-rozhlas'!D20) -> 4356 | F12: =IF('3341-rozhlas'!G20=0," ",'3341-rozhlas'!G20) -> 50000
A13: 3349 | B13: ostatní záležitosti sdělovacích prostředků | C13: Novoměstské noviny | D13: =IF('město-různé'!C19=0," ",'město-různé'!C19) -> 100000 | E13: =IF('město-různé'!D19=0," ",'město-různé'!D19) -> 55216 | F13: =IF('město-různé'!G19=0," ",'město-různé'!G19) -> 100000
A14: 3399 | B14: ostatní záležitosti kultury | C14: SPOZ, kultura, ples | D14: =IF('3399-Kultura-SPOZ'!C23=0," ",'3399-Kultura-SPOZ'!C23) -> 2050000 | E14: =IF('3399-Kultura-SPOZ'!D23=0," ",'3399-Kultura-SPOZ'!D23) -> 2038120 | F14: =IF('3399-Kultura-SPOZ'!G23=0," ",'3399-Kultura-SPOZ'!G23) -> 875000
A15: 3419 | B15: ostatní sportovní činnost | C15: AFK | D15: 480000 | E15: 480000 | F15: 500000
A16: 3421 | B16: využití volného času dětí a mládeže | C16: ROROŠ | D16: 933170 | E16: 933170 | F16: =I16+J16+K16 -> 1456800 | I16: =IF('3421-ROROŠ-I'!E6=0," ",'3421-ROROŠ-I'!E6) -> 1284000 | J16: 66500 | K16: 106300
A17: 3429 | B17: ostatní zájmová činnost a rekreace | C17: SRC | D17: 7188000 | E17: 7188000 | F17: =SUM(G17:G20) -> 8642000 | G17: =IF('3429-SRC-I'!E6=0," ",'3429-SRC-I'!E6) -> 8183000
C18: dotace Město | D18: =IF('město-různé'!C34=0," ",'město-různé'!C34) -> 250000 | E18: =IF('město-různé'!D34=0," ",'město-různé'!D34) -> 226077 | G18: =IF('město-různé'!G34=0," ",'město-různé'!G34) -> 300000
C19: 3d-3z-3p | D19: =IF('město-různé'!C35=0," ",'město-různé'!C35) -> 50000 | E19: =IF('město-různé'!D35=0," ",'město-různé'!D35) -> 47629 | G19: =IF('město-různé'!G35=0," ",'město-různé'!G35) -> 60000
C20: členské příspěvky | D20: =IF('město-různé'!C36=0," ",'město-různé'!C36) -> 99000 | E20: =IF('město-různé'!D36=0," ",'město-různé'!D36) -> 83315 | G20: =IF('město-různé'!G36=0," ",'město-různé'!G36) -> 99000
A21: 3612 | B21: bytové hospodářství | C21: bytová správa | D21: =IF('3612-BS'!C49=0," ",'3612-BS'!C49) -> 28190000 | E21: =IF('3612-BS'!D49=0," ",'3612-BS'!D49) -> 20703783 | F21: =IF('3612-BS'!G49=0," ",'3612-BS'!G49) -> 30047000
A22: 3613 | B22: nebytové hospodářství | C22: budovy | D22: =IF('3613-budovy'!C29=0," ",'3613-budovy'!C29) -> 2580000 | E22: =IF('3613-budovy'!D29=0," ",'3613-budovy'!D29) -> 1624836 | F22: =IF('3613-budovy'!G29=0," ",'3613-budovy'!G29) -> 2420000
A23: 3631 | B23: veřejné osvětlení | C23: veřejné osvětlení | D23: =IF('3631-osvětlení'!C26=0," ",'3631-osvětlení'!C26) -> 1294000 | E23: =IF('3631-osvětlení'!D26=0," ",'3631-osvětlení'!D26) -> 657863 | F23: =IF('3631-osvětlení'!G26=0," ",'3631-osvětlení'!G26) -> 894000
A24: 3632 | B24: pohřebnictví | C24: pohřebnictví | D24: =IF('3632-pohřebnictví'!C26=0," ",'3632-pohřebnictví'!C26) -> 130000 | E24: =IF('3632-pohřebnictví'!D26=0," ",'3632-pohřebnictví'!D26) -> 45650 | F24: =IF('3632-pohřebnictví'!G26=0," ",'3632-pohřebnictví'!G26) -> 120000
A25: 3639 | B25: komunální služby a územní rozvoj | C25: opravy a investice | D25: 55000000 | E25: 44039271 | F25: =SUM(G25:G27) -> 31230000 | G25: 31000000
C26: platby dani a poplatků | D26: =IF('město-různé'!C20=0," ",'město-různé'!C20) -> 40000 | E26: 14066 | G26: 30000
C27: pořízení nemovitého majetku | D27: =IF('město-různé'!C21=0," ",'město-různé'!C21) -> 1000000 | E27: 0 | G27: =IF('město-různé'!G21=0," ",'město-různé'!G21) -> 200000
A28: 3713 | B28: změny technologíí vytápění | C28: Teplárenská novoměstská | D28: 1259000 | E28: 1259890 | F28: 3000000
A29: 3722 | B29: sběr a svoz komunálních odpadů | C29: odpadové hospodářství | D29: =IF('3722-odpady'!C34=0," ",'3722-odpady'!C34) -> 8236000 | E29: =IF('3722-odpady'!D34=0," ",'3722-odpady'!D34) -> 5421930 | F29: =IF('3722-odpady'!G34=0," ",'3722-odpady'!G34) -> 8488000
A30: 3745 | B30: péče o vzhled obci a veřejnou zeleň | C30: zeleň a čištění města | D30: =IF('3745-zeleň'!C33=0," ",'3745-zeleň'!C33) -> 2873000 | E30: =IF('3745-zeleň'!D33=0," ",'3745-zeleň'!D33) -> 2469632 | F30: =SUM(G30:G31) -> 5243000 | G30: =IF('3745-zeleň'!G33=0," ",'3745-zeleň'!G33) -> 3223000
C31: VPP | D31: =IF('3745-zeleň'!C19=0," ",'3745-zeleň'!C19) -> 2033000 | E31: =IF('3745-zeleň'!D19=0," ",'3745-zeleň'!D19) -> 1131553 | G31: =IF('3745-zeleň'!G19=0," ",'3745-zeleň'!G19) -> 2020000
A32: 4351 | B32: osobní asist., peč. služba … | C32: DPS | D32: =IF('4351-DPS'!C38=0," ",'4351-DPS'!C38) -> 2564000 | E32: =IF('4351-DPS'!D38=0," ",'4351-DPS'!D38) -> 1797602 | F32: =IF('4351-DPS'!G38=0," ",'4351-DPS'!G38) -> 3113000
A33: 5213 | B33: krizová opatření | C33: krizová rezerva | D33: 500000 | E33: 0 | F33: 500000
A34: 5512 | B34: požární ochrana - dobrovolná část | C34: JSDH | D34: =IF('5512-hasiči'!C41=0," ",'5512-hasiči'!C41) -> 1607000 | E34: =IF('5512-hasiči'!D41=0," ",'5512-hasiči'!D41) -> 1178820 | F34: =IF('5512-hasiči'!G41=0," ",'5512-hasiči'!G41) -> 3226000
A35: 6112 | B35: zastupitelstva obcí | C35: Město | D35: =IF('6112-ZM'!C20=0," ",'6112-ZM'!C20) -> 3248000 | E35: =IF('6112-ZM'!D20=0," ",'6112-ZM'!D20) -> 2417392 | F35: =IF('6112-ZM'!G20=0," ",'6112-ZM'!G20) -> 3460000
A36: 6114 | B36: volby | D36: 148000 | E36: 121918
A37: 6171 | B37: činnost místní správy | C37: Město | D37: =IF('město-různé'!C33=0," ",'město-různé'!C33) -> 265000 | E37: =IF('město-různé'!D33=0," ",'město-různé'!D33) -> 243692 | F37: =SUM(G37:G38) -> 28263000 | G37: =IF('město-různé'!G33=0," ",'město-různé'!G33) -> 385000
C38: MěÚ | D38: =IF('6171-MěÚ'!C50=0," ",'6171-MěÚ'!C50) -> 26611000 | E38: =IF('6171-MěÚ'!D50=0," ",'6171-MěÚ'!D50) -> 19810082 | G38: =IF('6171-MěÚ'!G50=0," ",'6171-MěÚ'!G50) -> 27878000
A39: 6223 | B39: mezinárodní spolupráce | C39: Evropská Nová Města | D39: =IF('město-různé'!C39=0," ",'město-různé'!C39) -> 10000 | E39: =IF('město-různé'!D39=0," ",'město-různé'!D39) -> 2894 | F39: =IF('město-různé'!G39=0," ",'město-různé'!G39) -> 60000
A40: 6320 | B40: pojištění funkčně nespecifikované | C40: pojištění majetku a odpovědnosti | D40: =IF('6171-MěÚ'!C52=0," ",'6171-MěÚ'!C52) -> 360000 | E40: =IF('6171-MěÚ'!D52=0," ",'6171-MěÚ'!D52) -> 180329 | F40: =IF('6171-MěÚ'!G52=0," ",'6171-MěÚ'!G52) -> 490000
...

Sheet opr.a inv. pr.
B1: Opravy a investice 2025 | C1: plán [v Kč]
A2: 1 | B2: Projekty a inženýrská činnost | C2: 700000 | D2: Odhad | E2: investice
A3: 2 | B3: Revitalizace prostranství v ulici Jindřichovická, parcela č. 414 | C3: 7530000 | D3: Cena z projektu | E3: investice
A4: 3 | B4: Parkoviště v ul. Nádražní, parcela č. 647/1 + část z ul. Nádražní | C4: 2800000 | D4: Cena z projektu | E4: investice
A5: 4 | B5: 2 učebny, chemie, přírodních věd a kabinet pro ZŠ Tylova | C5: 5746000 | D5: Cena z projektu | E5: oprava
A6: 5 | B6: Okna Dělňák | C6: 750000 | D6: Nabídka | E6: oprava
A7: 6 | B7: Hřbitovní cesta ke Klingerově mauzoleu, parcela č. 2352 | C7: 700000 | D7: Odhad | E7: oprava
A8: 7 | B8: Ludvíkov pod Smrkem - vodovod a kanalizace | C8: 7063000 | D8: Cena z projektu | E8: investice
A9: 8 | B9: Přístupové komunikace u bytových domů v ul. 28. října, 3x vchod a ul. Mánesova parcela č. 831 | C9: 700000 | D9: Nabídka | E9: oprava
A10: 9 | B10: Vybudování doskočiště - sportovní areál u Sokolovny | C10: 275000 | D10: Nabídka | E10: investice
A11: 10 | B11: Rezervní (záložní) pumpy do čerpacích stanic - 5 ks | C11: 450000 | D11: Nabídka | E11: oprava
A12: 11 | B12: Dětské hřiště ul. Jindřichovická u Sokolovny | C12: 3300000 | D12: Nabídka | E12: investice
A13: 12 | B13: Rekonstrukce velké zasedací místnosti | C13: 1000000 | D13: Nabídka | E13: oprava
... A18: 17 | B18: Klimatizace budovy ZUŠ | C18: 100000 | D18: Nabídka | E18: investice
A19: 18
A20: 19
A21: 20
B22: součet | C22: =SUM(C2:C21) -> 34668000 | D22: =IF('výdaje-paragraf'!G25=0," ",'výdaje-paragraf'!G25) -> 31000000 | E22: =D22-C22 -> -3668000
A23: 21 | B23: Rekonstrukce střechy budovy knihovny | C23: 1200000 | D23: Odhad | E23: oprava
A24: 22 | B24: Odkup pozemků Ludvíkov pod Smrkem | C24: 1207000 | D24: Odhad | E24: investice
A25: 23 | B25: Povrch komunikací a chodníků v ulici 28. října (od ul. Vaňkova po ul. Smetanova) | C25: 3115296 | D25: Cena z projektu | E25: oprava
A26: 24 | B26: Úprava přechodů na sil. II/291 u MŠ a ZŠ na řízené se SSZ | C26: 2357913 | D26: Cena z projektu | E26: investice
A27: 25 | B27: Povrch komunikací a chodníků v ulici Mánesova, parcela č. 140/5 a 835 | C27: 2300000 | D27: Odhad | E27: oprava
A28: 26 | B28: Povrch komunikace v ulici Husova, 2x lampa VO parcela č. 598/3 a 647/1 | C28: 1900000 | D28: Odhad | E28: oprava
A29: 27 | B29: Rekonstrukce ul. Palackého (úsek před úřadem) | C29: 1850000 | D29: Odhad | E29: oprava
A30: 28 | B30: Rekonstrukce ul. Palackého (úsek Mánesova - Myslbekova), ul. 28. října (úsek Frýdlantská - Revoluční) | C30: 10000000 | D30: Odhad | E30: oprava
A31: 29 | B31: Oprava štítu budovy úřadu, Palackého 280 | C31: 500000 | D31: Odhad | E31: investice
A32: 30 | B32: Údržba stezek Singltrek pod Smrkem | C32: 150000 | D32: Odhad | E32: oprava
A33: 31 | B33: Dešťová kanalizace s odlehčením - ul. Dělnická, ul. Husova (Měděnec) | C33: 4862277 | D33: Cena z projektu | E33: oprava
A34: 32 | B34: Cyklostezka Ludvíkov pod Smrkem
A35: 33 | B35: Rekonstrukce ul. Vaňkova (včetně přilehlých komunikací) | C35: 28811660 | D35: Cena z projektu | E35: oprava
A36: 34 | B36: Obnova části komunikace na Přebytku | C36: 150000 | D36: Odhad | E36: oprava
A37: 35 | B37: Komunikace ul. Rokycanova (po výměně vody FVS)
A38: 36 | B38: Komunikace Havířská - oprava cca 100 m
A39: 37 | B39: Střecha AFK kabiny | C39: 100000 | D39: Odhad | E39: oprava
A40: 38 | B40: Ludvíkov - zpevnění plochy dětského hřiště | C40: 350000 | D40: Odhad | E40: oprava
A41: 39 | B41: Ludvíkov - oprava vodoteče a stavidla požární nádrže | C41: 520000 | D41: Odhad | E41: oprava
A42: 40 | B42: Fasáda - budova Jindřichovická 145 (policie) | C42: 1800000 | D42: Odhad | E42: oprava
A43: 41 | B43: Mázelova hrobka - klempířské prvky a penetrace pískovce | C43: 1000000 | D43: Odhad | E43: oprava
A44: 42 | B44: Koupaliště - úprava břehu
...

Sheet 1014-útulek
B1: Rozpočet útulku (org 0338) na | F1: =IF('příjmy-paragraf'!F2=0," ",'příjmy-paragraf'!F2) -> rok 2025
A3: § 1014 | B3: útulek
B4: příjmová část | E4: rozpočet v Kč
A5: položka | B5: text | C5: upravený | D5: skutečnost | E5: předpoklad | F5: návrh | G5: schválený
C6: =IF('příjmy-paragraf'!D2=0," ",'příjmy-paragraf'!D2) -> rok 2024 | D6: =IF('příjmy-paragraf'!E3=0," ",'příjmy-paragraf'!E3) -> k 30.09. | E6: k 31.12.2024 | F6: =IF('příjmy-paragraf'!F2=0," ",'příjmy-paragraf'!F2) -> rok 2025 | G6: =IF('příjmy-paragraf'!F2=0," ",'příjmy-paragraf'!F2) -> rok 2025
B10: součet | C10: =SUM(C7:C9) -> 0 | D10: =SUM(D7:D9) -> 0 | E10: =SUM(E7:E9) -> 0 | F10: =SUM(F7:F9) -> 0 | G10: =SUM(G7:G9) -> 0
A13: § 1014 | B13: útulek
B14: výdajová část | E14: rozpočet v Kč
A15: položka | B15: text | C15: upravený | D15: skutečnost | E15: předpoklad | F15: návrh | G15: schválený
C16: =IF('příjmy-paragraf'!D2=0," ",'příjmy-paragraf'!D2) -> rok 2024 | D16: =IF('příjmy-paragraf'!E3=0," ",'příjmy-paragraf'!E3) -> k 30.09. | E16: k 31.12.2024 | F16: =IF('příjmy-paragraf'!F2=0," ",'příjmy-paragraf'!F2) -> rok 2025 | G16: =IF('příjmy-paragraf'!F2=0," ",'příjmy-paragraf'!F2) -> rok 2025
A17: 5169 | B17: ostatní služby | C17: 120000 | D17: 68273 | E17: 100000 | F17: 100000 | G17: 100000
A18: 5171 | B18: opravy a udržování | C18: 0 | D18: 0 | E18: 0 | F18: 0 | G18: 0
B19: součet | C19: =SUM(C17:C18) -> 120000 | D19: =SUM(D17:D18) -> 68273 | E19: =SUM(E17:E18) -> 100000 | F19: =SUM(F17:F18) -> 100000 | G19: =SUM(G17:G18) -> 100000
B22: Nové Město pod Smrkem dne: | C22: 45595 | E22: zpracoval: | F22: Jaromír Pelant

Sheet 1031-les
B1: Rozpočet pěstební činnost - les (org 0339) na | F1: =IF('příjmy-paragraf'!F2=0," ",'příjmy-paragraf'!F2) -> rok 2025
A3: § 1031 | B3: Pěstební činnost (les)
B4: příjmová část | E4: rozpočet v Kč
A5: položka | B5: text | C5: upravený | D5: skutečnost | E5: předpoklad | F5: návrh | G5: schválený
C6: =IF('příjmy-paragraf'!D2=0," ",'příjmy-paragraf'!D2) -> rok 2024 | D6: =IF('příjmy-paragraf'!E3=0," ",'příjmy-paragraf'!E3) -> k 30.09. | E6: =IF('1014-útulek'!E6=0," ",'1014-útulek'!E6) -> k 31.12.2024 | F6: =IF('příjmy-paragraf'!F2=0," ",'příjmy-paragraf'!F2) -> rok 2025 | G6: =IF('příjmy-paragraf'!F2=0," ",'příjmy-paragraf'!F2) -> rok 2025
A7: 2111 | B7: tržby za prodej dřeva | C7: 400000 | D7: 283051 | E7: 300000 | F7: 500000 | G7: 500000
B10: součet | C10: =SUM(C7:C9) -> 400000 | D10: =SUM(D7:D9) -> 283051 | E10: =SUM(E7:E9) -> 300000 | F10: =SUM(F7:F9) -> 500000 | G10: =SUM(G7:G9) -> 500000
A13: § 1031 | B13: Pěstební činnost (les)
B14: výdajová část | E14: rozpočet v Kč
A15: položka | B15: text | C15: upravený | D15: skutečnost | E15: předpoklad | F15: návrh | G15: schválený
C16: =IF('příjmy-paragraf'!D2=0," ",'příjmy-paragraf'!D2) -> rok 2024 | D16: =IF('příjmy-paragraf'!E3=0," ",'příjmy-paragraf'!E3) -> k 30.09. | E16: =IF('1014-útulek'!E16=0," ",'1014-útulek'!E16) -> k 31.12.2024 | F16: =IF('příjmy-paragraf'!F2=0," ",'příjmy-paragraf'!F2) -> rok 2025 | G16: =IF('příjmy-paragraf'!F2=0," ",'příjmy-paragraf'!F2) -> rok 2025
A17: 5139 | B17: materiál | C17: 30000 | D17: 5400 | E17: 30000 | F17: 80000 | G17: 80000
A18: 5169 | B18: ostatní služby | C18: 270000 | D18: 196067 | E18: 270000 | F18: 300000 | G18: 300000
B19: součet | C19: =SUM(C17:C18) -> 300000 | D19: =SUM(D17:D18) -> 201467 | E19: =SUM(E17:E18) -> 300000 | F19: =SUM(F17:F18) -> 380000 | G19: =SUM(G17:G18) -> 380000
B22: Nové Město pod Smrkem dne: | C22: 45595 | E22: zpracoval: | F22: Radim Seifert

Sheet 2212-komunikace
B1: Rozpočet komunikace (org 0359) na | F1: =IF('příjmy-paragraf'!F2=0," ",'příjmy-paragraf'!F2) -> rok 2025
A3: § 2212 | B3: komunikace
B4: příjmová část | E4: rozpočet v Kč
A5: položka | B5: text | C5: upravený | D5: skutečnost | E5: předpoklad | F5: návrh | G5: schválený
C6: =IF('příjmy-paragraf'!D2=0," ",'příjmy-paragraf'!D2) -> rok 2024 | D6: =IF('příjmy-paragraf'!E3=0," ",'příjmy-paragraf'!E3) -> k 30.09. | E6: =IF('1014-útulek'!E6=0," ",'1014-útulek'!E6) -> k 31.12.2024 | F6: =IF('příjmy-paragraf'!F2=0," ",'příjmy-paragraf'!F2) -> rok 2025 | G6: =IF('příjmy-paragraf'!F2=0," ",'příjmy-paragraf'!F2) -> rok 2025
B10: součet | C10: =SUM(C7:C9) -> 0 | D10: =SUM(D7:D9) -> 0 | E10: =SUM(E7:E9) -> 0 | F10: =SUM(F7:F9) -> 0 | G10: =SUM(G7:G9) -> 0
A13: § 2212 | B13: komunikace
B14: výdajová část | E14: rozpočet v Kč
A15: položka | B15: text | C15: upravený | D15: skutečnost | E15: předpoklad | F15: návrh | G15: schválený
C16: =IF('příjmy-paragraf'!D2=0," ",'příjmy-paragraf'!D2) -> rok 2024 | D16: =IF('příjmy-paragraf'!E3=0," ",'příjmy-paragraf'!E3) -> k 30.09. | E16: =IF('1014-útulek'!E16=0," ",'1014-útulek'!E16) -> k 31.12.2024 | F16: =IF('příjmy-paragraf'!F2=0," ",'příjmy-paragraf'!F2) -> rok 2025 | G16: =IF('příjmy-paragraf'!F2=0," ",'příjmy-paragraf'!F2) -> rok 2025
A17: 5137 | B17: DDHM | C17: 0 | D17: 0 | E17: 0 | F17: 0 | G17: 0
A18: 5139 | B18: materiál (posyp) | C18: 110000 | D18: 72371 | E18: 110000 | F18: 110000 | G18: 110000
A19: 5169 | B19: ostatní služby | C19: 590000 | D19: 236394 | E19: 300000 | F19: 600000 | G19: 600000
A20: 5171 | B20: opravy a udržování | C20: 0 | D20: 173051 | E20: 200000 | F20: 0 | G20: 0
B21: součet | C21: =SUM(C17:C20) -> 700000 | D21: =SUM(D17:D20) -> 481816 | E21: =SUM(E17:E20) -> 610000 | F21: =SUM(F17:F20) -> 710000 | G21: =SUM(G17:G20) -> 710000
B24: Nové Město pod Smrkem dne: | C24: 45595 | E24: zpracoval: | F24: Jalovičár D.

Sheet 3111-MŠ
C1: Návrh rozpočtu | F1: na rok | G1: =[1]P8!F1 -> 2025 | I1: Příloha č. 1, 6
B2: =[1]P8!B2 -> Mateřská škola, Nové Město pod Smrkem, okres Liberec, příspěvková organizace
I3: v Kč
B4: účet | C4: ukazatel | D4: =[1]P8!F1-1 -> 2024 | E4: návrh | F4: I. změna | G4: II. změna | H4: III. změna | I4: po změnách
A5: NÁKLADY CELKEM - účtová třída 5 | D5: =D6+D9+D14+D20+D22+D27+D31+D33 -> 15410328 | E5: =E6+E9+E14+E20+E22+E27+E31+E33 -> 15878000 | F5: =F6+F9+F14+F20+F22+F27+F31+F33 -> 0 | G5: =G6+G9+G14+G20+G22+G27+G31+G33 -> 0 | H5: =H6+H9+H14+H20+H22+H27+H31+H33 -> 0 | I5: =SUM(E5:H5) -> 15878000
A6: 50 | B6: Spotřebované nákupy | D6: =SUM(D7:D8) -> 2731370 | E6: =SUM(E7:E8) -> 2785000 | F6: =SUM(F7:F8) -> 0 | G6: =SUM(G7:G8) -> 0 | H6: =SUM(H7:H8) -> 0 | I6: =SUM(E6:H6) -> 2785000
B7: 501 | C7: Spotřeba materiálu | D7: 1911370 | E7: =[1]P8!D8 -> 1885000 | I7: =SUM(E7:H7) -> 1885000
B8: 502 | C8: Spotřeba energie (teplo, voda, plyn, el. energie) | D8: 820000 | E8: =[1]P8!D17 -> 900000 | I8: =SUM(E8:H8) -> 900000
A9: 51 | B9: Služby | D9: =SUM(D10:D13) -> 342000 | E9: =SUM(E10:E13) -> 772000 | F9: =SUM(F10:F13) -> 0 | G9: =SUM(G10:G13) -> 0 | H9: =SUM(H10:H13) -> 0 | I9: =SUM(E9:H9) -> 772000
B10: 511 | C10: Opravy a udržování | D10: 150000 | E10: =[1]P8!D23 -> 480000 | I10: =SUM(E10:H10) -> 480000
B11: 512 | C11: Cestovné | E11: =[1]P8!D26 -> 0 | I11: =SUM(E11:H11) -> 0
B12: 513 | C12: Náklady na reprezentaci | D12: 5000 | E12: =[1]P8!D28 -> 5000 | I12: =SUM(E12:H12) -> 5000
B13: 518 | C13: Ostatní služby | D13: 187000 | E13: =[1]P8!D30 -> 287000 | I13: =SUM(E13:H13) -> 287000
A14: 52 | B14: Osobní náklady | D14: =SUM(D15:D19) -> 12210958 | E14: =SUM(E15:E19) -> 12215000 | F14: =SUM(F15:F19) -> 0 | G14: =SUM(G15:G19) -> 0 | H14: =SUM(H15:H19) -> 0 | I14: =SUM(E14:H14) -> 12215000
B15: 521 | C15: Mzdové náklady | D15: 9007418 | E15: =[1]P8!D45 -> 9010000 | I15: =SUM(E15:H15) -> 9010000
B16: 524 | C16: Zákonné sociální pojištění (zdravotní, sociální) | D16: 3044507 | E16: =[1]P8!D47 -> 3045000 | I16: =SUM(E16:H16) -> 3045000
B17: 525 | C17: Jiné sociální pojištění (Kooperativa) | D17: 30000 | E17: =[1]P8!D49 -> 30000 | I17: =SUM(E17:H17) -> 30000
B18: 527 | C18: Zákonné sociální náklady | D18: 129033 | E18: =[1]P8!D51 -> 130000 | I18: =SUM(E18:H18) -> 130000
B19: 528 | C19: Jiné sociální náklady | E19: =[1]P8!D56 -> 0 | I19: =SUM(E19:H19) -> 0
A20: 53 | B20: Daně a poplatky | D20: =D21 -> 0 | E20: =E21 -> 0 | F20: =F21 -> 0 | G20: =G21 -> 0 | H20: =H21 -> 0 | I20: =SUM(E20:H20) -> 0
B21: 538 | C21: Jiné daně a poplatky | E21: =[1]P8!D59 -> 0 | I21: =SUM(E21:H21) -> 0
A22: 54 | B22: Ostatní náklady | D22: =SUM(D23:D26) -> 6000 | E22: =SUM(E23:E26) -> 6000 | F22: =SUM(F23:F26) -> 0 | G22: =SUM(G23:G26) -> 0 | H22: =SUM(H23:H26) -> 0 | I22: =SUM(E22:H22) -> 6000
B23: 541 | C23: Smluvní pokuty a úroky z prodlení | E23: =[1]P8!D62 -> 0 | I23: =SUM(E23:H23) -> 0
B24: 542 | C24: Jiné pokuty a penále | E24: =[1]P8!D64 -> 0 | I24: =SUM(E24:H24) -> 0
B25: 547 | C25: Manka a škody | E25: =[1]P8!D66 -> 0 | I25: =SUM(E25:H25) -> 0
B26: 549 | C26: Ostatní náklady (ostatní pojištění, kapesné) | D26: 6000 | E26: =[1]P8!D68 -> 6000 | I26: =SUM(E26:H26) -> 6000
A27: 55 | B27: Odpisy, rezervy a opravné položky | D27: =SUM(D28:D30) -> 120000 | E27: =SUM(E28:E30) -> 100000 | F27: =SUM(F28:F30) -> 0 | G27: =SUM(G28:G30) -> 0 | H27: =SUM(H28:H30) -> 0 | I27: =SUM(E27:H27) -> 100000
B28: 551 | C28: Odpisy dlouhodobého majetku | E28: =[1]P8!D71 -> 0 | I28: =SUM(E28:H28) -> 0
B29: 556 | C29: Tvorba a zúčtování opravných položek | E29: =[1]P8!D73 -> 0 | I29: =SUM(E29:H29) -> 0
B30: 558 | C30: Náklady z DDM | D30: 120000 | E30: =[1]P8!D75 -> 100000 | I30: =SUM(E30:H30) -> 100000
A31: 56 | B31: Finanční náklady | D31: =D32 -> 0 | E31: =E32 -> 0 | F31: =F32 -> 0 | G31: =G32 -> 0 | H31: =H32 -> 0 | I31: =SUM(E31:H31) -> 0
B32: 569 | C32: Ostatní finanční náklady | E32: =[1]P8!D79 -> 0 | I32: =SUM(E32:H32) -> 0
A33: 59 | B33: Daň z příjmů | D33: =SUM(D34:D35) -> 0 | E33: =SUM(E34:E35) -> 0 | F33: =SUM(F34:F35) -> 0 | G33: =SUM(G34:G35) -> 0 | H33: =SUM(H34:H35) -> 0 | I33: =SUM(E33:H33) -> 0
B34: 591 | C34: Daň z příjmů | E34: =[1]P8!D82 -> 0 | I34: =SUM(E34:H34) -> 0
B35: 595 | C35: Dodatečné odvody daně z příjmů | E35: =[1]P8!D84 -> 0 | I35: =SUM(E35:H35) -> 0
A36: VÝNOSY CELKEM - účtová třída 6 | D36: =D37+D41+D46+D48 -> 15410328 | E36: =E37+E41+E46+E48 -> 15878000 | F36: =F37+F41+F46+F48 -> 0 | G36: =G37+G41+G46+G48 -> 0 | H36: =H37+H41+H46+H48 -> 0 | I36: =SUM(E36:H36) -> 15878000
A37: 60 | B37: Výnosy z vlastních výkonů a zboží | D37: =SUM(D38:D40) -> 1690000 | E37: =SUM(E38:E40) -> 1845000 | F37: =SUM(F38:F40) -> 0 | G37: =SUM(G38:G40) -> 0 | H37: =SUM(H38:H40) -> 0 | I37: =SUM(E37:H37) -> 1845000
B38: 602 | C38: Výnosy z prodeje služeb | D38: 1690000 | E38: 1845000 | I38: =SUM(E38:H38) -> 1845000
B39: 603 | C39: Výnosy z pronájmu | I39: =SUM(E39:H39) -> 0
B40: 604 | C40: Výnosy z prodaného zboží | I40: =SUM(E40:H40) -> 0
...

Sheet 3111-MŠ-I
C1: Přehled nákladů | E1: na rok | F1: 2025 | H1: Příloha č. 8
B2: Mateřská škola, Nové Město pod Smrkem, okres Liberec, příspěvková organizace
C3: Hlavní činnost | H3: v Kč
B4: účet | C4: ukazatel | D4: celková potřeba | E4: příspěvek města | F4: další zdroje
F5: vlastní | G5: fondy | H5: od cizích
A6: NÁKLADY CELKEM | D6: =D7+D22+D44+D58+D61+D70+D78+D81 -> 15878000 | E6: =E7+E22+E44+E58+E61+E70+E78+E81 -> 1373000 | F6: =F7+F22+F44+F58+F61+F70+F78+F81 -> 345000 | G6: =G7+G22+G44+G58+G61+G70+G78+G81 -> 515000 | H6: =H7+H22+H44+H58+H61+H70+H78+H81 -> 13645000
A7: 50 | B7: Spotřebované nákupy (501+502) | D7: =SUM(E7:H7) -> 2785000 | E7: =SUM(E8+E17) -> 1050000 | F7: =SUM(F8+F17) -> 200000 | G7: =SUM(G8+G17) -> 35000 | H7: =SUM(H8+H17) -> 1500000
A8: 501 | B8: Spotřeba materiálu | D8: =SUM(E8:H8) -> 1885000 | E8: =SUM(E9:E16) -> 150000 | F8: =SUM(F9:F16) -> 200000 | G8: =SUM(G9:G16) -> 35000 | H8: =SUM(H9:H16) -> 1500000
A9: 501 | B9: 310 | C9: Ostatní materiál, DDHM do 3.000 Kč | D9: =SUM(E9:H9) -> 250000 | E9: 65000 | F9: 150000 | G9: 35000
A10: 501 | B10: 320 | C10: Učebnice a bezplatně poskytované školní potřeby | D10: =SUM(E10:H10) -> 30000 | F10: 30000
A11: 501 | B11: 330 | C11: Kancelářské potřeby | D11: =SUM(E11:H11) -> 20000 | E11: 20000
A12: 501 | B12: 340 | C12: Knihy, tisk, předplatné | D12: =SUM(E12:H12) -> 10000 | E12: 10000
A13: 501 | B13: 360 | C13: Pohonné hmoty | D13: =SUM(E13:H13) -> 0
A14: 501 | B14: 370 | C14: Potraviny | D14: =SUM(E14:H14) -> 1500000 | H14: 1500000
A15: 501 | B15: 380 | C15: Čisticí prostředky | D15: =SUM(E15:H15) -> 75000 | E15: 55000 | F15: 20000
A16: 501 | B16: 390 | C16: Chemikálie | D16: =SUM(E16:H16) -> 0
A17: 502 | B17: Spotřeba energie | D17: =SUM(E17:H17) -> 900000 | E17: =SUM(E18:E21) -> 900000 | F17: =SUM(F18:F21) -> 0 | G17: =SUM(G18:G21) -> 0 | H17: =SUM(H18:H21) -> 0
A18: 502 | B18: 310 | C18: Elektrická energie | D18: =SUM(E18:H18) -> 380000 | E18: 380000
A19: 502 | B19: 320 | C19: Teplo | D19: =SUM(E19:H19) -> 400000 | E19: 400000
A20: 502 | B20: 330 | C20: Plyn | D20: =SUM(E20:H20) -> 0
A21: 502 | B21: 340 | C21: Voda | D21: =SUM(E21:H21) -> 120000 | E21: 120000
A22: 51 | B22: Služby (511+512+513+518) | D22: =SUM(E22:H22) -> 772000 | E22: =SUM(E23+E26+E28+E30) -> 192000 | F22: =SUM(F23+F26+F28+F30) -> 100000 | G22: =SUM(G23+G26+G28+G30) -> 480000 | H22: =SUM(H23+H26+H28+H30) -> 0
A23: 511 | B23: Opravy a udržování | D23: =SUM(E23:H23) -> 480000 | E23: =SUM(E24:E25) -> 0 | F23: =SUM(F24:F25) -> 0 | G23: =SUM(G24:G25) -> 480000 | H23: =SUM(H24:H25) -> 0
A24: 511 | B24: 300 | C24: Opravy a udržování (vč. revizí) | D24: =SUM(E24:H24) -> 480000 | G24: 480000
A25: 511 | B25: 310 | C25: Opravy počítačů | D25: =SUM(E25:H25) -> 0
A26: 512 | B26: Cestovné | D26: =SUM(E26:H26) -> 0 | E26: =SUM(E27:E27) -> 0 | F26: =SUM(F27:F27) -> 0 | G26: =SUM(G27:G27) -> 0 | H26: =SUM(H27:H27) -> 0
A27: 512 | B27: 300 | C27: Cestovné a cestovní náhrady | D27: =SUM(E27:H27) -> 0
A28: 513 | B28: Náklady na reprezentaci | D28: =SUM(E28:H28) -> 5000 | E28: =SUM(E29:E29) -> 5000 | F28: =SUM(F29:F29) -> 0 | G28: =SUM(G29:G29) -> 0 | H28: =SUM(H29:H29) -> 0
A29: 513 | B29: 300 | C29: Náklady na reprezentaci (pohoštění) | D29: =SUM(E29:H29) -> 5000 | E29: 5000
A30: 518 | B30: Ostatní služby | D30: =SUM(E30:H30) -> 287000 | E30: =SUM(E31:E43) -> 187000 | F30: =SUM(F31:F43) -> 100000 | G30: =SUM(G31:G43) -> 0 | H30: =SUM(H31:H43) -> 0
A31: 518 | B31: 310 | C31: Svoz odpadu | D31: =SUM(E31:H31) -> 25000 | E31: 25000
A32: 518 | B32: 320 | C32: Internet | D32: =SUM(E32:H32) -> 10000 | E32: 10000
A33: 518 | B33: 330 | C33: Služby pošt | D33: =SUM(E33:H33) -> 1000 | E33: 1000
A34: 518 | B34: 340 | C34: Telefonní poplatky | D34: =SUM(E34:H34) -> 25000 | E34: 25000
A35: 518 | B35: 350 | C35: Ostatní služby, DDNM do 7.000 Kč | D35: =SUM(E35:H35) -> 200000 | E35: 100000 | F35: 100000
A36: 518 | B36: 370 | C36: Přeprava dětí | D36: =SUM(E36:H36) -> 0
A37: 518 | B37: 400 | C37: Bankovní poplatky | D37: =SUM(E37:H37) -> 20000 | E37: 20000
A38: 518 | B38: 440 | C38: Nájemné tělocvičny | D38: =SUM(E38:H38) -> 6000 | E38: 6000
A39: 518 | B39: 450 | C39: Nájemné leasing (např. kopírky) | D39: =SUM(E39:H39) -> 0
A40: 518 | B40: 460 | C40: Nájem sálu | D40: =SUM(E40:H40) -> 0
...

Sheet 3113-ZŠ
C1: Návrh rozpočtu | F1: na rok | G1: =[2]P8!F1 -> 2025 | I1: Příloha č. 1, 6
B2: =[2]P8!B2 -> Základní škola Nové Město pod Smrkem, příspěvková organizace
I3: v Kč
B4: účet | C4: ukazatel | D4: =[2]P8!F1-1 -> 2024 | E4: návrh | F4: I. změna | G4: II. změna | H4: III. změna | I4: po změnách
A5: NÁKLADY CELKEM - účtová třída 5 | D5: =D6+D9+D14+D20+D22+D27+D31+D33 -> 38791155 | E5: =E6+E9+E14+E20+E22+E27+E31+E33 -> 37528578 | F5: =F6+F9+F14+F20+F22+F27+F31+F33 -> 0 | G5: =G6+G9+G14+G20+G22+G27+G31+G33 -> 0 | H5: =H6+H9+H14+H20+H22+H27+H31+H33 -> 0 | I5: =SUM(E5:H5) -> 37528578
A6: 50 | B6: Spotřebované nákupy | D6: =SUM(D7:D8) -> 2542702 | E6: =SUM(E7:E8) -> 2536447 | F6: =SUM(F7:F8) -> 0 | G6: =SUM(G7:G8) -> 0 | H6: =SUM(H7:H8) -> 0 | I6: =SUM(E6:H6) -> 2536447
B7: 501 | C7: Spotřeba materiálu | D7: 885702 | E7: =[2]P8!D8 -> 889447 | I7: =SUM(E7:H7) -> 889447
B8: 502 | C8: Spotřeba energie (teplo, voda, plyn, el. energie) | D8: 1657000 | E8: =[2]P8!D17 -> 1647000 | I8: =SUM(E8:H8) -> 1647000
A9: 51 | B9: Služby | D9: =SUM(D10:D13) -> 2897687 | E9: =SUM(E10:E13) -> 2636000 | F9: =SUM(F10:F13) -> 0 | G9: =SUM(G10:G13) -> 0 | H9: =SUM(H10:H13) -> 0 | I9: =SUM(E9:H9) -> 2636000
B10: 511 | C10: Opravy a udržování | D10: 998700 | E10: =[2]P8!D23 -> 940000 | I10: =SUM(E10:H10) -> 940000
B11: 512 | C11: Cestovné | D11: 40000 | E11: =[2]P8!D26 -> 40000 | I11: =SUM(E11:H11) -> 40000
B12: 513 | C12: Náklady na reprezentaci | D12: 4000 | E12: =[2]P8!D28 -> 4000 | I12: =SUM(E12:H12) -> 4000
B13: 518 | C13: Ostatní služby | D13: 1854987 | E13: =[2]P8!D30 -> 1652000 | I13: =SUM(E13:H13) -> 1652000
A14: 52 | B14: Osobní náklady | D14: =SUM(D15:D19) -> 32533131 | E14: =SUM(E15:E19) -> 32056131 | F14: =SUM(F15:F19) -> 0 | G14: =SUM(G15:G19) -> 0 | H14: =SUM(H15:H19) -> 0 | I14: =SUM(E14:H14) -> 32056131
B15: 521 | C15: Mzdové náklady | D15: 24167233 | E15: =[2]P8!D45 -> 23667233 | I15: =SUM(E15:H15) -> 23667233
B16: 524 | C16: Zákonné sociální pojištění (zdravotní, sociální) | D16: 7961525 | E16: =[2]P8!D47 -> 7961525 | I16: =SUM(E16:H16) -> 7961525
B17: 525 | C17: Jiné sociální pojištění (Kooperativa) | D17: 100000 | E17: =[2]P8!D49 -> 100000 | I17: =SUM(E17:H17) -> 100000
